Workbook

Sheet Rezultati
F1: Januar 1 | H1: Januar 2 | J1: 44348 | L1: 45445 | N1: Septembar 1 | P1: Septembar 2 | R1: Dodatni rok | T1: Septembar 1 (2023/24)
F2: Teorijski | G2: Prakticni | H2: Teorijski | I2: Prakticni | J2: Teorijski | K2: Prakticni | L2: Teorijski | M2: Prakticni | N2: Teorijski | O2: Prakticni | P2: Teorijski | Q2: Prakticni | R2: Teorijski | S2: Prakticni | T2: Teorijski | U2: Prakticni
A3: Br | B3: Indeks | C3: Ime i prezime | D3: Grupa | E3: Prisustvo
A4: 1 | B4: 154/2023 | C4: {=INDEX('Svi studenti'!$C$2:$C1001,MATCH(B4, 'Svi studenti'!$B$2:$B1001, 0))} -> Ајдуковић, Лука | D4: {=iferror(iNDEX('Svi studenti'!$G$2:$G1001,MATCH(B4, 'Svi studenti'!$B$2:$B1001, 0)),"---")} -> 3и1б | E4: {=iferror(iNDEX('Prisustvo-Vežbe'!$Q$4:$Q1001,MATCH(B4, 'Prisustvo-Vežbe'!$A$4:$A1001, 0)),"---")} -> 1 | G4: {=iferror(iNDEX('Januar 1'!$AH$5:$AH1001,MATCH(B4, 'Januar 1'!$A$5:$A1001, 0)),"---")} -> --- | I4: {=iferror(iNDEX('Januar 2'!$AM$5:$AM1001,MATCH(B4, 'Januar 2'!$A$5:$A1001, 0)),"---")} -> --- | K4: {=iferror(iNDEX('Jun1'!$AI$6:$AI1001,MATCH(B4, 'Jun1'!$A$6:$A1001, 0)),"---")} -> --- | M4: {=iferror(iNDEX('Jun2'!$AF$6:$AF1001,MATCH(B4, 'Jun2'!$A$6:$A1001, 0)),"---")} -> --- | O4: {=iferror(iNDEX('Sep1'!$AJ$6:$AJ1001,MATCH(B4, 'Sep1'!$A$6:$A1001, 0)),"---")} -> 53 | Q4: {=iferror(iNDEX('Sep2'!$AF$6:$AF1001,MATCH(B4, 'Sep2'!$A$6:$A1001, 0)),"---")} -> --- | S4: {=iferror(iNDEX(Dodatni!$AJ$6:$AJ1001,MATCH(B4, Dodatni!$A$6:$A1001, 0)),"---")} -> --- | U4: {=iferror(iNDEX('Sep1-2324'!$AQ$6:$AQ1001,MATCH(B4, 'Sep1-2324'!$A$6:$A1001, 0)),"---")} -> ---
A5: 2 | B5: 25/2018 | C5: {=INDEX('Svi studenti'!$C$2:$C1001,MATCH(B5, 'Svi studenti'!$B$2:$B1001, 0))} -> Арамбашић, Тодор | D5: {=iferror(iNDEX('Svi studenti'!$G$2:$G1001,MATCH(B5, 'Svi studenti'!$B$2:$B1001, 0)),"---")} -> 3и1а | E5: {=iferror(iNDEX('Prisustvo-Vežbe'!$Q$4:$Q1001,MATCH(B5, 'Prisustvo-Vežbe'!$A$4:$A1001, 0)),"---")} -> 0 | G5: {=iferror(iNDEX('Januar 1'!$AH$5:$AH1001,MATCH(B5, 'Januar 1'!$A$5:$A1001, 0)),"---")} -> --- | I5: {=iferror(iNDEX('Januar 2'!$AM$5:$AM1001,MATCH(B5, 'Januar 2'!$A$5:$A1001, 0)),"---")} -> --- | K5: {=iferror(iNDEX('Jun1'!$AI$6:$AI1001,MATCH(B5, 'Jun1'!$A$6:$A1001, 0)),"---")} -> --- | M5: {=iferror(iNDEX('Jun2'!$AF$6:$AF1001,MATCH(B5, 'Jun2'!$A$6:$A1001, 0)),"---")} -> --- | O5: {=iferror(iNDEX('Sep1'!$AJ$6:$AJ1001,MATCH(B5, 'Sep1'!$A$6:$A1001, 0)),"---")} -> --- | Q5: {=iferror(iNDEX('Sep2'!$AF$6:$AF1001,MATCH(B5, 'Sep2'!$A$6:$A1001, 0)),"---")} -> --- | S5: {=iferror(iNDEX(Dodatni!$AJ$6:$AJ1001,MATCH(B5, Dodatni!$A$6:$A1001, 0)),"---")} -> --- | U5: {=iferror(iNDEX('Sep1-2324'!$AQ$6:$AQ1001,MATCH(B5, 'Sep1-2324'!$A$6:$A1001, 0)),"---")} -> ---
A6: 3 | B6: 217/2023 | C6: {=INDEX('Svi studenti'!$C$2:$C1001,MATCH(B6, 'Svi studenti'!$B$2:$B1001, 0))} -> Аћимовић, Љубомир | D6: {=iferror(iNDEX('Svi studenti'!$G$2:$G1001,MATCH(B6, 'Svi studenti'!$B$2:$B1001, 0)),"---")} -> 3и1а | E6: {=iferror(iNDEX('Prisustvo-Vežbe'!$Q$4:$Q1001,MATCH(B6, 'Prisustvo-Vežbe'!$A$4:$A1001, 0)),"---")} -> 2.5 | G6: {=iferror(iNDEX('Januar 1'!$AH$5:$AH1001,MATCH(B6, 'Januar 1'!$A$5:$A1001, 0)),"---")} -> --- | I6: {=iferror(iNDEX('Januar 2'!$AM$5:$AM1001,MATCH(B6, 'Januar 2'!$A$5:$A1001, 0)),"---")} -> --- | K6: {=iferror(iNDEX('Jun1'!$AI$6:$AI1001,MATCH(B6, 'Jun1'!$A$6:$A1001, 0)),"---")} -> 28 | M6: {=iferror(iNDEX('Jun2'!$AF$6:$AF1001,MATCH(B6, 'Jun2'!$A$6:$A1001, 0)),"---")} -> --- | O6: {=iferror(iNDEX('Sep1'!$AJ$6:$AJ1001,MATCH(B6, 'Sep1'!$A$6:$A1001, 0)),"---")} -> --- | Q6: {=iferror(iNDEX('Sep2'!$AF$6:$AF1001,MATCH(B6, 'Sep2'!$A$6:$A1001, 0)),"---")} -> --- | S6: {=iferror(iNDEX(Dodatni!$AJ$6:$AJ1001,MATCH(B6, Dodatni!$A$6:$A1001, 0)),"---")} -> --- | U6: {=iferror(iNDEX('Sep1-2324'!$AQ$6:$AQ1001,MATCH(B6, 'Sep1-2324'!$A$6:$A1001, 0)),"---")} -> ---
A7: 4 | B7: 278/2021 | C7: {=INDEX('Svi studenti'!$C$2:$C1001,MATCH(B7, 'Svi studenti'!$B$2:$B1001, 0))} -> Бељић, Лазар | D7: {=iferror(iNDEX('Svi studenti'!$G$2:$G1001,MATCH(B7, 'Svi studenti'!$B$2:$B1001, 0)),"---")} -> 3и1б | E7: {=iferror(iNDEX('Prisustvo-Vežbe'!$Q$4:$Q1001,MATCH(B7, 'Prisustvo-Vežbe'!$A$4:$A1001, 0)),"---")} -> 4 | G7: {=iferror(iNDEX('Januar 1'!$AH$5:$AH1001,MATCH(B7, 'Januar 1'!$A$5:$A1001, 0)),"---")} -> --- | I7: {=iferror(iNDEX('Januar 2'!$AM$5:$AM1001,MATCH(B7, 'Januar 2'!$A$5:$A1001, 0)),"---")} -> --- | K7: {=iferror(iNDEX('Jun1'!$AI$6:$AI1001,MATCH(B7, 'Jun1'!$A$6:$A1001, 0)),"---")} -> --- | M7: {=iferror(iNDEX('Jun2'!$AF$6:$AF1001,MATCH(B7, 'Jun2'!$A$6:$A1001, 0)),"---")} -> --- | O7: {=iferror(iNDEX('Sep1'!$AJ$6:$AJ1001,MATCH(B7, 'Sep1'!$A$6:$A1001, 0)),"---")} -> --- | Q7: {=iferror(iNDEX('Sep2'!$AF$6:$AF1001,MATCH(B7, 'Sep2'!$A$6:$A1001, 0)),"---")} -> --- | S7: {=iferror(iNDEX(Dodatni!$AJ$6:$AJ1001,MATCH(B7, Dodatni!$A$6:$A1001, 0)),"---")} -> --- | U7: {=iferror(iNDEX('Sep1-2324'!$AQ$6:$AQ1001,MATCH(B7, 'Sep1-2324'!$A$6:$A1001, 0)),"---")} -> ---
A8: 5 | B8: 90/2023 | C8: {=INDEX('Svi studenti'!$C$2:$C1001,MATCH(B8, 'Svi studenti'!$B$2:$B1001, 0))} -> Божиновић, Дуња | D8: {=iferror(iNDEX('Svi studenti'!$G$2:$G1001,MATCH(B8, 'Svi studenti'!$B$2:$B1001, 0)),"---")} -> 3и1б | E8: {=iferror(iNDEX('Prisustvo-Vežbe'!$Q$4:$Q1001,MATCH(B8, 'Prisustvo-Vežbe'!$A$4:$A1001, 0)),"---")} -> 1 | G8: {=iferror(iNDEX('Januar 1'!$AH$5:$AH1001,MATCH(B8, 'Januar 1'!$A$5:$A1001, 0)),"---")} -> --- | I8: {=iferror(iNDEX('Januar 2'!$AM$5:$AM1001,MATCH(B8, 'Januar 2'!$A$5:$A1001, 0)),"---")} -> --- | K8: {=iferror(iNDEX('Jun1'!$AI$6:$AI1001,MATCH(B8, 'Jun1'!$A$6:$A1001, 0)),"---")} -> --- | M8: {=iferror(iNDEX('Jun2'!$AF$6:$AF1001,MATCH(B8, 'Jun2'!$A$6:$A1001, 0)),"---")} -> --- | O8: {=iferror(iNDEX('Sep1'!$AJ$6:$AJ1001,MATCH(B8, 'Sep1'!$A$6:$A1001, 0)),"---")} -> 22.5 | Q8: {=iferror(iNDEX('Sep2'!$AF$6:$AF1001,MATCH(B8, 'Sep2'!$A$6:$A1001, 0)),"---")} -> --- | S8: {=iferror(iNDEX(Dodatni!$AJ$6:$AJ1001,MATCH(B8, Dodatni!$A$6:$A1001, 0)),"---")} -> --- | U8: {=iferror(iNDEX('Sep1-2324'!$AQ$6:$AQ1001,MATCH(B8, 'Sep1-2324'!$A$6:$A1001, 0)),"---")} -> ---
A9: 6 | B9: 178/2021 | C9: {=INDEX('Svi studenti'!$C$2:$C1001,MATCH(B9, 'Svi studenti'!$B$2:$B1001, 0))} -> Будимир, Никола | D9: {=iferror(iNDEX('Svi studenti'!$G$2:$G1001,MATCH(B9, 'Svi studenti'!$B$2:$B1001, 0)),"---")} -> 3и1б | E9: {=iferror(iNDEX('Prisustvo-Vežbe'!$Q$4:$Q1001,MATCH(B9, 'Prisustvo-Vežbe'!$A$4:$A1001, 0)),"---")} -> 0 | G9: {=iferror(iNDEX('Januar 1'!$AH$5:$AH1001,MATCH(B9, 'Januar 1'!$A$5:$A1001, 0)),"---")} -> --- | I9: {=iferror(iNDEX('Januar 2'!$AM$5:$AM1001,MATCH(B9, 'Januar 2'!$A$5:$A1001, 0)),"---")} -> --- | K9: {=iferror(iNDEX('Jun1'!$AI$6:$AI1001,MATCH(B9, 'Jun1'!$A$6:$A1001, 0)),"---")} -> 22 | M9: {=iferror(iNDEX('Jun2'!$AF$6:$AF1001,MATCH(B9, 'Jun2'!$A$6:$A1001, 0)),"---")} -> --- | O9: {=iferror(iNDEX('Sep1'!$AJ$6:$AJ1001,MATCH(B9, 'Sep1'!$A$6:$A1001, 0)),"---")} -> --- | Q9: {=iferror(iNDEX('Sep2'!$AF$6:$AF1001,MATCH(B9, 'Sep2'!$A$6:$A1001, 0)),"---")} -> --- | S9: {=iferror(iNDEX(Dodatni!$AJ$6:$AJ1001,MATCH(B9, Dodatni!$A$6:$A1001, 0)),"---")} -> --- | U9: {=iferror(iNDEX('Sep1-2324'!$AQ$6:$AQ1001,MATCH(B9, 'Sep1-2324'!$A$6:$A1001, 0)),"---")} -> 23
A10: 7 | B10: 266/2021 | C10: {=INDEX('Svi studenti'!$C$2:$C1001,MATCH(B10, 'Svi studenti'!$B$2:$B1001, 0))} -> Влаховић, Иван | D10: {=iferror(iNDEX('Svi studenti'!$G$2:$G1001,MATCH(B10, 'Svi studenti'!$B$2:$B1001, 0)),"---")} -> 3и1б | E10: {=iferror(iNDEX('Prisustvo-Vežbe'!$Q$4:$Q1001,MATCH(B10, 'Prisustvo-Vežbe'!$A$4:$A1001, 0)),"---")} -> 4 | G10: {=iferror(iNDEX('Januar 1'!$AH$5:$AH1001,MATCH(B10, 'Januar 1'!$A$5:$A1001, 0)),"---")} -> 37 | I10: {=iferror(iNDEX('Januar 2'!$AM$5:$AM1001,MATCH(B10, 'Januar 2'!$A$5:$A1001, 0)),"---")} -> --- | K10: {=iferror(iNDEX('Jun1'!$AI$6:$AI1001,MATCH(B10, 'Jun1'!$A$6:$A1001, 0)),"---")} -> --- | M10: {=iferror(iNDEX('Jun2'!$AF$6:$AF1001,MATCH(B10, 'Jun2'!$A$6:$A1001, 0)),"---")} -> --- | O10: {=iferror(iNDEX('Sep1'!$AJ$6:$AJ1001,MATCH(B10, 'Sep1'!$A$6:$A1001, 0)),"---")} -> --- | Q10: {=iferror(iNDEX('Sep2'!$AF$6:$AF1001,MATCH(B10, 'Sep2'!$A$6:$A1001, 0)),"---")} -> --- | S10: {=iferror(iNDEX(Dodatni!$AJ$6:$AJ1001,MATCH(B10, Dodatni!$A$6:$A1001, 0)),"---")} -> --- | U10: {=iferror(iNDEX('Sep1-2324'!$AQ$6:$AQ1001,MATCH(B10, 'Sep1-2324'!$A$6:$A1001, 0)),"---")} -> ---
A11: 8 | B11: 26/2023 | C11: {=INDEX('Svi studenti'!$C$2:$C1001,MATCH(B11, 'Svi studenti'!$B$2:$B1001, 0))} -> Вуковић, Лола | D11: {=iferror(iNDEX('Svi studenti'!$G$2:$G1001,MATCH(B11, 'Svi studenti'!$B$2:$B1001, 0)),"---")} -> 3и1б | E11: {=iferror(iNDEX('Prisustvo-Vežbe'!$Q$4:$Q1001,MATCH(B11, 'Prisustvo-Vežbe'!$A$4:$A1001, 0)),"---")} -> 5 | G11: {=iferror(iNDEX('Januar 1'!$AH$5:$AH1001,MATCH(B11, 'Januar 1'!$A$5:$A1001, 0)),"---")} -> 34.5 | I11: {=iferror(iNDEX('Januar 2'!$AM$5:$AM1001,MATCH(B11, 'Januar 2'!$A$5:$A1001, 0)),"---")} -> --- | K11: {=iferror(iNDEX('Jun1'!$AI$6:$AI1001,MATCH(B11, 'Jun1'!$A$6:$A1001, 0)),"---")} -> --- | M11: {=iferror(iNDEX('Jun2'!$AF$6:$AF1001,MATCH(B11, 'Jun2'!$A$6:$A1001, 0)),"---")} -> --- | O11: {=iferror(iNDEX('Sep1'!$AJ$6:$AJ1001,MATCH(B11, 'Sep1'!$A$6:$A1001, 0)),"---")} -> --- | Q11: {=iferror(iNDEX('Sep2'!$AF$6:$AF1001,MATCH(B11, 'Sep2'!$A$6:$A1001, 0)),"---")} -> --- | S11: {=iferror(iNDEX(Dodatni!$AJ$6:$AJ1001,MATCH(B11, Dodatni!$A$6:$A1001, 0)),"---")} -> --- | U11: {=iferror(iNDEX('Sep1-2324'!$AQ$6:$AQ1001,MATCH(B11, 'Sep1-2324'!$A$6:$A1001, 0)),"---")} -> ---
A12: 9 | B12: 82/2022 | C12: {=INDEX('Svi studenti'!$C$2:$C1001,MATCH(B12, 'Svi studenti'!$B$2:$B1001, 0))} -> Глигорић, Мила | D12: {=iferror(iNDEX('Svi studenti'!$G$2:$G1001,MATCH(B12, 'Svi studenti'!$B$2:$B1001, 0)),"---")} -> 3и1б | E12: {=iferror(iNDEX('Prisustvo-Vežbe'!$Q$4:$Q1001,MATCH(B12, 'Prisustvo-Vežbe'!$A$4:$A1001, 0)),"---")} -> 1.5 | G12: {=iferror(iNDEX('Januar 1'!$AH$5:$AH1001,MATCH(B12, 'Januar 1'!$A$5:$A1001, 0)),"---")} -> --- | I12: {=iferror(iNDEX('Januar 2'!$AM$5:$AM1001,MATCH(B12, 'Januar 2'!$A$5:$A1001, 0)),"---")} -> --- | K12: {=iferror(iNDEX('Jun1'!$AI$6:$AI1001,MATCH(B12, 'Jun1'!$A$6:$A1001, 0)),"---")} -> --- | M12: {=iferror(iNDEX('Jun2'!$AF$6:$AF1001,MATCH(B12, 'Jun2'!$A$6:$A1001, 0)),"---")} -> --- | O12: {=iferror(iNDEX('Sep1'!$AJ$6:$AJ1001,MATCH(B12, 'Sep1'!$A$6:$A1001, 0)),"---")} -> --- | Q12: {=iferror(iNDEX('Sep2'!$AF$6:$AF1001,MATCH(B12, 'Sep2'!$A$6:$A1001, 0)),"---")} -> --- | S12: {=iferror(iNDEX(Dodatni!$AJ$6:$AJ1001,MATCH(B12, Dodatni!$A$6:$A1001, 0)),"---")} -> --- | U12: {=iferror(iNDEX('Sep1-2324'!$AQ$6:$AQ1001,MATCH(B12, 'Sep1-2324'!$A$6:$A1001, 0)),"---")} -> ---
A13: 10 | B13: 61/2023 | C13: {=INDEX('Svi studenti'!$C$2:$C1001,MATCH(B13, 'Svi studenti'!$B$2:$B1001, 0))} -> Грбовић, Теодора | D13: {=iferror(iNDEX('Svi studenti'!$G$2:$G1001,MATCH(B13, 'Svi studenti'!$B$2:$B1001, 0)),"---")} -> 3и1а | E13: {=iferror(iNDEX('Prisustvo-Vežbe'!$Q$4:$Q1001,MATCH(B13, 'Prisustvo-Vežbe'!$A$4:$A1001, 0)),"---")} -> 5 | G13: {=iferror(iNDEX('Januar 1'!$AH$5:$AH1001,MATCH(B13, 'Januar 1'!$A$5:$A1001, 0)),"---")} -> 33 | I13: {=iferror(iNDEX('Januar 2'!$AM$5:$AM1001,MATCH(B13, 'Januar 2'!$A$5:$A1001, 0)),"---")} -> 36 | K13: {=iferror(iNDEX('Jun1'!$AI$6:$AI1001,MATCH(B13, 'Jun1'!$A$6:$A1001, 0)),"---")} -> --- | M13: {=iferror(iNDEX('Jun2'!$AF$6:$AF1001,MATCH(B13, 'Jun2'!$A$6:$A1001, 0)),"---")} -> --- | O13: {=iferror(iNDEX('Sep1'!$AJ$6:$AJ1001,MATCH(B13, 'Sep1'!$A$6:$A1001, 0)),"---")} -> --- | Q13: {=iferror(iNDEX('Sep2'!$AF$6:$AF1001,MATCH(B13, 'Sep2'!$A$6:$A1001, 0)),"---")} -> --- | S13: {=iferror(iNDEX(Dodatni!$AJ$6:$AJ1001,MATCH(B13, Dodatni!$A$6:$A1001, 0)),"---")} -> --- | U13: {=iferror(iNDEX('Sep1-2324'!$AQ$6:$AQ1001,MATCH(B13, 'Sep1-2324'!$A$6:$A1001, 0)),"---")} -> ---
A14: 11 | B14: 305/2018 | C14: {=INDEX('Svi studenti'!$C$2:$C1001,MATCH(B14, 'Svi studenti'!$B$2:$B1001, 0))} -> Гудурић, Урош | D14: {=iferror(iNDEX('Svi studenti'!$G$2:$G1001,MATCH(B14, 'Svi studenti'!$B$2:$B1001, 0)),"---")} -> 3и1а | E14: {=iferror(iNDEX('Prisustvo-Vežbe'!$Q$4:$Q1001,MATCH(B14, 'Prisustvo-Vežbe'!$A$4:$A1001, 0)),"---")} -> 0 | G14: {=iferror(iNDEX('Januar 1'!$AH$5:$AH1001,MATCH(B14, 'Januar 1'!$A$5:$A1001, 0)),"---")} -> --- | I14: {=iferror(iNDEX('Januar 2'!$AM$5:$AM1001,MATCH(B14, 'Januar 2'!$A$5:$A1001, 0)),"---")} -> --- | K14: {=iferror(iNDEX('Jun1'!$AI$6:$AI1001,MATCH(B14, 'Jun1'!$A$6:$A1001, 0)),"---")} -> --- | M14: {=iferror(iNDEX('Jun2'!$AF$6:$AF1001,MATCH(B14, 'Jun2'!$A$6:$A1001, 0)),"---")} -> --- | O14: {=iferror(iNDEX('Sep1'!$AJ$6:$AJ1001,MATCH(B14, 'Sep1'!$A$6:$A1001, 0)),"---")} -> --- | Q14: {=iferror(iNDEX('Sep2'!$AF$6:$AF1001,MATCH(B14, 'Sep2'!$A$6:$A1001, 0)),"---")} -> --- | S14: {=iferror(iNDEX(Dodatni!$AJ$6:$AJ1001,MATCH(B14, Dodatni!$A$6:$A1001, 0)),"---")} -> --- | U14: {=iferror(iNDEX('Sep1-2324'!$AQ$6:$AQ1001,MATCH(B14, 'Sep1-2324'!$A$6:$A1001, 0)),"---")} -> ---
A15: 12 | B15: 377/2019 | C15: {=INDEX('Svi studenti'!$C$2:$C1001,MATCH(B15, 'Svi studenti'!$B$2:$B1001, 0))} -> Дамњановић, Татјана | D15: {=iferror(iNDEX('Svi studenti'!$G$2:$G1001,MATCH(B15, 'Svi studenti'!$B$2:$B1001, 0)),"---")} -> 3и1а | E15: {=iferror(iNDEX('Prisustvo-Vežbe'!$Q$4:$Q1001,MATCH(B15, 'Prisustvo-Vežbe'!$A$4:$A1001, 0)),"---")} -> 1 | G15: {=iferror(iNDEX('Januar 1'!$AH$5:$AH1001,MATCH(B15, 'Januar 1'!$A$5:$A1001, 0)),"---")} -> --- | I15: {=iferror(iNDEX('Januar 2'!$AM$5:$AM1001,MATCH(B15, 'Januar 2'!$A$5:$A1001, 0)),"---")} -> --- | K15: {=iferror(iNDEX('Jun1'!$AI$6:$AI1001,MATCH(B15, 'Jun1'!$A$6:$A1001, 0)),"---")} -> --- | M15: {=iferror(iNDEX('Jun2'!$AF$6:$AF1001,MATCH(B15, 'Jun2'!$A$6:$A1001, 0)),"---")} -> --- | O15: {=iferror(iNDEX('Sep1'!$AJ$6:$AJ1001,MATCH(B15, 'Sep1'!$A$6:$A1001, 0)),"---")} -> --- | Q15: {=iferror(iNDEX('Sep2'!$AF$6:$AF1001,MATCH(B15, 'Sep2'!$A$6:$A1001, 0)),"---")} -> --- | S15: {=iferror(iNDEX(Dodatni!$AJ$6:$AJ1001,MATCH(B15, Dodatni!$A$6:$A1001, 0)),"---")} -> --- | U15: {=iferror(iNDEX('Sep1-2324'!$AQ$6:$AQ1001,MATCH(B15, 'Sep1-2324'!$A$6:$A1001, 0)),"---")} -> ---
A16: 13 | B16: 141/2022 | C16: {=INDEX('Svi studenti'!$C$2:$C1001,MATCH(B16, 'Svi studenti'!$B$2:$B1001, 0))} -> Дељанин, Петар | D16: {=iferror(iNDEX('Svi studenti'!$G$2:$G1001,MATCH(B16, 'Svi studenti'!$B$2:$B1001, 0)),"---")} -> 3и1а | E16: {=iferror(iNDEX('Prisustvo-Vežbe'!$Q$4:$Q1001,MATCH(B16, 'Prisustvo-Vežbe'!$A$4:$A1001, 0)),"---")} -> 3 | G16: {=iferror(iNDEX('Januar 1'!$AH$5:$AH1001,MATCH(B16, 'Januar 1'!$A$5:$A1001, 0)),"---")} -> --- | I16: {=iferror(iNDEX('Januar 2'!$AM$5:$AM1001,MATCH(B16, 'Januar 2'!$A$5:$A1001, 0)),"---")} -> --- | K16: {=iferror(iNDEX('Jun1'!$AI$6:$AI1001,MATCH(B16, 'Jun1'!$A$6:$A1001, 0)),"---")} -> --- | M16: {=iferror(iNDEX('Jun2'!$AF$6:$AF1001,MATCH(B16, 'Jun2'!$A$6:$A1001, 0)),"---")} -> --- | O16: {=iferror(iNDEX('Sep1'!$AJ$6:$AJ1001,MATCH(B16, 'Sep1'!$A$6:$A1001, 0)),"---")} -> --- | Q16: {=iferror(iNDEX('Sep2'!$AF$6:$AF1001,MATCH(B16, 'Sep2'!$A$6:$A1001, 0)),"---")} -> 48.5 | S16: {=iferror(iNDEX(Dodatni!$AJ$6:$AJ1001,MATCH(B16, Dodatni!$A$6:$A1001, 0)),"---")} -> --- | U16: {=iferror(iNDEX('Sep1-2324'!$AQ$6:$AQ1001,MATCH(B16, 'Sep1-2324'!$A$6:$A1001, 0)),"---")} -> ---
A17: 14 | B17: 206/2022 | C17: {=INDEX('Svi studenti'!$C$2:$C1001,MATCH(B17, 'Svi studenti'!$B$2:$B1001, 0))} -> Дивјак, Анастасија | D17: {=iferror(iNDEX('Svi studenti'!$G$2:$G1001,MATCH(B17, 'Svi studenti'!$B$2:$B1001, 0)),"---")} -> 3и1б | E17: {=iferror(iNDEX('Prisustvo-Vežbe'!$Q$4:$Q1001,MATCH(B17, 'Prisustvo-Vežbe'!$A$4:$A1001, 0)),"---")} -> 2.5 | G17: {=iferror(iNDEX('Januar 1'!$AH$5:$AH1001,MATCH(B17, 'Januar 1'!$A$5:$A1001, 0)),"---")} -> --- | I17: {=iferror(iNDEX('Januar 2'!$AM$5:$AM1001,MATCH(B17, 'Januar 2'!$A$5:$A1001, 0)),"---")} -> 22 | K17: {=iferror(iNDEX('Jun1'!$AI$6:$AI1001,MATCH(B17, 'Jun1'!$A$6:$A1001, 0)),"---")} -> --- | M17: {=iferror(iNDEX('Jun2'!$AF$6:$AF1001,MATCH(B17, 'Jun2'!$A$6:$A1001, 0)),"---")} -> --- | O17: {=iferror(iNDEX('Sep1'!$AJ$6:$AJ1001,MATCH(B17, 'Sep1'!$A$6:$A1001, 0)),"---")} -> --- | Q17: {=iferror(iNDEX('Sep2'!$AF$6:$AF1001,MATCH(B17, 'Sep2'!$A$6:$A1001, 0)),"---")} -> --- | S17: {=iferror(iNDEX(Dodatni!$AJ$6:$AJ1001,MATCH(B17, Dodatni!$A$6:$A1001, 0)),"---")} -> --- | U17: {=iferror(iNDEX('Sep1-2324'!$AQ$6:$AQ1001,MATCH(B17, 'Sep1-2324'!$A$6:$A1001, 0)),"---")} -> ---
A18: 15 | B18: 98/2023 | C18: {=INDEX('Svi studenti'!$C$2:$C1001,MATCH(B18, 'Svi studenti'!$B$2:$B1001, 0))} -> Димитријевић, Младен | D18: {=iferror(iNDEX('Svi studenti'!$G$2:$G1001,MATCH(B18, 'Svi studenti'!$B$2:$B1001, 0)),"---")} -> 3и1б | E18: {=iferror(iNDEX('Prisustvo-Vežbe'!$Q$4:$Q1001,MATCH(B18, 'Prisustvo-Vežbe'!$A$4:$A1001, 0)),"---")} -> 5 | G18: {=iferror(iNDEX('Januar 1'!$AH$5:$AH1001,MATCH(B18, 'Januar 1'!$A$5:$A1001, 0)),"---")} -> 55 | I18: {=iferror(iNDEX('Januar 2'!$AM$5:$AM1001,MATCH(B18, 'Januar 2'!$A$5:$A1001, 0)),"---")} -> --- | K18: {=iferror(iNDEX('Jun1'!$AI$6:$AI1001,MATCH(B18, 'Jun1'!$A$6:$A1001, 0)),"---")} -> --- | M18: {=iferror(iNDEX('Jun2'!$AF$6:$AF1001,MATCH(B18, 'Jun2'!$A$6:$A1001, 0)),"---")} -> --- | O18: {=iferror(iNDEX('Sep1'!$AJ$6:$AJ1001,MATCH(B18, 'Sep1'!$A$6:$A1001, 0)),"---")} -> --- | Q18: {=iferror(iNDEX('Sep2'!$AF$6:$AF1001,MATCH(B18, 'Sep2'!$A$6:$A1001, 0)),"---")} -> --- | S18: {=iferror(iNDEX(Dodatni!$AJ$6:$AJ1001,MATCH(B18, Dodatni!$A$6:$A1001, 0)),"---")} -> --- | U18: {=iferror(iNDEX('Sep1-2324'!$AQ$6:$AQ1001,MATCH(B18, 'Sep1-2324'!$A$6:$A1001, 0)),"---")} -> ---
A19: 16 | B19: 122/2023 | C19: {=INDEX('Svi studenti'!$C$2:$C1001,MATCH(B19, 'Svi studenti'!$B$2:$B1001, 0))} -> Димитријевић, Никола | D19: {=iferror(iNDEX('Svi studenti'!$G$2:$G1001,MATCH(B19, 'Svi studenti'!$B$2:$B1001, 0)),"---")} -> 3и1б | E19: {=iferror(iNDEX('Prisustvo-Vežbe'!$Q$4:$Q1001,MATCH(B19, 'Prisustvo-Vežbe'!$A$4:$A1001, 0)),"---")} -> 5 | G19: {=iferror(iNDEX('Januar 1'!$AH$5:$AH1001,MATCH(B19, 'Januar 1'!$A$5:$A1001, 0)),"---")} -> 41.7 | I19: {=iferror(iNDEX('Januar 2'!$AM$5:$AM1001,MATCH(B19, 'Januar 2'!$A$5:$A1001, 0)),"---")} -> --- | K19: {=iferror(iNDEX('Jun1'!$AI$6:$AI1001,MATCH(B19, 'Jun1'!$A$6:$A1001, 0)),"---")} -> --- | M19: {=iferror(iNDEX('Jun2'!$AF$6:$AF1001,MATCH(B19, 'Jun2'!$A$6:$A1001, 0)),"---")} -> --- | O19: {=iferror(iNDEX('Sep1'!$AJ$6:$AJ1001,MATCH(B19, 'Sep1'!$A$6:$A1001, 0)),"---")} -> --- | Q19: {=iferror(iNDEX('Sep2'!$AF$6:$AF1001,MATCH(B19, 'Sep2'!$A$6:$A1001, 0)),"---")} -> --- | S19: {=iferror(iNDEX(Dodatni!$AJ$6:$AJ1001,MATCH(B19, Dodatni!$A$6:$A1001, 0)),"---")} -> --- | U19: {=iferror(iNDEX('Sep1-2324'!$AQ$6:$AQ1001,MATCH(B19, 'Sep1-2324'!$A$6:$A1001, 0)),"---")} -> ---
A20: 17 | B20: 401/2021 | C20: {=INDEX('Svi studenti'!$C$2:$C1001,MATCH(B20, 'Svi studenti'!$B$2:$B1001, 0))} -> Добросављевић, Исидора | D20: {=iferror(iNDEX('Svi studenti'!$G$2:$G1001,MATCH(B20, 'Svi studenti'!$B$2:$B1001, 0)),"---")} -> 3и1а | E20: {=iferror(iNDEX('Prisustvo-Vežbe'!$Q$4:$Q1001,MATCH(B20, 'Prisustvo-Vežbe'!$A$4:$A1001, 0)),"---")} -> 2.5 | G20: {=iferror(iNDEX('Januar 1'!$AH$5:$AH1001,MATCH(B20, 'Januar 1'!$A$5:$A1001, 0)),"---")} -> --- | I20: {=iferror(iNDEX('Januar 2'!$AM$5:$AM1001,MATCH(B20, 'Januar 2'!$A$5:$A1001, 0)),"---")} -> --- | K20: {=iferror(iNDEX('Jun1'!$AI$6:$AI1001,MATCH(B20, 'Jun1'!$A$6:$A1001, 0)),"---")} -> --- | M20: {=iferror(iNDEX('Jun2'!$AF$6:$AF1001,MATCH(B20, 'Jun2'!$A$6:$A1001, 0)),"---")} -> --- | O20: {=iferror(iNDEX('Sep1'!$AJ$6:$AJ1001,MATCH(B20, 'Sep1'!$A$6:$A1001, 0)),"---")} -> --- | Q20: {=iferror(iNDEX('Sep2'!$AF$6:$AF1001,MATCH(B20, 'Sep2'!$A$6:$A1001, 0)),"---")} -> 10 | S20: {=iferror(iNDEX(Dodatni!$AJ$6:$AJ1001,MATCH(B20, Dodatni!$A$6:$A1001, 0)),"---")} -> --- | U20: {=iferror(iNDEX('Sep1-2324'!$AQ$6:$AQ1001,MATCH(B20, 'Sep1-2324'!$A$6:$A1001, 0)),"---")} -> ---
A21: 18 | B21: 110/2019 | C21: {=INDEX('Svi studenti'!$C$2:$C1001,MATCH(B21, 'Svi studenti'!$B$2:$B1001, 0))} -> Докмановић, Нина | D21: {=iferror(iNDEX('Svi studenti'!$G$2:$G1001,MATCH(B21, 'Svi studenti'!$B$2:$B1001, 0)),"---")} -> 3и1б | E21: {=iferror(iNDEX('Prisustvo-Vežbe'!$Q$4:$Q1001,MATCH(B21, 'Prisustvo-Vežbe'!$A$4:$A1001, 0)),"---")} -> 3 | G21: {=iferror(iNDEX('Januar 1'!$AH$5:$AH1001,MATCH(B21, 'Januar 1'!$A$5:$A1001, 0)),"---")} -> --- | I21: {=iferror(iNDEX('Januar 2'!$AM$5:$AM1001,MATCH(B21, 'Januar 2'!$A$5:$A1001, 0)),"---")} -> --- | K21: {=iferror(iNDEX('Jun1'!$AI$6:$AI1001,MATCH(B21, 'Jun1'!$A$6:$A1001, 0)),"---")} -> --- | M21: {=iferror(iNDEX('Jun2'!$AF$6:$AF1001,MATCH(B21, 'Jun2'!$A$6:$A1001, 0)),"---")} -> --- | O21: {=iferror(iNDEX('Sep1'!$AJ$6:$AJ1001,MATCH(B21, 'Sep1'!$A$6:$A1001, 0)),"---")} -> 20 | Q21: {=iferror(iNDEX('Sep2'!$AF$6:$AF1001,MATCH(B21, 'Sep2'!$A$6:$A1001, 0)),"---")} -> 51 | S21: {=iferror(iNDEX(Dodatni!$AJ$6:$AJ1001,MATCH(B21, Dodatni!$A$6:$A1001, 0)),"---")} -> --- | U21: {=iferror(iNDEX('Sep1-2324'!$AQ$6:$AQ1001,MATCH(B21, 'Sep1-2324'!$A$6:$A1001, 0)),"---")} -> ---
A22: 19 | B22: 150/2023 | C22: {=INDEX('Svi studenti'!$C$2:$C1001,MATCH(B22, 'Svi studenti'!$B$2:$B1001, 0))} -> Ђорђевић, Александар | D22: {=iferror(iNDEX('Svi studenti'!$G$2:$G1001,MATCH(B22, 'Svi studenti'!$B$2:$B1001, 0)),"---")} -> 3и1б | E22: {=iferror(iNDEX('Prisustvo-Vežbe'!$Q$4:$Q1001,MATCH(B22, 'Prisustvo-Vežbe'!$A$4:$A1001, 0)),"---")} -> 0.5 | G22: {=iferror(iNDEX('Januar 1'!$AH$5:$AH1001,MATCH(B22, 'Januar 1'!$A$5:$A1001, 0)),"---")} -> --- | I22: {=iferror(iNDEX('Januar 2'!$AM$5:$AM1001,MATCH(B22, 'Januar 2'!$A$5:$A1001, 0)),"---")} -> --- | K22: {=iferror(iNDEX('Jun1'!$AI$6:$AI1001,MATCH(B22, 'Jun1'!$A$6:$A1001, 0)),"---")} -> --- | M22: {=iferror(iNDEX('Jun2'!$AF$6:$AF1001,MATCH(B22, 'Jun2'!$A$6:$A1001, 0)),"---")} -> --- | O22: {=iferror(iNDEX('Sep1'!$AJ$6:$AJ1001,MATCH(B22, 'Sep1'!$A$6:$A1001, 0)),"---")} -> 34 | Q22: {=iferror(iNDEX('Sep2'!$AF$6:$AF1001,MATCH(B22, 'Sep2'!$A$6:$A1001, 0)),"---")} -> --- | S22: {=iferror(iNDEX(Dodatni!$AJ$6:$AJ1001,MATCH(B22, Dodatni!$A$6:$A1001, 0)),"---")} -> --- | U22: {=iferror(iNDEX('Sep1-2324'!$AQ$6:$AQ1001,MATCH(B22, 'Sep1-2324'!$A$6:$A1001, 0)),"---")} -> ---
A23: 20 | B23: 69/2023 | C23: {=INDEX('Svi studenti'!$C$2:$C1001,MATCH(B23, 'Svi studenti'!$B$2:$B1001, 0))} -> Ђорђевић, Чедомир | D23: {=iferror(iNDEX('Svi studenti'!$G$2:$G1001,MATCH(B23, 'Svi studenti'!$B$2:$B1001, 0)),"---")} -> 3и1а | E23: {=iferror(iNDEX('Prisustvo-Vežbe'!$Q$4:$Q1001,MATCH(B23, 'Prisustvo-Vežbe'!$A$4:$A1001, 0)),"---")} -> 0 | G23: {=iferror(iNDEX('Januar 1'!$AH$5:$AH1001,MATCH(B23, 'Januar 1'!$A$5:$A1001, 0)),"---")} -> 23.5 | I23: {=iferror(iNDEX('Januar 2'!$AM$5:$AM1001,MATCH(B23, 'Januar 2'!$A$5:$A1001, 0)),"---")} -> --- | K23: {=iferror(iNDEX('Jun1'!$AI$6:$AI1001,MATCH(B23, 'Jun1'!$A$6:$A1001, 0)),"---")} -> --- | M23: {=iferror(iNDEX('Jun2'!$AF$6:$AF1001,MATCH(B23, 'Jun2'!$A$6:$A1001, 0)),"---")} -> --- | O23: {=iferror(iNDEX('Sep1'!$AJ$6:$AJ1001,MATCH(B23, 'Sep1'!$A$6:$A1001, 0)),"---")} -> --- | Q23: {=iferror(iNDEX('Sep2'!$AF$6:$AF1001,MATCH(B23, 'Sep2'!$A$6:$A1001, 0)),"---")} -> --- | S23: {=iferror(iNDEX(Dodatni!$AJ$6:$AJ1001,MATCH(B23, Dodatni!$A$6:$A1001, 0)),"---")} -> --- | U23: {=iferror(iNDEX('Sep1-2324'!$AQ$6:$AQ1001,MATCH(B23, 'Sep1-2324'!$A$6:$A1001, 0)),"---")} -> ---
A24: 21 | B24: 214/2023 | C24: {=INDEX('Svi studenti'!$C$2:$C1001,MATCH(B24, 'Svi studenti'!$B$2:$B1001, 0))} -> Ђуровић, Слађана | D24: {=iferror(iNDEX('Svi studenti'!$G$2:$G1001,MATCH(B24, 'Svi studenti'!$B$2:$B1001, 0)),"---")} -> 3и1б | E24: {=iferror(iNDEX('Prisustvo-Vežbe'!$Q$4:$Q1001,MATCH(B24, 'Prisustvo-Vežbe'!$A$4:$A1001, 0)),"---")} -> 5 | G24: {=iferror(iNDEX('Januar 1'!$AH$5:$AH1001,MATCH(B24, 'Januar 1'!$A$5:$A1001, 0)),"---")} -> --- | I24: {=iferror(iNDEX('Januar 2'!$AM$5:$AM1001,MATCH(B24, 'Januar 2'!$A$5:$A1001, 0)),"---")} -> --- | K24: {=iferror(iNDEX('Jun1'!$AI$6:$AI1001,MATCH(B24, 'Jun1'!$A$6:$A1001, 0)),"---")} -> --- | M24: {=iferror(iNDEX('Jun2'!$AF$6:$AF1001,MATCH(B24, 'Jun2'!$A$6:$A1001, 0)),"---")} -> --- | O24: {=iferror(iNDEX('Sep1'!$AJ$6:$AJ1001,MATCH(B24, 'Sep1'!$A$6:$A1001, 0)),"---")} -> 5 | Q24: {=iferror(iNDEX('Sep2'!$AF$6:$AF1001,MATCH(B24, 'Sep2'!$A$6:$A1001, 0)),"---")} -> 2 | S24: {=iferror(iNDEX(Dodatni!$AJ$6:$AJ1001,MATCH(B24, Dodatni!$A$6:$A1001, 0)),"---")} -> --- | U24: {=iferror(iNDEX('Sep1-2324'!$AQ$6:$AQ1001,MATCH(B24, 'Sep1-2324'!$A$6:$A1001, 0)),"---")} -> ---
A25: 22 | B25: 345/2021 | C25: {=INDEX('Svi studenti'!$C$2:$C1001,MATCH(B25, 'Svi studenti'!$B$2:$B1001, 0))} -> Здјелар, Катарина | D25: {=iferror(iNDEX('Svi studenti'!$G$2:$G1001,MATCH(B25, 'Svi studenti'!$B$2:$B1001, 0)),"---")} -> 3и1а | E25: {=iferror(iNDEX('Prisustvo-Vežbe'!$Q$4:$Q1001,MATCH(B25, 'Prisustvo-Vežbe'!$A$4:$A1001, 0)),"---")} -> 0 | G25: {=iferror(iNDEX('Januar 1'!$AH$5:$AH1001,MATCH(B25, 'Januar 1'!$A$5:$A1001, 0)),"---")} -> --- | I25: {=iferror(iNDEX('Januar 2'!$AM$5:$AM1001,MATCH(B25, 'Januar 2'!$A$5:$A1001, 0)),"---")} -> --- | K25: {=iferror(iNDEX('Jun1'!$AI$6:$AI1001,MATCH(B25, 'Jun1'!$A$6:$A1001, 0)),"---")} -> --- | M25: {=iferror(iNDEX('Jun2'!$AF$6:$AF1001,MATCH(B25, 'Jun2'!$A$6:$A1001, 0)),"---")} -> --- | O25: {=iferror(iNDEX('Sep1'!$AJ$6:$AJ1001,MATCH(B25, 'Sep1'!$A$6:$A1001, 0)),"---")} -> --- | Q25: {=iferror(iNDEX('Sep2'!$AF$6:$AF1001,MATCH(B25, 'Sep2'!$A$6:$A1001, 0)),"---")} -> 12.5 | S25: {=iferror(iNDEX(Dodatni!$AJ$6:$AJ1001,MATCH(B25, Dodatni!$A$6:$A1001, 0)),"---")} -> --- | U25: {=iferror(iNDEX('Sep1-2324'!$AQ$6:$AQ1001,MATCH(B25, 'Sep1-2324'!$A$6:$A1001, 0)),"---")} -> ---
A26: 23 | B26: 37/2023 | C26: {=INDEX('Svi studenti'!$C$2:$C1001,MATCH(B26, 'Svi studenti'!$B$2:$B1001, 0))} -> Иваниан, Сергеи | D26: {=iferror(iNDEX('Svi studenti'!$G$2:$G1001,MATCH(B26, 'Svi studenti'!$B$2:$B1001, 0)),"---")} -> 3и1а | E26: {=iferror(iNDEX('Prisustvo-Vežbe'!$Q$4:$Q1001,MATCH(B26, 'Prisustvo-Vežbe'!$A$4:$A1001, 0)),"---")} -> 5 | G26: {=iferror(iNDEX('Januar 1'!$AH$5:$AH1001,MATCH(B26, 'Januar 1'!$A$5:$A1001, 0)),"---")} -> 50.5 | I26: {=iferror(iNDEX('Januar 2'!$AM$5:$AM1001,MATCH(B26, 'Januar 2'!$A$5:$A1001, 0)),"---")} -> --- | K26: {=iferror(iNDEX('Jun1'!$AI$6:$AI1001,MATCH(B26, 'Jun1'!$A$6:$A1001, 0)),"---")} -> --- | M26: {=iferror(iNDEX('Jun2'!$AF$6:$AF1001,MATCH(B26, 'Jun2'!$A$6:$A1001, 0)),"---")} -> --- | O26: {=iferror(iNDEX('Sep1'!$AJ$6:$AJ1001,MATCH(B26, 'Sep1'!$A$6:$A1001, 0)),"---")} -> --- | Q26: {=iferror(iNDEX('Sep2'!$AF$6:$AF1001,MATCH(B26, 'Sep2'!$A$6:$A1001, 0)),"---")} -> --- | S26: {=iferror(iNDEX(Dodatni!$AJ$6:$AJ1001,MATCH(B26, Dodatni!$A$6:$A1001, 0)),"---")} -> --- | U26: {=iferror(iNDEX('Sep1-2324'!$AQ$6:$AQ1001,MATCH(B26, 'Sep1-2324'!$A$6:$A1001, 0)),"---")} -> ---
A27: 24 | B27: 62/2018 | C27: {=INDEX('Svi studenti'!$C$2:$C1001,MATCH(B27, 'Svi studenti'!$B$2:$B1001, 0))} -> Ивановић, Нада | D27: {=iferror(iNDEX('Svi studenti'!$G$2:$G1001,MATCH(B27, 'Svi studenti'!$B$2:$B1001, 0)),"---")} -> 3и1б | E27: {=iferror(iNDEX('Prisustvo-Vežbe'!$Q$4:$Q1001,MATCH(B27, 'Prisustvo-Vežbe'!$A$4:$A1001, 0)),"---")} -> 0 | G27: {=iferror(iNDEX('Januar 1'!$AH$5:$AH1001,MATCH(B27, 'Januar 1'!$A$5:$A1001, 0)),"---")} -> --- | I27: {=iferror(iNDEX('Januar 2'!$AM$5:$AM1001,MATCH(B27, 'Januar 2'!$A$5:$A1001, 0)),"---")} -> --- | K27: {=iferror(iNDEX('Jun1'!$AI$6:$AI1001,MATCH(B27, 'Jun1'!$A$6:$A1001, 0)),"---")} -> --- | M27: {=iferror(iNDEX('Jun2'!$AF$6:$AF1001,MATCH(B27, 'Jun2'!$A$6:$A1001, 0)),"---")} -> --- | O27: {=iferror(iNDEX('Sep1'!$AJ$6:$AJ1001,MATCH(B27, 'Sep1'!$A$6:$A1001, 0)),"---")} -> --- | Q27: {=iferror(iNDEX('Sep2'!$AF$6:$AF1001,MATCH(B27, 'Sep2'!$A$6:$A1001, 0)),"---")} -> --- | S27: {=iferror(iNDEX(Dodatni!$AJ$6:$AJ1001,MATCH(B27, Dodatni!$A$6:$A1001, 0)),"---")} -> --- | U27: {=iferror(iNDEX('Sep1-2324'!$AQ$6:$AQ1001,MATCH(B27, 'Sep1-2324'!$A$6:$A1001, 0)),"---")} -> ---
A28: 25 | B28: 42/2023 | C28: {=INDEX('Svi studenti'!$C$2:$C1001,MATCH(B28, 'Svi studenti'!$B$2:$B1001, 0))} -> Ивановић, Никола | D28: {=iferror(iNDEX('Svi studenti'!$G$2:$G1001,MATCH(B28, 'Svi studenti'!$B$2:$B1001, 0)),"---")} -> 3и1б | E28: {=iferror(iNDEX('Prisustvo-Vežbe'!$Q$4:$Q1001,MATCH(B28, 'Prisustvo-Vežbe'!$A$4:$A1001, 0)),"---")} -> 4 | G28: {=iferror(iNDEX('Januar 1'!$AH$5:$AH1001,MATCH(B28, 'Januar 1'!$A$5:$A1001, 0)),"---")} -> 28.5 | I28: {=iferror(iNDEX('Januar 2'!$AM$5:$AM1001,MATCH(B28, 'Januar 2'!$A$5:$A1001, 0)),"---")} -> --- | K28: {=iferror(iNDEX('Jun1'!$AI$6:$AI1001,MATCH(B28, 'Jun1'!$A$6:$A1001, 0)),"---")} -> --- | M28: {=iferror(iNDEX('Jun2'!$AF$6:$AF1001,MATCH(B28, 'Jun2'!$A$6:$A1001, 0)),"---")} -> --- | O28: {=iferror(iNDEX('Sep1'!$AJ$6:$AJ1001,MATCH(B28, 'Sep1'!$A$6:$A1001, 0)),"---")} -> --- | Q28: {=iferror(iNDEX('Sep2'!$AF$6:$AF1001,MATCH(B28, 'Sep2'!$A$6:$A1001, 0)),"---")} -> --- | S28: {=iferror(iNDEX(Dodatni!$AJ$6:$AJ1001,MATCH(B28, Dodatni!$A$6:$A1001, 0)),"---")} -> --- | U28: {=iferror(iNDEX('Sep1-2324'!$AQ$6:$AQ1001,MATCH(B28, 'Sep1-2324'!$A$6:$A1001, 0)),"---")} -> ---
A29: 26 | B29: 273/2022 | C29: {=INDEX('Svi studenti'!$C$2:$C1001,MATCH(B29, 'Svi studenti'!$B$2:$B1001, 0))} -> Јанковић, Урош | D29: {=iferror(iNDEX('Svi studenti'!$G$2:$G1001,MATCH(B29, 'Svi studenti'!$B$2:$B1001, 0)),"---")} -> 3и1а | E29: {=iferror(iNDEX('Prisustvo-Vežbe'!$Q$4:$Q1001,MATCH(B29, 'Prisustvo-Vežbe'!$A$4:$A1001, 0)),"---")} -> 5 | G29: {=iferror(iNDEX('Januar 1'!$AH$5:$AH1001,MATCH(B29, 'Januar 1'!$A$5:$A1001, 0)),"---")} -> --- | I29: {=iferror(iNDEX('Januar 2'!$AM$5:$AM1001,MATCH(B29, 'Januar 2'!$A$5:$A1001, 0)),"---")} -> --- | K29: {=iferror(iNDEX('Jun1'!$AI$6:$AI1001,MATCH(B29, 'Jun1'!$A$6:$A1001, 0)),"---")} -> --- | M29: {=iferror(iNDEX('Jun2'!$AF$6:$AF1001,MATCH(B29, 'Jun2'!$A$6:$A1001, 0)),"---")} -> --- | O29: {=iferror(iNDEX('Sep1'!$AJ$6:$AJ1001,MATCH(B29, 'Sep1'!$A$6:$A1001, 0)),"---")} -> --- | Q29: {=iferror(iNDEX('Sep2'!$AF$6:$AF1001,MATCH(B29, 'Sep2'!$A$6:$A1001, 0)),"---")} -> --- | S29: {=iferror(iNDEX(Dodatni!$AJ$6:$AJ1001,MATCH(B29, Dodatni!$A$6:$A1001, 0)),"---")} -> --- | U29: {=iferror(iNDEX('Sep1-2324'!$AQ$6:$AQ1001,MATCH(B29, 'Sep1-2324'!$A$6:$A1001, 0)),"---")} -> ---
A30: 27 | B30: 109/2022 | C30: {=INDEX('Svi studenti'!$C$2:$C1001,MATCH(B30, 'Svi studenti'!$B$2:$B1001, 0))} -> Јевремовић, Исидора | D30: {=iferror(iNDEX('Svi studenti'!$G$2:$G1001,MATCH(B30, 'Svi studenti'!$B$2:$B1001, 0)),"---")} -> 3и1а | E30: {=iferror(iNDEX('Prisustvo-Vežbe'!$Q$4:$Q1001,MATCH(B30, 'Prisustvo-Vežbe'!$A$4:$A1001, 0)),"---")} -> 4 | G30: {=iferror(iNDEX('Januar 1'!$AH$5:$AH1001,MATCH(B30, 'Januar 1'!$A$5:$A1001, 0)),"---")} -> 26.5 | I30: {=iferror(iNDEX('Januar 2'!$AM$5:$AM1001,MATCH(B30, 'Januar 2'!$A$5:$A1001, 0)),"---")} -> --- | K30: {=iferror(iNDEX('Jun1'!$AI$6:$AI1001,MATCH(B30, 'Jun1'!$A$6:$A1001, 0)),"---")} -> --- | M30: {=iferror(iNDEX('Jun2'!$AF$6:$AF1001,MATCH(B30, 'Jun2'!$A$6:$A1001, 0)),"---")} -> --- | O30: {=iferror(iNDEX('Sep1'!$AJ$6:$AJ1001,MATCH(B30, 'Sep1'!$A$6:$A1001, 0)),"---")} -> --- | Q30: {=iferror(iNDEX('Sep2'!$AF$6:$AF1001,MATCH(B30, 'Sep2'!$A$6:$A1001, 0)),"---")} -> --- | S30: {=iferror(iNDEX(Dodatni!$AJ$6:$AJ1001,MATCH(B30, Dodatni!$A$6:$A1001, 0)),"---")} -> --- | U30: {=iferror(iNDEX('Sep1-2324'!$AQ$6:$AQ1001,MATCH(B30, 'Sep1-2324'!$A$6:$A1001, 0)),"---")} -> ---
A31: 28 | B31: 174/2021 | C31: {=INDEX('Svi studenti'!$C$2:$C1001,MATCH(B31, 'Svi studenti'!$B$2:$B1001, 0))} -> Јовановић, Ана | D31: {=iferror(iNDEX('Svi studenti'!$G$2:$G1001,MATCH(B31, 'Svi studenti'!$B$2:$B1001, 0)),"---")} -> 3и1б | E31: {=iferror(iNDEX('Prisustvo-Vežbe'!$Q$4:$Q1001,MATCH(B31, 'Prisustvo-Vežbe'!$A$4:$A1001, 0)),"---")} -> 1.5 | G31: {=iferror(iNDEX('Januar 1'!$AH$5:$AH1001,MATCH(B31, 'Januar 1'!$A$5:$A1001, 0)),"---")} -> --- | I31: {=iferror(iNDEX('Januar 2'!$AM$5:$AM1001,MATCH(B31, 'Januar 2'!$A$5:$A1001, 0)),"---")} -> 5.5 | K31: {=iferror(iNDEX('Jun1'!$AI$6:$AI1001,MATCH(B31, 'Jun1'!$A$6:$A1001, 0)),"---")} -> 19 | M31: {=iferror(iNDEX('Jun2'!$AF$6:$AF1001,MATCH(B31, 'Jun2'!$A$6:$A1001, 0)),"---")} -> 32.5 | O31: {=iferror(iNDEX('Sep1'!$AJ$6:$AJ1001,MATCH(B31, 'Sep1'!$A$6:$A1001, 0)),"---")} -> --- | Q31: {=iferror(iNDEX('Sep2'!$AF$6:$AF1001,MATCH(B31, 'Sep2'!$A$6:$A1001, 0)),"---")} -> --- | S31: {=iferror(iNDEX(Dodatni!$AJ$6:$AJ1001,MATCH(B31, Dodatni!$A$6:$A1001, 0)),"---")} -> --- | U31: {=iferror(iNDEX('Sep1-2324'!$AQ$6:$AQ1001,MATCH(B31, 'Sep1-2324'!$A$6:$A1001, 0)),"---")} -> ---
A32: 29 | B32: 50/2023 | C32: {=INDEX('Svi studenti'!$C$2:$C1001,MATCH(B32, 'Svi studenti'!$B$2:$B1001, 0))} -> Јовановић, Ђорђе | D32: {=iferror(iNDEX('Svi studenti'!$G$2:$G1001,MATCH(B32, 'Svi studenti'!$B$2:$B1001, 0)),"---")} -> 3и1б | E32: {=iferror(iNDEX('Prisustvo-Vežbe'!$Q$4:$Q1001,MATCH(B32, 'Prisustvo-Vežbe'!$A$4:$A1001, 0)),"---")} -> 1.5 | G32: {=iferror(iNDEX('Januar 1'!$AH$5:$AH1001,MATCH(B32, 'Januar 1'!$A$5:$A1001, 0)),"---")} -> --- | I32: {=iferror(iNDEX('Januar 2'!$AM$5:$AM1001,MATCH(B32, 'Januar 2'!$A$5:$A1001, 0)),"---")} -> 23 | K32: {=iferror(iNDEX('Jun1'!$AI$6:$AI1001,MATCH(B32, 'Jun1'!$A$6:$A1001, 0)),"---")} -> 41 | M32: {=iferror(iNDEX('Jun2'!$AF$6:$AF1001,MATCH(B32, 'Jun2'!$A$6:$A1001, 0)),"---")} -> 52 | O32: {=iferror(iNDEX('Sep1'!$AJ$6:$AJ1001,MATCH(B32, 'Sep1'!$A$6:$A1001, 0)),"---")} -> --- | Q32: {=iferror(iNDEX('Sep2'!$AF$6:$AF1001,MATCH(B32, 'Sep2'!$A$6:$A1001, 0)),"---")} -> --- | S32: {=iferror(iNDEX(Dodatni!$AJ$6:$AJ1001,MATCH(B32, Dodatni!$A$6:$A1001, 0)),"---")} -> --- | U32: {=iferror(iNDEX('Sep1-2324'!$AQ$6:$AQ1001,MATCH(B32, 'Sep1-2324'!$A$6:$A1001, 0)),"---")} -> ---
A33: 30 | B33: 34/2023 | C33: {=INDEX('Svi studenti'!$C$2:$C1001,MATCH(B33, 'Svi studenti'!$B$2:$B1001, 0))} -> Јовановић, Лазар | D33: {=iferror(iNDEX('Svi studenti'!$G$2:$G1001,MATCH(B33, 'Svi studenti'!$B$2:$B1001, 0)),"---")} -> 3и1б | E33: {=iferror(iNDEX('Prisustvo-Vežbe'!$Q$4:$Q1001,MATCH(B33, 'Prisustvo-Vežbe'!$A$4:$A1001, 0)),"---")} -> 5 | G33: {=iferror(iNDEX('Januar 1'!$AH$5:$AH1001,MATCH(B33, 'Januar 1'!$A$5:$A1001, 0)),"---")} -> 55 | I33: {=iferror(iNDEX('Januar 2'!$AM$5:$AM1001,MATCH(B33, 'Januar 2'!$A$5:$A1001, 0)),"---")} -> --- | K33: {=iferror(iNDEX('Jun1'!$AI$6:$AI1001,MATCH(B33, 'Jun1'!$A$6:$A1001, 0)),"---")} -> --- | M33: {=iferror(iNDEX('Jun2'!$AF$6:$AF1001,MATCH(B33, 'Jun2'!$A$6:$A1001, 0)),"---")} -> --- | O33: {=iferror(iNDEX('Sep1'!$AJ$6:$AJ1001,MATCH(B33, 'Sep1'!$A$6:$A1001, 0)),"---")} -> --- | Q33: {=iferror(iNDEX('Sep2'!$AF$6:$AF1001,MATCH(B33, 'Sep2'!$A$6:$A1001, 0)),"---")} -> --- | S33: {=iferror(iNDEX(Dodatni!$AJ$6:$AJ1001,MATCH(B33, Dodatni!$A$6:$A1001, 0)),"---")} -> --- | U33: {=iferror(iNDEX('Sep1-2324'!$AQ$6:$AQ1001,MATCH(B33, 'Sep1-2324'!$A$6:$A1001, 0)),"---")} -> ---
A34: 31 | B34: 86/2015 | C34: {=INDEX('Svi studenti'!$C$2:$C1001,MATCH(B34, 'Svi studenti'!$B$2:$B1001, 0))} -> Каракаш, Линда Анђела | D34: {=iferror(iNDEX('Svi studenti'!$G$2:$G1001,MATCH(B34, 'Svi studenti'!$B$2:$B1001, 0)),"---")} -> 3и1б | E34: {=iferror(iNDEX('Prisustvo-Vežbe'!$Q$4:$Q1001,MATCH(B34, 'Prisustvo-Vežbe'!$A$4:$A1001, 0)),"---")} -> 0 | G34: {=iferror(iNDEX('Januar 1'!$AH$5:$AH1001,MATCH(B34, 'Januar 1'!$A$5:$A1001, 0)),"---")} -> --- | I34: {=iferror(iNDEX('Januar 2'!$AM$5:$AM1001,MATCH(B34, 'Januar 2'!$A$5:$A1001, 0)),"---")} -> 23 | K34: {=iferror(iNDEX('Jun1'!$AI$6:$AI1001,MATCH(B34, 'Jun1'!$A$6:$A1001, 0)),"---")} -> --- | M34: {=iferror(iNDEX('Jun2'!$AF$6:$AF1001,MATCH(B34, 'Jun2'!$A$6:$A1001, 0)),"---")} -> --- | O34: {=iferror(iNDEX('Sep1'!$AJ$6:$AJ1001,MATCH(B34, 'Sep1'!$A$6:$A1001, 0)),"---")} -> --- | Q34: {=iferror(iNDEX('Sep2'!$AF$6:$AF1001,MATCH(B34, 'Sep2'!$A$6:$A1001, 0)),"---")} -> --- | S34: {=iferror(iNDEX(Dodatni!$AJ$6:$AJ1001,MATCH(B34, Dodatni!$A$6:$A1001, 0)),"---")} -> --- | U34: {=iferror(iNDEX('Sep1-2324'!$AQ$6:$AQ1001,MATCH(B34, 'Sep1-2324'!$A$6:$A1001, 0)),"---")} -> ---
A35: 32 | B35: 402/2021 | C35: {=INDEX('Svi studenti'!$C$2:$C1001,MATCH(B35, 'Svi studenti'!$B$2:$B1001, 0))} -> Ковачић, Анђела | D35: {=iferror(iNDEX('Svi studenti'!$G$2:$G1001,MATCH(B35, 'Svi studenti'!$B$2:$B1001, 0)),"---")} -> 3и1б | E35: {=iferror(iNDEX('Prisustvo-Vežbe'!$Q$4:$Q1001,MATCH(B35, 'Prisustvo-Vežbe'!$A$4:$A1001, 0)),"---")} -> 0 | G35: {=iferror(iNDEX('Januar 1'!$AH$5:$AH1001,MATCH(B35, 'Januar 1'!$A$5:$A1001, 0)),"---")} -> --- | I35: {=iferror(iNDEX('Januar 2'!$AM$5:$AM1001,MATCH(B35, 'Januar 2'!$A$5:$A1001, 0)),"---")} -> --- | K35: {=iferror(iNDEX('Jun1'!$AI$6:$AI1001,MATCH(B35, 'Jun1'!$A$6:$A1001, 0)),"---")} -> --- | M35: {=iferror(iNDEX('Jun2'!$AF$6:$AF1001,MATCH(B35, 'Jun2'!$A$6:$A1001, 0)),"---")} -> --- | O35: {=iferror(iNDEX('Sep1'!$AJ$6:$AJ1001,MATCH(B35, 'Sep1'!$A$6:$A1001, 0)),"---")} -> --- | Q35: {=iferror(iNDEX('Sep2'!$AF$6:$AF1001,MATCH(B35, 'Sep2'!$A$6:$A1001, 0)),"---")} -> --- | S35: {=iferror(iNDEX(Dodatni!$AJ$6:$AJ1001,MATCH(B35, Dodatni!$A$6:$A1001, 0)),"---")} -> --- | U35: {=iferror(iNDEX('Sep1-2324'!$AQ$6:$AQ1001,MATCH(B35, 'Sep1-2324'!$A$6:$A1001, 0)),"---")} -> ---
A36: 33 | B36: 221/2021 | C36: {=INDEX('Svi studenti'!$C$2:$C1001,MATCH(B36, 'Svi studenti'!$B$2:$B1001, 0))} -> Костић, Нађа | D36: {=iferror(iNDEX('Svi studenti'!$G$2:$G1001,MATCH(B36, 'Svi studenti'!$B$2:$B1001, 0)),"---")} -> 3и1а | E36: {=iferror(iNDEX('Prisustvo-Vežbe'!$Q$4:$Q1001,MATCH(B36, 'Prisustvo-Vežbe'!$A$4:$A1001, 0)),"---")} -> 2.5 | G36: {=iferror(iNDEX('Januar 1'!$AH$5:$AH1001,MATCH(B36, 'Januar 1'!$A$5:$A1001, 0)),"---")} -> 22 | I36: {=iferror(iNDEX('Januar 2'!$AM$5:$AM1001,MATCH(B36, 'Januar 2'!$A$5:$A1001, 0)),"---")} -> --- | K36: {=iferror(iNDEX('Jun1'!$AI$6:$AI1001,MATCH(B36, 'Jun1'!$A$6:$A1001, 0)),"---")} -> --- | M36: {=iferror(iNDEX('Jun2'!$AF$6:$AF1001,MATCH(B36, 'Jun2'!$A$6:$A1001, 0)),"---")} -> --- | O36: {=iferror(iNDEX('Sep1'!$AJ$6:$AJ1001,MATCH(B36, 'Sep1'!$A$6:$A1001, 0)),"---")} -> --- | Q36: {=iferror(iNDEX('Sep2'!$AF$6:$AF1001,MATCH(B36, 'Sep2'!$A$6:$A1001, 0)),"---")} -> --- | S36: {=iferror(iNDEX(Dodatni!$AJ$6:$AJ1001,MATCH(B36, Dodatni!$A$6:$A1001, 0)),"---")} -> --- | U36: {=iferror(iNDEX('Sep1-2324'!$AQ$6:$AQ1001,MATCH(B36, 'Sep1-2324'!$A$6:$A1001, 0)),"---")} -> ---
A37: 34 | B37: 245/2022 | C37: {=INDEX('Svi studenti'!$C$2:$C1001,MATCH(B37, 'Svi studenti'!$B$2:$B1001, 0))} -> Крсмановић, Марко | D37: {=iferror(iNDEX('Svi studenti'!$G$2:$G1001,MATCH(B37, 'Svi studenti'!$B$2:$B1001, 0)),"---")} -> 3и1а | E37: {=iferror(iNDEX('Prisustvo-Vežbe'!$Q$4:$Q1001,MATCH(B37, 'Prisustvo-Vežbe'!$A$4:$A1001, 0)),"---")} -> 0 | G37: {=iferror(iNDEX('Januar 1'!$AH$5:$AH1001,MATCH(B37, 'Januar 1'!$A$5:$A1001, 0)),"---")} -> --- | I37: {=iferror(iNDEX('Januar 2'!$AM$5:$AM1001,MATCH(B37, 'Januar 2'!$A$5:$A1001, 0)),"---")} -> --- | K37: {=iferror(iNDEX('Jun1'!$AI$6:$AI1001,MATCH(B37, 'Jun1'!$A$6:$A1001, 0)),"---")} -> --- | M37: {=iferror(iNDEX('Jun2'!$AF$6:$AF1001,MATCH(B37, 'Jun2'!$A$6:$A1001, 0)),"---")} -> --- | O37: {=iferror(iNDEX('Sep1'!$AJ$6:$AJ1001,MATCH(B37, 'Sep1'!$A$6:$A1001, 0)),"---")} -> --- | Q37: {=iferror(iNDEX('Sep2'!$AF$6:$AF1001,MATCH(B37, 'Sep2'!$A$6:$A1001, 0)),"---")} -> --- | S37: {=iferror(iNDEX(Dodatni!$AJ$6:$AJ1001,MATCH(B37, Dodatni!$A$6:$A1001, 0)),"---")} -> --- | U37: {=iferror(iNDEX('Sep1-2324'!$AQ$6:$AQ1001,MATCH(B37, 'Sep1-2324'!$A$6:$A1001, 0)),"---")} -> ---
A38: 35 | B38: 174/2022 | C38: {=INDEX('Svi studenti'!$C$2:$C1001,MATCH(B38, 'Svi studenti'!$B$2:$B1001, 0))} -> Лапчевић, Лазар | D38: {=iferror(iNDEX('Svi studenti'!$G$2:$G1001,MATCH(B38, 'Svi studenti'!$B$2:$B1001, 0)),"---")} -> 3и1б | E38: {=iferror(iNDEX('Prisustvo-Vežbe'!$Q$4:$Q1001,MATCH(B38, 'Prisustvo-Vežbe'!$A$4:$A1001, 0)),"---")} -> 2 | G38: {=iferror(iNDEX('Januar 1'!$AH$5:$AH1001,MATCH(B38, 'Januar 1'!$A$5:$A1001, 0)),"---")} -> --- | I38: {=iferror(iNDEX('Januar 2'!$AM$5:$AM1001,MATCH(B38, 'Januar 2'!$A$5:$A1001, 0)),"---")} -> --- | K38: {=iferror(iNDEX('Jun1'!$AI$6:$AI1001,MATCH(B38, 'Jun1'!$A$6:$A1001, 0)),"---")} -> --- | M38: {=iferror(iNDEX('Jun2'!$AF$6:$AF1001,MATCH(B38, 'Jun2'!$A$6:$A1001, 0)),"---")} -> --- | O38: {=iferror(iNDEX('Sep1'!$AJ$6:$AJ1001,MATCH(B38, 'Sep1'!$A$6:$A1001, 0)),"---")} -> --- | Q38: {=iferror(iNDEX('Sep2'!$AF$6:$AF1001,MATCH(B38, 'Sep2'!$A$6:$A1001, 0)),"---")} -> --- | S38: {=iferror(iNDEX(Dodatni!$AJ$6:$AJ1001,MATCH(B38, Dodatni!$A$6:$A1001, 0)),"---")} -> --- | U38: {=iferror(iNDEX('Sep1-2324'!$AQ$6:$AQ1001,MATCH(B38, 'Sep1-2324'!$A$6:$A1001, 0)),"---")} -> ---
A39: 36 | B39: 190/2023 | C39: {=INDEX('Svi studenti'!$C$2:$C1001,MATCH(B39, 'Svi studenti'!$B$2:$B1001, 0))} -> Мажинг, Урош | D39: {=iferror(iNDEX('Svi studenti'!$G$2:$G1001,MATCH(B39, 'Svi studenti'!$B$2:$B1001, 0)),"---")} -> 3и1б | E39: {=iferror(iNDEX('Prisustvo-Vežbe'!$Q$4:$Q1001,MATCH(B39, 'Prisustvo-Vežbe'!$A$4:$A1001, 0)),"---")} -> 3.5 | G39: {=iferror(iNDEX('Januar 1'!$AH$5:$AH1001,MATCH(B39, 'Januar 1'!$A$5:$A1001, 0)),"---")} -> --- | I39: {=iferror(iNDEX('Januar 2'!$AM$5:$AM1001,MATCH(B39, 'Januar 2'!$A$5:$A1001, 0)),"---")} -> --- | K39: {=iferror(iNDEX('Jun1'!$AI$6:$AI1001,MATCH(B39, 'Jun1'!$A$6:$A1001, 0)),"---")} -> --- | M39: {=iferror(iNDEX('Jun2'!$AF$6:$AF1001,MATCH(B39, 'Jun2'!$A$6:$A1001, 0)),"---")} -> --- | O39: {=iferror(iNDEX('Sep1'!$AJ$6:$AJ1001,MATCH(B39, 'Sep1'!$A$6:$A1001, 0)),"---")} -> --- | Q39: {=iferror(iNDEX('Sep2'!$AF$6:$AF1001,MATCH(B39, 'Sep2'!$A$6:$A1001, 0)),"---")} -> --- | S39: {=iferror(iNDEX(Dodatni!$AJ$6:$AJ1001,MATCH(B39, Dodatni!$A$6:$A1001, 0)),"---")} -> --- | U39: {=iferror(iNDEX('Sep1-2324'!$AQ$6:$AQ1001,MATCH(B39, 'Sep1-2324'!$A$6:$A1001, 0)),"---")} -> ---
A40: 37 | B40: 190/2022 | C40: {=INDEX('Svi studenti'!$C$2:$C1001,MATCH(B40, 'Svi studenti'!$B$2:$B1001, 0))} -> Манчић, Филип | D40: {=iferror(iNDEX('Svi studenti'!$G$2:$G1001,MATCH(B40, 'Svi studenti'!$B$2:$B1001, 0)),"---")} -> 3и1б | E40: {=iferror(iNDEX('Prisustvo-Vežbe'!$Q$4:$Q1001,MATCH(B40, 'Prisustvo-Vežbe'!$A$4:$A1001, 0)),"---")} -> 0 | G40: {=iferror(iNDEX('Januar 1'!$AH$5:$AH1001,MATCH(B40, 'Januar 1'!$A$5:$A1001, 0)),"---")} -> --- | I40: {=iferror(iNDEX('Januar 2'!$AM$5:$AM1001,MATCH(B40, 'Januar 2'!$A$5:$A1001, 0)),"---")} -> 6 | K40: {=iferror(iNDEX('Jun1'!$AI$6:$AI1001,MATCH(B40, 'Jun1'!$A$6:$A1001, 0)),"---")} -> 31.5 | M40: {=iferror(iNDEX('Jun2'!$AF$6:$AF1001,MATCH(B40, 'Jun2'!$A$6:$A1001, 0)),"---")} -> --- | O40: {=iferror(iNDEX('Sep1'!$AJ$6:$AJ1001,MATCH(B40, 'Sep1'!$A$6:$A1001, 0)),"---")} -> --- | Q40: {=iferror(iNDEX('Sep2'!$AF$6:$AF1001,MATCH(B40, 'Sep2'!$A$6:$A1001, 0)),"---")} -> --- | S40: {=iferror(iNDEX(Dodatni!$AJ$6:$AJ1001,MATCH(B40, Dodatni!$A$6:$A1001, 0)),"---")} -> --- | U40: {=iferror(iNDEX('Sep1-2324'!$AQ$6:$AQ1001,MATCH(B40, 'Sep1-2324'!$A$6:$A1001, 0)),"---")} -> ---
...

Sheet Prisustvo-Vežbe
C2: Nastavna nedelja | P2: Ukupno (13) | Q2: Poeni
A3: Indeks | B3: Ime i prezime | C3: 1 | D3: 2 | E3: 3 | F3: 4 | G3: 5 | H3: 6 | I3: 7 | J3: 8 | K3: 9 | L3: 10 | M3: 11 | N3: 12 | O3: 13
A4: 154/2023 | B4: {=INDEX('Svi studenti'!$C$2:$C1001,MATCH(A4, 'Svi studenti'!$B$2:$B1001, 0))} -> Ајдуковић, Лука | E4: 1 | L4: 1 | P4: =sum(C4:O4) -> 2 | Q4: =if(P4 > 0, min(P4*5/10,5), 0) -> 1
A5: 25/2018 | B5: {=INDEX('Svi studenti'!$C$2:$C1001,MATCH(A5, 'Svi studenti'!$B$2:$B1001, 0))} -> Арамбашић, Тодор | P5: =sum(C5:O5) -> 0 | Q5: =if(P5 > 0, min(P5*5/10,5), 0) -> 0
A6: 217/2023 | B6: {=INDEX('Svi studenti'!$C$2:$C1001,MATCH(A6, 'Svi studenti'!$B$2:$B1001, 0))} -> Аћимовић, Љубомир | C6: 1 | E6: 1 | F6: 1 | H6: 1 | J6: 1 | P6: =sum(C6:O6) -> 5 | Q6: =if(P6 > 0, min(P6*5/10,5), 0) -> 2.5
A7: 278/2021 | B7: {=INDEX('Svi studenti'!$C$2:$C1001,MATCH(A7, 'Svi studenti'!$B$2:$B1001, 0))} -> Бељић, Лазар | C7: 1 | E7: 1 | F7: 1 | H7: 1 | J7: 1 | K7: 1 | L7: 1 | M7: 1 | P7: =sum(C7:O7) -> 8 | Q7: =if(P7 > 0, min(P7*5/10,5), 0) -> 4
A8: 90/2023 | B8: {=INDEX('Svi studenti'!$C$2:$C1001,MATCH(A8, 'Svi studenti'!$B$2:$B1001, 0))} -> Божиновић, Дуња | E8: 1 | F8: 1 | P8: =sum(C8:O8) -> 2 | Q8: =if(P8 > 0, min(P8*5/10,5), 0) -> 1
A9: 178/2021 | B9: {=INDEX('Svi studenti'!$C$2:$C1001,MATCH(A9, 'Svi studenti'!$B$2:$B1001, 0))} -> Будимир, Никола | P9: =sum(C9:O9) -> 0 | Q9: =if(P9 > 0, min(P9*5/10,5), 0) -> 0
A10: 266/2021 | B10: {=INDEX('Svi studenti'!$C$2:$C1001,MATCH(A10, 'Svi studenti'!$B$2:$B1001, 0))} -> Влаховић, Иван | D10: 1 | E10: 1 | F10: 1 | H10: 1 | I10: 1 | J10: 1 | K10: 1 | L10: 1 | P10: =sum(C10:O10) -> 8 | Q10: =if(P10 > 0, min(P10*5/10,5), 0) -> 4
A11: 26/2023 | B11: {=INDEX('Svi studenti'!$C$2:$C1001,MATCH(A11, 'Svi studenti'!$B$2:$B1001, 0))} -> Вуковић, Лола | C11: 1 | D11: 1 | E11: 1 | F11: 1 | H11: 1 | I11: 1 | J11: 1 | K11: 1 | L11: 1 | M11: 1 | N11: 1 | P11: =sum(C11:O11) -> 11 | Q11: =if(P11 > 0, min(P11*5/10,5), 0) -> 5
A12: 82/2022 | B12: {=INDEX('Svi studenti'!$C$2:$C1001,MATCH(A12, 'Svi studenti'!$B$2:$B1001, 0))} -> Глигорић, Мила | C12: 1 | D12: 0 | E12: 0 | F12: 1 | G12: 1 | H12: 0 | I12: 0 | J12: 0 | K12: 0 | L12: 0 | M12: 0 | N12: 0 | O12: 0 | P12: =sum(C12:O12) -> 3 | Q12: =if(P12 > 0, min(P12*5/10,5), 0) -> 1.5
A13: 61/2023 | B13: {=INDEX('Svi studenti'!$C$2:$C1001,MATCH(A13, 'Svi studenti'!$B$2:$B1001, 0))} -> Грбовић, Теодора | C13: 0 | D13: 1 | E13: 1 | F13: 1 | G13: 1 | H13: 1 | I13: 1 | J13: 1 | K13: 1 | L13: 1 | M13: 1 | N13: 1 | O13: 0 | P13: =sum(C13:O13) -> 11 | Q13: =if(P13 > 0, min(P13*5/10,5), 0) -> 5
A14: 305/2018 | B14: {=INDEX('Svi studenti'!$C$2:$C1001,MATCH(A14, 'Svi studenti'!$B$2:$B1001, 0))} -> Гудурић, Урош | P14: =sum(C14:O14) -> 0 | Q14: =if(P14 > 0, min(P14*5/10,5), 0) -> 0
A15: 377/2019 | B15: {=INDEX('Svi studenti'!$C$2:$C1001,MATCH(A15, 'Svi studenti'!$B$2:$B1001, 0))} -> Дамњановић, Татјана | C15: 1 | L15: 1 | P15: =sum(C15:O15) -> 2 | Q15: =if(P15 > 0, min(P15*5/10,5), 0) -> 1
A16: 141/2022 | B16: {=INDEX('Svi studenti'!$C$2:$C1001,MATCH(A16, 'Svi studenti'!$B$2:$B1001, 0))} -> Дељанин, Петар | C16: 1 | D16: 1 | E16: 1 | F16: 1 | K16: 1 | L16: 1 | P16: =sum(C16:O16) -> 6 | Q16: =if(P16 > 0, min(P16*5/10,5), 0) -> 3
A17: 206/2022 | B17: {=INDEX('Svi studenti'!$C$2:$C1001,MATCH(A17, 'Svi studenti'!$B$2:$B1001, 0))} -> Дивјак, Анастасија | C17: 1 | D17: 1 | F17: 1 | I17: 1 | L17: 1 | P17: =sum(C17:O17) -> 5 | Q17: =if(P17 > 0, min(P17*5/10,5), 0) -> 2.5
A18: 98/2023 | B18: {=INDEX('Svi studenti'!$C$2:$C1001,MATCH(A18, 'Svi studenti'!$B$2:$B1001, 0))} -> Димитријевић, Младен | C18: 1 | D18: 0 | E18: 1 | F18: 1 | G18: 1 | H18: 1 | I18: 1 | J18: 1 | K18: 1 | L18: 1 | M18: 1 | N18: 1 | O18: 0 | P18: =sum(C18:O18) -> 11 | Q18: =if(P18 > 0, min(P18*5/10,5), 0) -> 5
A19: 122/2023 | B19: {=INDEX('Svi studenti'!$C$2:$C1001,MATCH(A19, 'Svi studenti'!$B$2:$B1001, 0))} -> Димитријевић, Никола | C19: 1 | D19: 1 | E19: 1 | F19: 1 | G19: 1 | H19: 1 | I19: 1 | J19: 1 | K19: 1 | L19: 1 | M19: 1 | N19: 1 | P19: =sum(C19:O19) -> 12 | Q19: =if(P19 > 0, min(P19*5/10,5), 0) -> 5
A20: 401/2021 | B20: {=INDEX('Svi studenti'!$C$2:$C1001,MATCH(A20, 'Svi studenti'!$B$2:$B1001, 0))} -> Добросављевић, Исидора | C20: 1 | D20: 0 | E20: 1 | F20: 1 | G20: 1 | H20: 1 | I20: 0 | J20: 0 | K20: 0 | L20: 0 | M20: 0 | N20: 0 | O20: 0 | P20: =sum(C20:O20) -> 5 | Q20: =if(P20 > 0, min(P20*5/10,5), 0) -> 2.5
A21: 110/2019 | B21: {=INDEX('Svi studenti'!$C$2:$C1001,MATCH(A21, 'Svi studenti'!$B$2:$B1001, 0))} -> Докмановић, Нина | C21: 1 | D21: 1 | E21: 1 | F21: 1 | J21: 1 | K21: 1 | P21: =sum(C21:O21) -> 6 | Q21: =if(P21 > 0, min(P21*5/10,5), 0) -> 3
A22: 150/2023 | B22: {=INDEX('Svi studenti'!$C$2:$C1001,MATCH(A22, 'Svi studenti'!$B$2:$B1001, 0))} -> Ђорђевић, Александар | C22: 1 | P22: =sum(C22:O22) -> 1 | Q22: =if(P22 > 0, min(P22*5/10,5), 0) -> 0.5
A23: 69/2023 | B23: {=INDEX('Svi studenti'!$C$2:$C1001,MATCH(A23, 'Svi studenti'!$B$2:$B1001, 0))} -> Ђорђевић, Чедомир | P23: =sum(C23:O23) -> 0 | Q23: =if(P23 > 0, min(P23*5/10,5), 0) -> 0
A24: 214/2023 | B24: {=INDEX('Svi studenti'!$C$2:$C1001,MATCH(A24, 'Svi studenti'!$B$2:$B1001, 0))} -> Ђуровић, Слађана | C24: 1 | D24: 1 | E24: 1 | F24: 1 | H24: 1 | J24: 1 | K24: 1 | L24: 1 | M24: 1 | N24: 1 | P24: =sum(C24:O24) -> 10 | Q24: =if(P24 > 0, min(P24*5/10,5), 0) -> 5
A25: 345/2021 | B25: {=INDEX('Svi studenti'!$C$2:$C1001,MATCH(A25, 'Svi studenti'!$B$2:$B1001, 0))} -> Здјелар, Катарина | P25: =sum(C25:O25) -> 0 | Q25: =if(P25 > 0, min(P25*5/10,5), 0) -> 0
A26: 37/2023 | B26: {=INDEX('Svi studenti'!$C$2:$C1001,MATCH(A26, 'Svi studenti'!$B$2:$B1001, 0))} -> Иваниан, Сергеи | C26: 1 | D26: 1 | E26: 1 | F26: 1 | G26: 1 | H26: 1 | I26: 1 | J26: 1 | K26: 1 | L26: 1 | M26: 1 | P26: =sum(C26:O26) -> 11 | Q26: =if(P26 > 0, min(P26*5/10,5), 0) -> 5
A27: 62/2018 | B27: {=INDEX('Svi studenti'!$C$2:$C1001,MATCH(A27, 'Svi studenti'!$B$2:$B1001, 0))} -> Ивановић, Нада | P27: =sum(C27:O27) -> 0 | Q27: =if(P27 > 0, min(P27*5/10,5), 0) -> 0
A28: 42/2023 | B28: {=INDEX('Svi studenti'!$C$2:$C1001,MATCH(A28, 'Svi studenti'!$B$2:$B1001, 0))} -> Ивановић, Никола | C28: 1 | E28: 1 | F28: 1 | H28: 1 | I28: 1 | J28: 1 | L28: 1 | N28: 1 | P28: =sum(C28:O28) -> 8 | Q28: =if(P28 > 0, min(P28*5/10,5), 0) -> 4
A29: 273/2022 | B29: {=INDEX('Svi studenti'!$C$2:$C1001,MATCH(A29, 'Svi studenti'!$B$2:$B1001, 0))} -> Јанковић, Урош | C29: 1 | D29: 0 | E29: 1 | F29: 1 | G29: 1 | H29: 1 | I29: 1 | J29: 0 | K29: 1 | L29: 1 | M29: 1 | N29: 0 | O29: 1 | P29: =sum(C29:O29) -> 10 | Q29: =if(P29 > 0, min(P29*5/10,5), 0) -> 5
A30: 109/2022 | B30: {=INDEX('Svi studenti'!$C$2:$C1001,MATCH(A30, 'Svi studenti'!$B$2:$B1001, 0))} -> Јевремовић, Исидора | C30: 1 | D30: 0 | E30: 0 | F30: 0 | G30: 1 | H30: 1 | I30: 0 | J30: 0 | K30: 1 | L30: 1 | M30: 1 | N30: 1 | O30: 1 | P30: =sum(C30:O30) -> 8 | Q30: =if(P30 > 0, min(P30*5/10,5), 0) -> 4
A31: 174/2021 | B31: {=INDEX('Svi studenti'!$C$2:$C1001,MATCH(A31, 'Svi studenti'!$B$2:$B1001, 0))} -> Јовановић, Ана | E31: 1 | K31: 1 | L31: 1 | P31: =sum(C31:O31) -> 3 | Q31: =if(P31 > 0, min(P31*5/10,5), 0) -> 1.5
A32: 50/2023 | B32: {=INDEX('Svi studenti'!$C$2:$C1001,MATCH(A32, 'Svi studenti'!$B$2:$B1001, 0))} -> Јовановић, Ђорђе | C32: 1 | D32: 1 | F32: 1 | P32: =sum(C32:O32) -> 3 | Q32: =if(P32 > 0, min(P32*5/10,5), 0) -> 1.5
A33: 34/2023 | B33: {=INDEX('Svi studenti'!$C$2:$C1001,MATCH(A33, 'Svi studenti'!$B$2:$B1001, 0))} -> Јовановић, Лазар | C33: 1 | D33: 1 | F33: 1 | G33: 1 | H33: 1 | I33: 1 | J33: 1 | K33: 1 | L33: 1 | N33: 1 | P33: =sum(C33:O33) -> 10 | Q33: =if(P33 > 0, min(P33*5/10,5), 0) -> 5
A34: 86/2015 | B34: {=INDEX('Svi studenti'!$C$2:$C1001,MATCH(A34, 'Svi studenti'!$B$2:$B1001, 0))} -> Каракаш, Линда Анђела | P34: =sum(C34:O34) -> 0 | Q34: =if(P34 > 0, min(P34*5/10,5), 0) -> 0
A35: 402/2021 | B35: {=INDEX('Svi studenti'!$C$2:$C1001,MATCH(A35, 'Svi studenti'!$B$2:$B1001, 0))} -> Ковачић, Анђела | P35: =sum(C35:O35) -> 0 | Q35: =if(P35 > 0, min(P35*5/10,5), 0) -> 0
A36: 221/2021 | B36: {=INDEX('Svi studenti'!$C$2:$C1001,MATCH(A36, 'Svi studenti'!$B$2:$B1001, 0))} -> Костић, Нађа | D36: 1 | E36: 1 | F36: 1 | G36: 1 | L36: 1 | P36: =sum(C36:O36) -> 5 | Q36: =if(P36 > 0, min(P36*5/10,5), 0) -> 2.5
A37: 245/2022 | B37: {=INDEX('Svi studenti'!$C$2:$C1001,MATCH(A37, 'Svi studenti'!$B$2:$B1001, 0))} -> Крсмановић, Марко | P37: =sum(C37:O37) -> 0 | Q37: =if(P37 > 0, min(P37*5/10,5), 0) -> 0
A38: 174/2022 | B38: {=INDEX('Svi studenti'!$C$2:$C1001,MATCH(A38, 'Svi studenti'!$B$2:$B1001, 0))} -> Лапчевић, Лазар | C38: 1 | G38: 1 | J38: 1 | N38: 1 | P38: =sum(C38:O38) -> 4 | Q38: =if(P38 > 0, min(P38*5/10,5), 0) -> 2
A39: 190/2023 | B39: {=INDEX('Svi studenti'!$C$2:$C1001,MATCH(A39, 'Svi studenti'!$B$2:$B1001, 0))} -> Мажинг, Урош | C39: 1 | D39: 1 | E39: 1 | I39: 1 | J39: 1 | L39: 1 | N39: 1 | P39: =sum(C39:O39) -> 7 | Q39: =if(P39 > 0, min(P39*5/10,5), 0) -> 3.5
A40: 190/2022 | B40: {=INDEX('Svi studenti'!$C$2:$C1001,MATCH(A40, 'Svi studenti'!$B$2:$B1001, 0))} -> Манчић, Филип | P40: =sum(C40:O40) -> 0 | Q40: =if(P40 > 0, min(P40*5/10,5), 0) -> 0
A41: 65/2023 | B41: {=INDEX('Svi studenti'!$C$2:$C1001,MATCH(A41, 'Svi studenti'!$B$2:$B1001, 0))} -> Марић, Душан | C41: 1 | D41: 1 | E41: 1 | F41: 1 | G41: 1 | H41: 1 | I41: 1 | J41: 1 | K41: 1 | L41: 1 | M41: 1 | N41: 1 | O41: 1 | P41: =sum(C41:O41) -> 13 | Q41: =if(P41 > 0, min(P41*5/10,5), 0) -> 5
...

Sheet Januar 1
A1: VK | B1: SM | C1: MK | E1: jag1 | F1: jag2 | G1: 718 | H1: 704 | I1: bim
A2: =countif(C5:C995,"=3и2а") + countif(C5:C995,"=3и1б") -> 18 | B2: =countif(C5:C995,"=3и1а") -> 10 | C2: =countif(C5:C995,"=3и2б") -> 10 | D2: Interaktivni parser (37p) | T2: Sintaksno stablo (14p) | AH2: Ukupno (55p)
D3: 1 (12p) | H3: 2 (6p) | K3: 3 (10p) | O3: 4 (4p) | Q3: opsti zahtevi (5p) | T3: 5 (14p) | AE3: Ostalo (4p)
A4: Indeks | B4: Ime i prezime | C4: Grupa Vezbi | D4: lekser (2p) | E4: gramatika (4p) | F4: definicija (4p) | G4: dodela (2p) | H4: gramatika (2p) | I4: print s (2p) | J4: print l (2p) | K4: gramatika (4p) | L4: prioritetit (2p) | M4: + (2p) | N4: * (2p) | O4: gramatika (2p) | P4: append (2p) | Q4: obrada gresaka (2p) | R4: curenje memorije (2p) | S4: Makefile (1p) | T4: niz naredbi (1p) | U4: deklaracija (1p) | V4: dodela (1p) | W4: ispis izraza (1p) | X4: ispis niske(1p) | Y4: append (1p) | Z4: sabiranje (1p) | AA4: mnozenje (1p) | AB4: lista (1p) | AC4: promenljiva (1p) | AD4: akcije (4p) | AE4: Makefile (1p) | AF4: Greske (1p) | AG4: Curenje mem (2p)
A5: 37/2023 | B5: {=iferror(iNDEX('Svi studenti'!$C$2:$C995,MATCH(A5, 'Svi studenti'!$B$2:$B995, 0)),"---")} -> Иваниан, Сергеи | C5: {=iferror(iNDEX('Svi studenti'!$G$2:$G995,MATCH(A5, 'Svi studenti'!$B$2:$B995, 0)),"---")} -> 3и1а | D5: 1.5 | E5: 4 | F5: 4 | G5: 2 | H5: 2 | I5: 2 | J5: 2 | K5: 4 | L5: 2 | M5: 2 | N5: 2 | O5: 2 | P5: 2 | Q5: 2 | R5: 2 | S5: 1 | T5: 0.5 | U5: 1 | V5: 1 | W5: 0.5 | X5: 0.5 | Y5: 1 | Z5: 1 | AA5: 1 | AB5: 0.5 | AC5: 1 | AD5: 2 | AE5: 1 | AF5: 1 | AG5: 2 | AH5: =sum(D5:AG5) -> 50.5
A6: 69/2023 | B6: {=iferror(iNDEX('Svi studenti'!$C$2:$C995,MATCH(A6, 'Svi studenti'!$B$2:$B995, 0)),"---")} -> Ђорђевић, Чедомир | C6: {=iferror(iNDEX('Svi studenti'!$G$2:$G995,MATCH(A6, 'Svi studenti'!$B$2:$B995, 0)),"---")} -> 3и1а | D6: 1.5 | E6: 3 | F6: 2 | G6: 1 | H6: 2 | I6: 2 | J6: 1 | K6: 4 | L6: 0 | M6: 1 | N6: 1 | O6: 2 | P6: 1 | Q6: 1 | R6: 0 | S6: 1 | T6: 0 | U6: 0 | V6: 0 | W6: 0 | X6: 0 | Y6: 0 | Z6: 0 | AA6: 0 | AB6: 0 | AC6: 0 | AD6: 0 | AE6: 0 | AF6: 0 | AG6: 0 | AH6: =sum(D6:AG6) -> 23.5
A7: 81/2023 | B7: {=iferror(iNDEX('Svi studenti'!$C$2:$C995,MATCH(A7, 'Svi studenti'!$B$2:$B995, 0)),"---")} -> Петковић, Урош | C7: {=iferror(iNDEX('Svi studenti'!$G$2:$G995,MATCH(A7, 'Svi studenti'!$B$2:$B995, 0)),"---")} -> 3и1а | D7: 2 | E7: 4 | F7: 4 | G7: 2 | H7: 2 | I7: 2 | J7: 2 | K7: 4 | L7: 2 | M7: 2 | N7: 2 | O7: 2 | P7: 2 | Q7: 2 | R7: 2 | S7: 1 | T7: 0 | U7: 0 | V7: 0 | W7: 0 | X7: 0 | Y7: 0 | Z7: 0 | AA7: 0 | AB7: 0 | AC7: 0 | AD7: 0 | AE7: 0 | AF7: 0 | AG7: 0 | AH7: =sum(D7:AG7) -> 37
A8: 109/2022 | B8: {=iferror(iNDEX('Svi studenti'!$C$2:$C995,MATCH(A8, 'Svi studenti'!$B$2:$B995, 0)),"---")} -> Јевремовић, Исидора | C8: {=iferror(iNDEX('Svi studenti'!$G$2:$G995,MATCH(A8, 'Svi studenti'!$B$2:$B995, 0)),"---")} -> 3и1а | D8: 1.5 | E8: 4 | F8: 4 | G8: 2 | H8: 2 | I8: 2 | J8: 0 | K8: 2 | L8: 2 | M8: 0 | N8: 0 | O8: 2 | P8: 0 | Q8: 2 | R8: 2 | S8: 1 | T8: 0 | U8: 0 | V8: 0 | W8: 0 | X8: 0 | Y8: 0 | Z8: 0 | AA8: 0 | AB8: 0 | AC8: 0 | AD8: 0 | AE8: 0 | AF8: 0 | AG8: 0 | AH8: =sum(D8:AG8) -> 26.5
A9: 65/2023 | B9: {=iferror(iNDEX('Svi studenti'!$C$2:$C995,MATCH(A9, 'Svi studenti'!$B$2:$B995, 0)),"---")} -> Марић, Душан | C9: {=iferror(iNDEX('Svi studenti'!$G$2:$G995,MATCH(A9, 'Svi studenti'!$B$2:$B995, 0)),"---")} -> 3и1а | D9: 2 | E9: 4 | F9: 4 | G9: 2 | H9: 2 | I9: 2 | J9: 2 | K9: 4 | L9: 2 | M9: 2 | N9: 2 | O9: 2 | P9: 2 | Q9: 2 | R9: 2 | S9: 1 | T9: 1 | U9: 1 | V9: 1 | W9: 1 | X9: 1 | Y9: 1 | Z9: 1 | AA9: 1 | AB9: 1 | AC9: 1 | AD9: 4 | AE9: 1 | AF9: 1 | AG9: 2 | AH9: =sum(D9:AG9) -> 55
A10: 41/2023 | B10: {=iferror(iNDEX('Svi studenti'!$C$2:$C995,MATCH(A10, 'Svi studenti'!$B$2:$B995, 0)),"---")} -> Торбица, Милан | C10: {=iferror(iNDEX('Svi studenti'!$G$2:$G995,MATCH(A10, 'Svi studenti'!$B$2:$B995, 0)),"---")} -> 3и1а | D10: 2 | E10: 2 | F10: 4 | G10: 2 | H10: 2 | I10: 2 | J10: 2 | K10: 4 | L10: 2 | M10: 2 | N10: 0 | O10: 2 | P10: 2 | Q10: 2 | R10: 2 | S10: 1 | T10: 0 | U10: 0 | V10: 0 | W10: 0 | X10: 0 | Y10: 0 | Z10: 0 | AA10: 0 | AB10: 0 | AC10: 0 | AD10: 0 | AE10: 0 | AF10: 0 | AG10: 0 | AH10: =sum(D10:AG10) -> 33
A11: 49/2022 | B11: {=iferror(iNDEX('Svi studenti'!$C$2:$C995,MATCH(A11, 'Svi studenti'!$B$2:$B995, 0)),"---")} -> Пејчић, Богдан | C11: {=iferror(iNDEX('Svi studenti'!$G$2:$G995,MATCH(A11, 'Svi studenti'!$B$2:$B995, 0)),"---")} -> 3и1а | D11: 2 | E11: 4 | F11: 4 | G11: 2 | H11: 2 | I11: 2 | J11: 2 | K11: 4 | L11: 2 | M11: 2 | N11: 0 | O11: 2 | P11: 2 | Q11: 2 | R11: 1.5 | S11: 1 | T11: 0 | U11: 0 | V11: 0 | W11: 0 | X11: 0 | Y11: 0 | Z11: 0 | AA11: 0 | AB11: 0 | AC11: 0 | AD11: 0 | AE11: 0 | AF11: 0 | AG11: 0 | AH11: =sum(D11:AG11) -> 34.5
A12: 61/2023 | B12: {=iferror(iNDEX('Svi studenti'!$C$2:$C995,MATCH(A12, 'Svi studenti'!$B$2:$B995, 0)),"---")} -> Грбовић, Теодора | C12: {=iferror(iNDEX('Svi studenti'!$G$2:$G995,MATCH(A12, 'Svi studenti'!$B$2:$B995, 0)),"---")} -> 3и1а | D12: 1.5 | E12: 4 | F12: 3 | G12: 2 | H12: 1 | I12: 2 | J12: 2 | K12: 4 | L12: 2 | M12: 2 | N12: 2 | O12: 2 | P12: 2 | Q12: 2 | R12: 0.5 | S12: 1 | T12: 0 | U12: 0 | V12: 0 | W12: 0 | X12: 0 | Y12: 0 | Z12: 0 | AA12: 0 | AB12: 0 | AC12: 0 | AD12: 0 | AE12: 0 | AF12: 0 | AG12: 0 | AH12: =sum(D12:AG12) -> 33
A13: 133/2023 | B13: {=iferror(iNDEX('Svi studenti'!$C$2:$C995,MATCH(A13, 'Svi studenti'!$B$2:$B995, 0)),"---")} -> Радовић, Андрија | C13: {=iferror(iNDEX('Svi studenti'!$G$2:$G995,MATCH(A13, 'Svi studenti'!$B$2:$B995, 0)),"---")} -> 3и1а | D13: 1.5 | E13: 4 | F13: 3 | G13: 2 | H13: 2 | I13: 2 | J13: 1 | K13: 4 | L13: 2 | M13: 2 | N13: 2 | O13: 2 | P13: 2 | Q13: 2 | R13: 0.5 | S13: 1 | T13: 1 | U13: 0 | V13: 0 | W13: 1 | X13: 1 | Y13: 0 | Z13: 1 | AA13: 1 | AB13: 0 | AC13: 1 | AD13: 2 | AE13: 1 | AF13: 1 | AG13: 2 | AH13: =sum(D13:AG13) -> 45
A14: 221/2021 | B14: {=iferror(iNDEX('Svi studenti'!$C$2:$C995,MATCH(A14, 'Svi studenti'!$B$2:$B995, 0)),"---")} -> Костић, Нађа | C14: {=iferror(iNDEX('Svi studenti'!$G$2:$G995,MATCH(A14, 'Svi studenti'!$B$2:$B995, 0)),"---")} -> 3и1а | D14: 1 | E14: 2 | F14: 2 | G14: 1 | H14: 1 | I14: 2 | J14: 0.5 | K14: 4 | L14: 2 | M14: 0 | N14: 0 | O14: 2 | P14: 1 | Q14: 2 | R14: 0.5 | S14: 1 | T14: 0 | U14: 0 | V14: 0 | W14: 0 | X14: 0 | Y14: 0 | Z14: 0 | AA14: 0 | AB14: 0 | AC14: 0 | AD14: 0 | AE14: 0 | AF14: 0 | AG14: 0 | AH14: =sum(D14:AG14) -> 22
A15: 34/2023 | B15: {=iferror(iNDEX('Svi studenti'!$C$2:$C995,MATCH(A15, 'Svi studenti'!$B$2:$B995, 0)),"---")} -> Јовановић, Лазар | C15: {=iferror(iNDEX('Svi studenti'!$G$2:$G995,MATCH(A15, 'Svi studenti'!$B$2:$B995, 0)),"---")} -> 3и1б | D15: 2 | E15: 4 | F15: 4 | G15: 2 | H15: 2 | I15: 2 | J15: 2 | K15: 4 | L15: 2 | M15: 2 | N15: 2 | O15: 2 | P15: 2 | Q15: 2 | R15: 2 | S15: 1 | T15: 1 | U15: 1 | V15: 1 | W15: 1 | X15: 1 | Y15: 1 | Z15: 1 | AA15: 1 | AB15: 1 | AC15: 1 | AD15: 4 | AE15: 1 | AF15: 1 | AG15: 2 | AH15: =sum(D15:AG15) -> 55
A16: 26/2023 | B16: {=iferror(iNDEX('Svi studenti'!$C$2:$C995,MATCH(A16, 'Svi studenti'!$B$2:$B995, 0)),"---")} -> Вуковић, Лола | C16: {=iferror(iNDEX('Svi studenti'!$G$2:$G995,MATCH(A16, 'Svi studenti'!$B$2:$B995, 0)),"---")} -> 3и1б | D16: 2 | E16: 4 | F16: 1 | G16: 0.5 | H16: 4 | I16: 0.5 | J16: 0.5 | K16: 4 | L16: 2 | M16: 0.5 | N16: 0.5 | O16: 2 | P16: 1 | Q16: 1 | R16: 1 | S16: 1 | T16: 0.5 | U16: 0.5 | V16: 0.5 | W16: 0.5 | X16: 0.5 | Y16: 0.5 | Z16: 0.5 | AA16: 0.5 | AB16: 0.5 | AC16: 0.5 | AD16: 1 | AE16: 1 | AF16: 1 | AG16: 1 | AH16: =sum(D16:AG16) -> 34.5
A17: 42/2023 | B17: {=iferror(iNDEX('Svi studenti'!$C$2:$C995,MATCH(A17, 'Svi studenti'!$B$2:$B995, 0)),"---")} -> Ивановић, Никола | C17: {=iferror(iNDEX('Svi studenti'!$G$2:$G995,MATCH(A17, 'Svi studenti'!$B$2:$B995, 0)),"---")} -> 3и1б | D17: 2 | E17: 4 | F17: 1 | G17: 0.5 | H17: 2 | I17: 2 | J17: 2 | K17: 2 | L17: 2 | M17: 0.5 | N17: 0.5 | O17: 2 | P17: 0.5 | Q17: 2 | R17: 2 | S17: 1 | T17: 0.5 | U17: 0 | V17: 0 | W17: 0 | X17: 0 | Y17: 0 | Z17: 0.5 | AA17: 0.5 | AB17: 0 | AC17: 0 | AD17: 0 | AE17: 1 | AF17: 0 | AG17: 0 | AH17: =sum(D17:AG17) -> 28.5
