Workbook

Sheet Rezultati
F1: Januar 1 | H1: Januar 2 | J1: 44348 | L1: 45445 | N1: Septembar 1 | P1: Septembar 2 | R1: Dodatni rok | T1: Septembar 1 (2023/24)
F2: Teorijski | G2: Prakticni | H2: Teorijski | I2: Prakticni | J2: Teorijski | K2: Prakticni | L2: Teorijski | M2: Prakticni | N2: Teorijski | O2: Prakticni | P2: Teorijski | Q2: Prakticni | R2: Teorijski | S2: Prakticni | T2: Teorijski | U2: Prakticni
A3: Br | B3: Indeks | C3: Ime i prezime | D3: Grupa | E3: Prisustvo
A4: 1 | B4: 154/2023 | C4: {=INDEX('Svi studenti'!$C$2:$C1001,MATCH(B4, 'Svi studenti'!$B$2:$B1001, 0))} -> Ајдуковић, Лука | D4: {=iferror(iNDEX('Svi studenti'!$G$2:$G1001,MATCH(B4, 'Svi studenti'!$B$2:$B1001, 0)),"---")} -> 3и1б | E4: {=iferror(iNDEX('Prisustvo-Vežbe'!$Q$4:$Q1001,MATCH(B4, 'Prisustvo-Vežbe'!$A$4:$A1001, 0)),"---")} -> 1 | G4: {=iferror(iNDEX('Januar 1'!$AH$5:$AH1001,MATCH(B4, 'Januar 1'!$A$5:$A1001, 0)),"---")} -> --- | I4: {=iferror(iNDEX('Januar 2'!$AM$5:$AM1001,MATCH(B4, 'Januar 2'!$A$5:$A1001, 0)),"---")} -> --- | K4: {=iferror(iNDEX('Jun1'!$AI$6:$AI1001,MATCH(B4, 'Jun1'!$A$6:$A1001, 0)),"---")} -> --- | M4: {=iferror(iNDEX('Jun2'!$AF$6:$AF1001,MATCH(B4, 'Jun2'!$A$6:$A1001, 0)),"---")} -> --- | O4: {=iferror(iNDEX('Sep1'!$AJ$6:$AJ1001,MATCH(B4, 'Sep1'!$A$6:$A1001, 0)),"---")} -> 53 | Q4: {=iferror(iNDEX('Sep2'!$AF$6:$AF1001,MATCH(B4, 'Sep2'!$A$6:$A1001, 0)),"---")} -> --- | S4: {=iferror(iNDEX(Dodatni!$AJ$6:$AJ1001,MATCH(B4, Dodatni!$A$6:$A1001, 0)),"---")} -> --- | U4: {=iferror(iNDEX('Sep1-2324'!$AQ$6:$AQ1001,MATCH(B4, 'Sep1-2324'!$A$6:$A1001, 0)),"---")} -> ---
A5: 2 | B5: 25/2018 | C5: {=INDEX('Svi studenti'!$C$2:$C1001,MATCH(B5, 'Svi studenti'!$B$2:$B1001, 0))} -> Арамбашић, Тодор | D5: {=iferror(iNDEX('Svi studenti'!$G$2:$G1001,MATCH(B5, 'Svi studenti'!$B$2:$B1001, 0)),"---")} -> 3и1а | E5: {=iferror(iNDEX('Prisustvo-Vežbe'!$Q$4:$Q1001,MATCH(B5, 'Prisustvo-Vežbe'!$A$4:$A1001, 0)),"---")} -> 0 | G5: {=iferror(iNDEX('Januar 1'!$AH$5:$AH1001,MATCH(B5, 'Januar 1'!$A$5:$A1001, 0)),"---")} -> --- | I5: {=iferror(iNDEX('Januar 2'!$AM$5:$AM1001,MATCH(B5, 'Januar 2'!$A$5:$A1001, 0)),"---")} -> --- | K5: {=iferror(iNDEX('Jun1'!$AI$6:$AI1001,MATCH(B5, 'Jun1'!$A$6:$A1001, 0)),"---")} -> --- | M5: {=iferror(iNDEX('Jun2'!$AF$6:$AF1001,MATCH(B5, 'Jun2'!$A$6:$A1001, 0)),"---")} -> --- | O5: {=iferror(iNDEX('Sep1'!$AJ$6:$AJ1001,MATCH(B5, 'Sep1'!$A$6:$A1001, 0)),"---")} -> --- | Q5: {=iferror(iNDEX('Sep2'!$AF$6:$AF1001,MATCH(B5, 'Sep2'!$A$6:$A1001, 0)),"---")} -> --- | S5: {=iferror(iNDEX(Dodatni!$AJ$6:$AJ1001,MATCH(B5, Dodatni!$A$6:$A1001, 0)),"---")} -> --- | U5: {=iferror(iNDEX('Sep1-2324'!$AQ$6:$AQ1001,MATCH(B5, 'Sep1-2324'!$A$6:$A1001, 0)),"---")} -> ---
A6: 3 | B6: 217/2023 | C6: {=INDEX('Svi studenti'!$C$2:$C1001,MATCH(B6, 'Svi studenti'!$B$2:$B1001, 0))} -> Аћимовић, Љубомир | D6: {=iferror(iNDEX('Svi studenti'!$G$2:$G1001,MATCH(B6, 'Svi studenti'!$B$2:$B1001, 0)),"---")} -> 3и1а | E6: {=iferror(iNDEX('Prisustvo-Vežbe'!$Q$4:$Q1001,MATCH(B6, 'Prisustvo-Vežbe'!$A$4:$A1001, 0)),"---")} -> 2.5 | G6: {=iferror(iNDEX('Januar 1'!$AH$5:$AH1001,MATCH(B6, 'Januar 1'!$A$5:$A1001, 0)),"---")} -> --- | I6: {=iferror(iNDEX('Januar 2'!$AM$5:$AM1001,MATCH(B6, 'Januar 2'!$A$5:$A1001, 0)),"---")} -> --- | K6: {=iferror(iNDEX('Jun1'!$AI$6:$AI1001,MATCH(B6, 'Jun1'!$A$6:$A1001, 0)),"---")} -> 28 | M6: {=iferror(iNDEX('Jun2'!$AF$6:$AF1001,MATCH(B6, 'Jun2'!$A$6:$A1001, 0)),"---")} -> --- | O6: {=iferror(iNDEX('Sep1'!$AJ$6:$AJ1001,MATCH(B6, 'Sep1'!$A$6:$A1001, 0)),"---")} -> --- | Q6: {=iferror(iNDEX('Sep2'!$AF$6:$AF1001,MATCH(B6, 'Sep2'!$A$6:$A1001, 0)),"---")} -> --- | S6: {=iferror(iNDEX(Dodatni!$AJ$6:$AJ1001,MATCH(B6, Dodatni!$A$6:$A1001, 0)),"---")} -> --- | U6: {=iferror(iNDEX('Sep1-2324'!$AQ$6:$AQ1001,MATCH(B6, 'Sep1-2324'!$A$6:$A1001, 0)),"---")} -> ---
A7: 4 | B7: 278/2021 | C7: {=INDEX('Svi studenti'!$C$2:$C1001,MATCH(B7, 'Svi studenti'!$B$2:$B1001, 0))} -> Бељић, Лазар | D7: {=iferror(iNDEX('Svi studenti'!$G$2:$G1001,MATCH(B7, 'Svi studenti'!$B$2:$B1001, 0)),"---")} -> 3и1б | E7: {=iferror(iNDEX('Prisustvo-Vežbe'!$Q$4:$Q1001,MATCH(B7, 'Prisustvo-Vežbe'!$A$4:$A1001, 0)),"---")} -> 4 | G7: {=iferror(iNDEX('Januar 1'!$AH$5:$AH1001,MATCH(B7, 'Januar 1'!$A$5:$A1001, 0)),"---")} -> --- | I7: {=iferror(iNDEX('Januar 2'!$AM$5:$AM1001,MATCH(B7, 'Januar 2'!$A$5:$A1001, 0)),"---")} -> --- | K7: {=iferror(iNDEX('Jun1'!$AI$6:$AI1001,MATCH(B7, 'Jun1'!$A$6:$A1001, 0)),"---")} -> --- | M7: {=iferror(iNDEX('Jun2'!$AF$6:$AF1001,MATCH(B7, 'Jun2'!$A$6:$A1001, 0)),"---")} -> --- | O7: {=iferror(iNDEX('Sep1'!$AJ$6:$AJ1001,MATCH(B7, 'Sep1'!$A$6:$A1001, 0)),"---")} -> --- | Q7: {=iferror(iNDEX('Sep2'!$AF$6:$AF1001,MATCH(B7, 'Sep2'!$A$6:$A1001, 0)),"---")} -> --- | S7: {=iferror(iNDEX(Dodatni!$AJ$6:$AJ1001,MATCH(B7, Dodatni!$A$6:$A1001, 0)),"---")} -> --- | U7: {=iferror(iNDEX('Sep1-2324'!$AQ$6:$AQ1001,MATCH(B7, 'Sep1-2324'!$A$6:$A1001, 0)),"---")} -> ---
A8: 5 | B8: 90/2023 | C8: {=INDEX('Svi studenti'!$C$2:$C1001,MATCH(B8, 'Svi studenti'!$B$2:$B1001, 0))} -> Божиновић, Дуња | D8: {=iferror(iNDEX('Svi studenti'!$G$2:$G1001,MATCH(B8, 'Svi studenti'!$B$2:$B1001, 0)),"---")} -> 3и1б | E8: {=iferror(iNDEX('Prisustvo-Vežbe'!$Q$4:$Q1001,MATCH(B8, 'Prisustvo-Vežbe'!$A$4:$A1001, 0)),"---")} -> 1 | G8: {=iferror(iNDEX('Januar 1'!$AH$5:$AH1001,MATCH(B8, 'Januar 1'!$A$5:$A1001, 0)),"---")} -> --- | I8: {=iferror(iNDEX('Januar 2'!$AM$5:$AM1001,MATCH(B8, 'Januar 2'!$A$5:$A1001, 0)),"---")} -> --- | K8: {=iferror(iNDEX('Jun1'!$AI$6:$AI1001,MATCH(B8, 'Jun1'!$A$6:$A1001, 0)),"---")} -> --- | M8: {=iferror(iNDEX('Jun2'!$AF$6:$AF1001,MATCH(B8, 'Jun2'!$A$6:$A1001, 0)),"---")} -> --- | O8: {=iferror(iNDEX('Sep1'!$AJ$6:$AJ1001,MATCH(B8, 'Sep1'!$A$6:$A1001, 0)),"---")} -> 22.5 | Q8: {=iferror(iNDEX('Sep2'!$AF$6:$AF1001,MATCH(B8, 'Sep2'!$A$6:$A1001, 0)),"---")} -> --- | S8: {=iferror(iNDEX(Dodatni!$AJ$6:$AJ1001,MATCH(B8, Dodatni!$A$6:$A1001, 0)),"---")} -> --- | U8: {=iferror(iNDEX('Sep1-2324'!$AQ$6:$AQ1001,MATCH(B8, 'Sep1-2324'!$A$6:$A1001, 0)),"---")} -> ---
A9: 6 | B9: 178/2021 | C9: {=INDEX('Svi studenti'!$C$2:$C1001,MATCH(B9, 'Svi studenti'!$B$2:$B1001, 0))} -> Будимир, Никола | D9: {=iferror(iNDEX('Svi studenti'!$G$2:$G1001,MATCH(B9, 'Svi studenti'!$B$2:$B1001, 0)),"---")} -> 3и1б | E9: {=iferror(iNDEX('Prisustvo-Vežbe'!$Q$4:$Q1001,MATCH(B9, 'Prisustvo-Vežbe'!$A$4:$A1001, 0)),"---")} -> 0 | G9: {=iferror(iNDEX('Januar 1'!$AH$5:$AH1001,MATCH(B9, 'Januar 1'!$A$5:$A1001, 0)),"---")} -> --- | I9: {=iferror(iNDEX('Januar 2'!$AM$5:$AM1001,MATCH(B9, 'Januar 2'!$A$5:$A1001, 0)),"---")} -> --- | K9: {=iferror(iNDEX('Jun1'!$AI$6:$AI1001,MATCH(B9, 'Jun1'!$A$6:$A1001, 0)),"---")} -> 22 | M9: {=iferror(iNDEX('Jun2'!$AF$6:$AF1001,MATCH(B9, 'Jun2'!$A$6:$A1001, 0)),"---")} -> --- | O9: {=iferror(iNDEX('Sep1'!$AJ$6:$AJ1001,MATCH(B9, 'Sep1'!$A$6:$A1001, 0)),"---")} -> --- | Q9: {=iferror(iNDEX('Sep2'!$AF$6:$AF1001,MATCH(B9, 'Sep2'!$A$6:$A1001, 0)),"---")} -> --- | S9: {=iferror(iNDEX(Dodatni!$AJ$6:$AJ1001,MATCH(B9, Dodatni!$A$6:$A1001, 0)),"---")} -> --- | U9: {=iferror(iNDEX('Sep1-2324'!$AQ$6:$AQ1001,MATCH(B9, 'Sep1-2324'!$A$6:$A1001, 0)),"---")} -> 23
A10: 7 | B10: 266/2021 | C10: {=INDEX('Svi studenti'!$C$2:$C1001,MATCH(B10, 'Svi studenti'!$B$2:$B1001, 0))} -> Влаховић, Иван | D10: {=iferror(iNDEX('Svi studenti'!$G$2:$G1001,MATCH(B10, 'Svi studenti'!$B$2:$B1001, 0)),"---")} -> 3и1б | E10: {=iferror(iNDEX('Prisustvo-Vežbe'!$Q$4:$Q1001,MATCH(B10, 'Prisustvo-Vežbe'!$A$4:$A1001, 0)),"---")} -> 4 | G10: {=iferror(iNDEX('Januar 1'!$AH$5:$AH1001,MATCH(B10, 'Januar 1'!$A$5:$A1001, 0)),"---")} -> 37 | I10: {=iferror(iNDEX('Januar 2'!$AM$5:$AM1001,MATCH(B10, 'Januar 2'!$A$5:$A1001, 0)),"---")} -> --- | K10: {=iferror(iNDEX('Jun1'!$AI$6:$AI1001,MATCH(B10, 'Jun1'!$A$6:$A1001, 0)),"---")} -> --- | M10: {=iferror(iNDEX('Jun2'!$AF$6:$AF1001,MATCH(B10, 'Jun2'!$A$6:$A1001, 0)),"---")} -> --- | O10: {=iferror(iNDEX('Sep1'!$AJ$6:$AJ1001,MATCH(B10, 'Sep1'!$A$6:$A1001, 0)),"---")} -> --- | Q10: {=iferror(iNDEX('Sep2'!$AF$6:$AF1001,MATCH(B10, 'Sep2'!$A$6:$A1001, 0)),"---")} -> --- | S10: {=iferror(iNDEX(Dodatni!$AJ$6:$AJ1001,MATCH(B10, Dodatni!$A$6:$A1001, 0)),"---")} -> --- | U10: {=iferror(iNDEX('Sep1-2324'!$AQ$6:$AQ1001,MATCH(B10, 'Sep1-2324'!$A$6:$A1001, 0)),"---")} -> ---
A11: 8 | B11: 26/2023 | C11: {=INDEX('Svi studenti'!$C$2:$C1001,MATCH(B11, 'Svi studenti'!$B$2:$B1001, 0))} -> Вуковић, Лола | D11: {=iferror(iNDEX('Svi studenti'!$G$2:$G1001,MATCH(B11, 'Svi studenti'!$B$2:$B1001, 0)),"---")} -> 3и1б | E11: {=iferror(iNDEX('Prisustvo-Vežbe'!$Q$4:$Q1001,MATCH(B11, 'Prisustvo-Vežbe'!$A$4:$A1001, 0)),"---")} -> 5 | G11: {=iferror(iNDEX('Januar 1'!$AH$5:$AH1001,MATCH(B11, 'Januar 1'!$A$5:$A1001, 0)),"---")} -> 34.5 | I11: {=iferror(iNDEX('Januar 2'!$AM$5:$AM1001,MATCH(B11, 'Januar 2'!$A$5:$A1001, 0)),"---")} -> --- | K11: {=iferror(iNDEX('Jun1'!$AI$6:$AI1001,MATCH(B11, 'Jun1'!$A$6:$A1001, 0)),"---")} -> --- | M11: {=iferror(iNDEX('Jun2'!$AF$6:$AF1001,MATCH(B11, 'Jun2'!$A$6:$A1001, 0)),"---")} -> --- | O11: {=iferror(iNDEX('Sep1'!$AJ$6:$AJ1001,MATCH(B11, 'Sep1'!$A$6:$A1001, 0)),"---")} -> --- | Q11: {=iferror(iNDEX('Sep2'!$AF$6:$AF1001,MATCH(B11, 'Sep2'!$A$6:$A1001, 0)),"---")} -> --- | S11: {=iferror(iNDEX(Dodatni!$AJ$6:$AJ1001,MATCH(B11, Dodatni!$A$6:$A1001, 0)),"---")} -> --- | U11: {=iferror(iNDEX('Sep1-2324'!$AQ$6:$AQ1001,MATCH(B11, 'Sep1-2324'!$A$6:$A1001, 0)),"---")} -> ---
A12: 9 | B12: 82/2022 | C12: {=INDEX('Svi studenti'!$C$2:$C1001,MATCH(B12, 'Svi studenti'!$B$2:$B1001, 0))} -> Глигорић, Мила | D12: {=iferror(iNDEX('Svi studenti'!$G$2:$G1001,MATCH(B12, 'Svi studenti'!$B$2:$B1001, 0)),"---")} -> 3и1б | E12: {=iferror(iNDEX('Prisustvo-Vežbe'!$Q$4:$Q1001,MATCH(B12, 'Prisustvo-Vežbe'!$A$4:$A1001, 0)),"---")} -> 1.5 | G12: {=iferror(iNDEX('Januar 1'!$AH$5:$AH1001,MATCH(B12, 'Januar 1'!$A$5:$A1001, 0)),"---")} -> --- | I12: {=iferror(iNDEX('Januar 2'!$AM$5:$AM1001,MATCH(B12, 'Januar 2'!$A$5:$A1001, 0)),"---")} -> --- | K12: {=iferror(iNDEX('Jun1'!$AI$6:$AI1001,MATCH(B12, 'Jun1'!$A$6:$A1001, 0)),"---")} -> --- | M12: {=iferror(iNDEX('Jun2'!$AF$6:$AF1001,MATCH(B12, 'Jun2'!$A$6:$A1001, 0)),"---")} -> --- | O12: {=iferror(iNDEX('Sep1'!$AJ$6:$AJ1001,MATCH(B12, 'Sep1'!$A$6:$A1001, 0)),"---")} -> --- | Q12: {=iferror(iNDEX('Sep2'!$AF$6:$AF1001,MATCH(B12, 'Sep2'!$A$6:$A1001, 0)),"---")} -> --- | S12: {=iferror(iNDEX(Dodatni!$AJ$6:$AJ1001,MATCH(B12, Dodatni!$A$6:$A1001, 0)),"---")} -> --- | U12: {=iferror(iNDEX('Sep1-2324'!$AQ$6:$AQ1001,MATCH(B12, 'Sep1-2324'!$A$6:$A1001, 0)),"---")} -> ---
A13: 10 | B13: 61/2023 | C13: {=INDEX('Svi studenti'!$C$2:$C1001,MATCH(B13, 'Svi studenti'!$B$2:$B1001, 0))} -> Грбовић, Теодора | D13: {=iferror(iNDEX('Svi studenti'!$G$2:$G1001,MATCH(B13, 'Svi studenti'!$B$2:$B1001, 0)),"---")} -> 3и1а | E13: {=iferror(iNDEX('Prisustvo-Vežbe'!$Q$4:$Q1001,MATCH(B13, 'Prisustvo-Vežbe'!$A$4:$A1001, 0)),"---")} -> 5 | G13: {=iferror(iNDEX('Januar 1'!$AH$5:$AH1001,MATCH(B13, 'Januar 1'!$A$5:$A1001, 0)),"---")} -> 33 | I13: {=iferror(iNDEX('Januar 2'!$AM$5:$AM1001,MATCH(B13, 'Januar 2'!$A$5:$A1001, 0)),"---")} -> 36 | K13: {=iferror(iNDEX('Jun1'!$AI$6:$AI1001,MATCH(B13, 'Jun1'!$A$6:$A1001, 0)),"---")} -> --- | M13: {=iferror(iNDEX('Jun2'!$AF$6:$AF1001,MATCH(B13, 'Jun2'!$A$6:$A1001, 0)),"---")} -> --- | O13: {=iferror(iNDEX('Sep1'!$AJ$6:$AJ1001,MATCH(B13, 'Sep1'!$A$6:$A1001, 0)),"---")} -> --- | Q13: {=iferror(iNDEX('Sep2'!$AF$6:$AF1001,MATCH(B13, 'Sep2'!$A$6:$A1001, 0)),"---")} -> --- | S13: {=iferror(iNDEX(Dodatni!$AJ$6:$AJ1001,MATCH(B13, Dodatni!$A$6:$A1001, 0)),"---")} -> --- | U13: {=iferror(iNDEX('Sep1-2324'!$AQ$6:$AQ1001,MATCH(B13, 'Sep1-2324'!$A$6:$A1001, 0)),"---")} -> ---
A14: 11 | B14: 305/2018 | C14: {=INDEX('Svi studenti'!$C$2:$C1001,MATCH(B14, 'Svi studenti'!$B$2:$B1001, 0))} -> Гудурић, Урош | D14: {=iferror(iNDEX('Svi studenti'!$G$2:$G1001,MATCH(B14, 'Svi studenti'!$B$2:$B1001, 0)),"---")} -> 3и1а | E14: {=iferror(iNDEX('Prisustvo-Vežbe'!$Q$4:$Q1001,MATCH(B14, 'Prisustvo-Vežbe'!$A$4:$A1001, 0)),"---")} -> 0 | G14: {=iferror(iNDEX('Januar 1'!$AH$5:$AH1001,MATCH(B14, 'Januar 1'!$A$5:$A1001, 0)),"---")} -> --- | I14: {=iferror(iNDEX('Januar 2'!$AM$5:$AM1001,MATCH(B14, 'Januar 2'!$A$5:$A1001, 0)),"---")} -> --- | K14: {=iferror(iNDEX('Jun1'!$AI$6:$AI1001,MATCH(B14, 'Jun1'!$A$6:$A1001, 0)),"---")} -> --- | M14: {=iferror(iNDEX('Jun2'!$AF$6:$AF1001,MATCH(B14, 'Jun2'!$A$6:$A1001, 0)),"---")} -> --- | O14: {=iferror(iNDEX('Sep1'!$AJ$6:$AJ1001,MATCH(B14, 'Sep1'!$A$6:$A1001, 0)),"---")} -> --- | Q14: {=iferror(iNDEX('Sep2'!$AF$6:$AF1001,MATCH(B14, 'Sep2'!$A$6:$A1001, 0)),"---")} -> --- | S14: {=iferror(iNDEX(Dodatni!$AJ$6:$AJ1001,MATCH(B14, Dodatni!$A$6:$A1001, 0)),"---")} -> --- | U14: {=iferror(iNDEX('Sep1-2324'!$AQ$6:$AQ1001,MATCH(B14, 'Sep1-2324'!$A$6:$A1001, 0)),"---")} -> ---
A15: 12 | B15: 377/2019 | C15: {=INDEX('Svi studenti'!$C$2:$C1001,MATCH(B15, 'Svi studenti'!$B$2:$B1001, 0))} -> Дамњановић, Татјана | D15: {=iferror(iNDEX('Svi studenti'!$G$2:$G1001,MATCH(B15, 'Svi studenti'!$B$2:$B1001, 0)),"---")} -> 3и1а | E15: {=iferror(iNDEX('Prisustvo-Vežbe'!$Q$4:$Q1001,MATCH(B15, 'Prisustvo-Vežbe'!$A$4:$A1001, 0)),"---")} -> 1 | G15: {=iferror(iNDEX('Januar 1'!$AH$5:$AH1001,MATCH(B15, 'Januar 1'!$A$5:$A1001, 0)),"---")} -> --- | I15: {=iferror(iNDEX('Januar 2'!$AM$5:$AM1001,MATCH(B15, 'Januar 2'!$A$5:$A1001, 0)),"---")} -> --- | K15: {=iferror(iNDEX('Jun1'!$AI$6:$AI1001,MATCH(B15, 'Jun1'!$A$6:$A1001, 0)),"---")} -> --- | M15: {=iferror(iNDEX('Jun2'!$AF$6:$AF1001,MATCH(B15, 'Jun2'!$A$6:$A1001, 0)),"---")} -> --- | O15: {=iferror(iNDEX('Sep1'!$AJ$6:$AJ1001,MATCH(B15, 'Sep1'!$A$6:$A1001, 0)),"---")} -> --- | Q15: {=iferror(iNDEX('Sep2'!$AF$6:$AF1001,MATCH(B15, 'Sep2'!$A$6:$A1001, 0)),"---")} -> --- | S15: {=iferror(iNDEX(Dodatni!$AJ$6:$AJ1001,MATCH(B15, Dodatni!$A$6:$A1001, 0)),"---")} -> --- | U15: {=iferror(iNDEX('Sep1-2324'!$AQ$6:$AQ1001,MATCH(B15, 'Sep1-2324'!$A$6:$A1001, 0)),"---")} -> ---
A16: 13 | B16: 141/2022 | C16: {=INDEX('Svi studenti'!$C$2:$C1001,MATCH(B16, 'Svi studenti'!$B$2:$B1001, 0))} -> Дељанин, Петар | D16: {=iferror(iNDEX('Svi studenti'!$G$2:$G1001,MATCH(B16, 'Svi studenti'!$B$2:$B1001, 0)),"---")} -> 3и1а | E16: {=iferror(iNDEX('Prisustvo-Vežbe'!$Q$4:$Q1001,MATCH(B16, 'Prisustvo-Vežbe'!$A$4:$A1001, 0)),"---")} -> 3 | G16: {=iferror(iNDEX('Januar 1'!$AH$5:$AH1001,MATCH(B16, 'Januar 1'!$A$5:$A1001, 0)),"---")} -> --- | I16: {=iferror(iNDEX('Januar 2'!$AM$5:$AM1001,MATCH(B16, 'Januar 2'!$A$5:$A1001, 0)),"---")} -> --- | K16: {=iferror(iNDEX('Jun1'!$AI$6:$AI1001,MATCH(B16, 'Jun1'!$A$6:$A1001, 0)),"---")} -> --- | M16: {=iferror(iNDEX('Jun2'!$AF$6:$AF1001,MATCH(B16, 'Jun2'!$A$6:$A1001, 0)),"---")} -> --- | O16: {=iferror(iNDEX('Sep1'!$AJ$6:$AJ1001,MATCH(B16, 'Sep1'!$A$6:$A1001, 0)),"---")} -> --- | Q16: {=iferror(iNDEX('Sep2'!$AF$6:$AF1001,MATCH(B16, 'Sep2'!$A$6:$A1001, 0)),"---")} -> 48.5 | S16: {=iferror(iNDEX(Dodatni!$AJ$6:$AJ1001,MATCH(B16, Dodatni!$A$6:$A1001, 0)),"---")} -> --- | U16: {=iferror(iNDEX('Sep1-2324'!$AQ$6:$AQ1001,MATCH(B16, 'Sep1-2324'!$A$6:$A1001, 0)),"---")} -> ---
A17: 14 | B17: 206/2022 | C17: {=INDEX('Svi studenti'!$C$2:$C1001,MATCH(B17, 'Svi studenti'!$B$2:$B1001, 0))} -> Дивјак, Анастасија | D17: {=iferror(iNDEX('Svi studenti'!$G$2:$G1001,MATCH(B17, 'Svi studenti'!$B$2:$B1001, 0)),"---")} -> 3и1б | E17: {=iferror(iNDEX('Prisustvo-Vežbe'!$Q$4:$Q1001,MATCH(B17, 'Prisustvo-Vežbe'!$A$4:$A1001, 0)),"---")} -> 2.5 | G17: {=iferror(iNDEX('Januar 1'!$AH$5:$AH1001,MATCH(B17, 'Januar 1'!$A$5:$A1001, 0)),"---")} -> --- | I17: {=iferror(iNDEX('Januar 2'!$AM$5:$AM1001,MATCH(B17, 'Januar 2'!$A$5:$A1001, 0)),"---")} -> 22 | K17: {=iferror(iNDEX('Jun1'!$AI$6:$AI1001,MATCH(B17, 'Jun1'!$A$6:$A1001, 0)),"---")} -> --- | M17: {=iferror(iNDEX('Jun2'!$AF$6:$AF1001,MATCH(B17, 'Jun2'!$A$6:$A1001, 0)),"---")} -> --- | O17: {=iferror(iNDEX('Sep1'!$AJ$6:$AJ1001,MATCH(B17, 'Sep1'!$A$6:$A1001, 0)),"---")} -> --- | Q17: {=iferror(iNDEX('Sep2'!$AF$6:$AF1001,MATCH(B17, 'Sep2'!$A$6:$A1001, 0)),"---")} -> --- | S17: {=iferror(iNDEX(Dodatni!$AJ$6:$AJ1001,MATCH(B17, Dodatni!$A$6:$A1001, 0)),"---")} -> --- | U17: {=iferror(iNDEX('Sep1-2324'!$AQ$6:$AQ1001,MATCH(B17, 'Sep1-2324'!$A$6:$A1001, 0)),"---")} -> ---
A18: 15 | B18: 98/2023 | C18: {=INDEX('Svi studenti'!$C$2:$C1001,MATCH(B18, 'Svi studenti'!$B$2:$B1001, 0))} -> Димитријевић, Младен | D18: {=iferror(iNDEX('Svi studenti'!$G$2:$G1001,MATCH(B18, 'Svi studenti'!$B$2:$B1001, 0)),"---")} -> 3и1б | E18: {=iferror(iNDEX('Prisustvo-Vežbe'!$Q$4:$Q1001,MATCH(B18, 'Prisustvo-Vežbe'!$A$4:$A1001, 0)),"---")} -> 5 | G18: {=iferror(iNDEX('Januar 1'!$AH$5:$AH1001,MATCH(B18, 'Januar 1'!$A$5:$A1001, 0)),"---")} -> 55 | I18: {=iferror(iNDEX('Januar 2'!$AM$5:$AM1001,MATCH(B18, 'Januar 2'!$A$5:$A1001, 0)),"---")} -> --- | K18: {=iferror(iNDEX('Jun1'!$AI$6:$AI1001,MATCH(B18, 'Jun1'!$A$6:$A1001, 0)),"---")} -> --- | M18: {=iferror(iNDEX('Jun2'!$AF$6:$AF1001,MATCH(B18, 'Jun2'!$A$6:$A1001, 0)),"---")} -> --- | O18: {=iferror(iNDEX('Sep1'!$AJ$6:$AJ1001,MATCH(B18, 'Sep1'!$A$6:$A1001, 0)),"---")} -> --- | Q18: {=iferror(iNDEX('Sep2'!$AF$6:$AF1001,MATCH(B18, 'Sep2'!$A$6:$A1001, 0)),"---")} -> --- | S18: {=iferror(iNDEX(Dodatni!$AJ$6:$AJ1001,MATCH(B18, Dodatni!$A$6:$A1001, 0)),"---")} -> --- | U18: {=iferror(iNDEX('Sep1-2324'!$AQ$6:$AQ1001,MATCH(B18, 'Sep1-2324'!$A$6:$A1001, 0)),"---")} -> ---
A19: 16 | B19: 122/2023 | C19: {=INDEX('Svi studenti'!$C$2:$C1001,MATCH(B19, 'Svi studenti'!$B$2:$B1001, 0))} -> Димитријевић, Никола | D19: {=iferror(iNDEX('Svi studenti'!$G$2:$G1001,MATCH(B19, 'Svi studenti'!$B$2:$B1001, 0)),"---")} -> 3и1б | E19: {=iferror(iNDEX('Prisustvo-Vežbe'!$Q$4:$Q1001,MATCH(B19, 'Prisustvo-Vežbe'!$A$4:$A1001, 0)),"---")} -> 5 | G19: {=iferror(iNDEX('Januar 1'!$AH$5:$AH1001,MATCH(B19, 'Januar 1'!$A$5:$A1001, 0)),"---")} -> 41.7 | I19: {=iferror(iNDEX('Januar 2'!$AM$5:$AM1001,MATCH(B19, 'Januar 2'!$A$5:$A1001, 0)),"---")} -> --- | K19: {=iferror(iNDEX('Jun1'!$AI$6:$AI1001,MATCH(B19, 'Jun1'!$A$6:$A1001, 0)),"---")} -> --- | M19: {=iferror(iNDEX('Jun2'!$AF$6:$AF1001,MATCH(B19, 'Jun2'!$A$6:$A1001, 0)),"---")} -> --- | O19: {=iferror(iNDEX('Sep1'!$AJ$6:$AJ1001,MATCH(B19, 'Sep1'!$A$6:$A1001, 0)),"---")} -> --- | Q19: {=iferror(iNDEX('Sep2'!$AF$6:$AF1001,MATCH(B19, 'Sep2'!$A$6:$A1001, 0)),"---")} -> --- | S19: {=iferror(iNDEX(Dodatni!$AJ$6:$AJ1001,MATCH(B19, Dodatni!$A$6:$A1001, 0)),"---")} -> --- | U19: {=iferror(iNDEX('Sep1-2324'!$AQ$6:$AQ1001,MATCH(B19, 'Sep1-2324'!$A$6:$A1001, 0)),"---")} -> ---
A20: 17 | B20: 401/2021 | C20: {=INDEX('Svi studenti'!$C$2:$C1001,MATCH(B20, 'Svi studenti'!$B$2:$B1001, 0))} -> Добросављевић, Исидора | D20: {=iferror(iNDEX('Svi studenti'!$G$2:$G1001,MATCH(B20, 'Svi studenti'!$B$2:$B1001, 0)),"---")} -> 3и1а | E20: {=iferror(iNDEX('Prisustvo-Vežbe'!$Q$4:$Q1001,MATCH(B20, 'Prisustvo-Vežbe'!$A$4:$A1001, 0)),"---")} -> 2.5 | G20: {=iferror(iNDEX('Januar 1'!$AH$5:$AH1001,MATCH(B20, 'Januar 1'!$A$5:$A1001, 0)),"---")} -> --- | I20: {=iferror(iNDEX('Januar 2'!$AM$5:$AM1001,MATCH(B20, 'Januar 2'!$A$5:$A1001, 0)),"---")} -> --- | K20: {=iferror(iNDEX('Jun1'!$AI$6:$AI1001,MATCH(B20, 'Jun1'!$A$6:$A1001, 0)),"---")} -> --- | M20: {=iferror(iNDEX('Jun2'!$AF$6:$AF1001,MATCH(B20, 'Jun2'!$A$6:$A1001, 0)),"---")} -> --- | O20: {=iferror(iNDEX('Sep1'!$AJ$6:$AJ1001,MATCH(B20, 'Sep1'!$A$6:$A1001, 0)),"---")} -> --- | Q20: {=iferror(iNDEX('Sep2'!$AF$6:$AF1001,MATCH(B20, 'Sep2'!$A$6:$A1001, 0)),"---")} -> 10 | S20: {=iferror(iNDEX(Dodatni!$AJ$6:$AJ1001,MATCH(B20, Dodatni!$A$6:$A1001, 0)),"---")} -> --- | U20: {=iferror(iNDEX('Sep1-2324'!$AQ$6:$AQ1001,MATCH(B20, 'Sep1-2324'!$A$6:$A1001, 0)),"---")} -> ---
A21: 18 | B21: 110/2019 | C21: {=INDEX('Svi studenti'!$C$2:$C1001,MATCH(B21, 'Svi studenti'!$B$2:$B1001, 0))} -> Докмановић, Нина | D21: {=iferror(iNDEX('Svi studenti'!$G$2:$G1001,MATCH(B21, 'Svi studenti'!$B$2:$B1001, 0)),"---")} -> 3и1б | E21: {=iferror(iNDEX('Prisustvo-Vežbe'!$Q$4:$Q1001,MATCH(B21, 'Prisustvo-Vežbe'!$A$4:$A1001, 0)),"---")} -> 3 | G21: {=iferror(iNDEX('Januar 1'!$AH$5:$AH1001,MATCH(B21, 'Januar 1'!$A$5:$A1001, 0)),"---")} -> --- | I21: {=iferror(iNDEX('Januar 2'!$AM$5:$AM1001,MATCH(B21, 'Januar 2'!$A$5:$A1001, 0)),"---")} -> --- | K21: {=iferror(iNDEX('Jun1'!$AI$6:$AI1001,MATCH(B21, 'Jun1'!$A$6:$A1001, 0)),"---")} -> --- | M21: {=iferror(iNDEX('Jun2'!$AF$6:$AF1001,MATCH(B21, 'Jun2'!$A$6:$A1001, 0)),"---")} -> --- | O21: {=iferror(iNDEX('Sep1'!$AJ$6:$AJ1001,MATCH(B21, 'Sep1'!$A$6:$A1001, 0)),"---")} -> 20 | Q21: {=iferror(iNDEX('Sep2'!$AF$6:$AF1001,MATCH(B21, 'Sep2'!$A$6:$A1001, 0)),"---")} -> 51 | S21: {=iferror(iNDEX(Dodatni!$AJ$6:$AJ1001,MATCH(B21, Dodatni!$A$6:$A1001, 0)),"---")} -> --- | U21: {=iferror(iNDEX('Sep1-2324'!$AQ$6:$AQ1001,MATCH(B21, 'Sep1-2324'!$A$6:$A1001, 0)),"---")} -> ---
A22: 19 | B22: 150/2023 | C22: {=INDEX('Svi studenti'!$C$2:$C1001,MATCH(B22, 'Svi studenti'!$B$2:$B1001, 0))} -> Ђорђевић, Александар | D22: {=iferror(iNDEX('Svi studenti'!$G$2:$G1001,MATCH(B22, 'Svi studenti'!$B$2:$B1001, 0)),"---")} -> 3и1б | E22: {=iferror(iNDEX('Prisustvo-Vežbe'!$Q$4:$Q1001,MATCH(B22, 'Prisustvo-Vežbe'!$A$4:$A1001, 0)),"---")} -> 0.5 | G22: {=iferror(iNDEX('Januar 1'!$AH$5:$AH1001,MATCH(B22, 'Januar 1'!$A$5:$A1001, 0)),"---")} -> --- | I22: {=iferror(iNDEX('Januar 2'!$AM$5:$AM1001,MATCH(B22, 'Januar 2'!$A$5:$A1001, 0)),"---")} -> --- | K22: {=iferror(iNDEX('Jun1'!$AI$6:$AI1001,MATCH(B22, 'Jun1'!$A$6:$A1001, 0)),"---")} -> --- | M22: {=iferror(iNDEX('Jun2'!$AF$6:$AF1001,MATCH(B22, 'Jun2'!$A$6:$A1001, 0)),"---")} -> --- | O22: {=iferror(iNDEX('Sep1'!$AJ$6:$AJ1001,MATCH(B22, 'Sep1'!$A$6:$A1001, 0)),"---")} -> 34 | Q22: {=iferror(iNDEX('Sep2'!$AF$6:$AF1001,MATCH(B22, 'Sep2'!$A$6:$A1001, 0)),"---")} -> --- | S22: {=iferror(iNDEX(Dodatni!$AJ$6:$AJ1001,MATCH(B22, Dodatni!$A$6:$A1001, 0)),"---")} -> --- | U22: {=iferror(iNDEX('Sep1-2324'!$AQ$6:$AQ1001,MATCH(B22, 'Sep1-2324'!$A$6:$A1001, 0)),"---")} -> ---
A23: 20 | B23: 69/2023 | C23: {=INDEX('Svi studenti'!$C$2:$C1001,MATCH(B23, 'Svi studenti'!$B$2:$B1001, 0))} -> Ђорђевић, Чедомир | D23: {=iferror(iNDEX('Svi studenti'!$G$2:$G1001,MATCH(B23, 'Svi studenti'!$B$2:$B1001, 0)),"---")} -> 3и1а | E23: {=iferror(iNDEX('Prisustvo-Vežbe'!$Q$4:$Q1001,MATCH(B23, 'Prisustvo-Vežbe'!$A$4:$A1001, 0)),"---")} -> 0 | G23: {=iferror(iNDEX('Januar 1'!$AH$5:$AH1001,MATCH(B23, 'Januar 1'!$A$5:$A1001, 0)),"---")} -> 23.5 | I23: {=iferror(iNDEX('Januar 2'!$AM$5:$AM1001,MATCH(B23, 'Januar 2'!$A$5:$A1001, 0)),"---")} -> --- | K23: {=iferror(iNDEX('Jun1'!$AI$6:$AI1001,MATCH(B23, 'Jun1'!$A$6:$A1001, 0)),"---")} -> --- | M23: {=iferror(iNDEX('Jun2'!$AF$6:$AF1001,MATCH(B23, 'Jun2'!$A$6:$A1001, 0)),"---")} -> --- | O23: {=iferror(iNDEX('Sep1'!$AJ$6:$AJ1001,MATCH(B23, 'Sep1'!$A$6:$A1001, 0)),"---")} -> --- | Q23: {=iferror(iNDEX('Sep2'!$AF$6:$AF1001,MATCH(B23, 'Sep2'!$A$6:$A1001, 0)),"---")} -> --- | S23: {=iferror(iNDEX(Dodatni!$AJ$6:$AJ1001,MATCH(B23, Dodatni!$A$6:$A1001, 0)),"---")} -> --- | U23: {=iferror(iNDEX('Sep1-2324'!$AQ$6:$AQ1001,MATCH(B23, 'Sep1-2324'!$A$6:$A1001, 0)),"---")} -> ---
A24: 21 | B24: 214/2023 | C24: {=INDEX('Svi studenti'!$C$2:$C1001,MATCH(B24, 'Svi studenti'!$B$2:$B1001, 0))} -> Ђуровић, Слађана | D24: {=iferror(iNDEX('Svi studenti'!$G$2:$G1001,MATCH(B24, 'Svi studenti'!$B$2:$B1001, 0)),"---")} -> 3и1б | E24: {=iferror(iNDEX('Prisustvo-Vežbe'!$Q$4:$Q1001,MATCH(B24, 'Prisustvo-Vežbe'!$A$4:$A1001, 0)),"---")} -> 5 | G24: {=iferror(iNDEX('Januar 1'!$AH$5:$AH1001,MATCH(B24, 'Januar 1'!$A$5:$A1001, 0)),"---")} -> --- | I24: {=iferror(iNDEX('Januar 2'!$AM$5:$AM1001,MATCH(B24, 'Januar 2'!$A$5:$A1001, 0)),"---")} -> --- | K24: {=iferror(iNDEX('Jun1'!$AI$6:$AI1001,MATCH(B24, 'Jun1'!$A$6:$A1001, 0)),"---")} -> --- | M24: {=iferror(iNDEX('Jun2'!$AF$6:$AF1001,MATCH(B24, 'Jun2'!$A$6:$A1001, 0)),"---")} -> --- | O24: {=iferror(iNDEX('Sep1'!$AJ$6:$AJ1001,MATCH(B24, 'Sep1'!$A$6:$A1001, 0)),"---")} -> 5 | Q24: {=iferror(iNDEX('Sep2'!$AF$6:$AF1001,MATCH(B24, 'Sep2'!$A$6:$A1001, 0)),"---")} -> 2 | S24: {=iferror(iNDEX(Dodatni!$AJ$6:$AJ1001,MATCH(B24, Dodatni!$A$6:$A1001, 0)),"---")} -> --- | U24: {=iferror(iNDEX('Sep1-2324'!$AQ$6:$AQ1001,MATCH(B24, 'Sep1-2324'!$A$6:$A1001, 0)),"---")} -> ---
A25: 22 | B25: 345/2021 | C25: {=INDEX('Svi studenti'!$C$2:$C1001,MATCH(B25, 'Svi studenti'!$B$2:$B1001, 0))} -> Здјелар, Катарина | D25: {=iferror(iNDEX('Svi studenti'!$G$2:$G1001,MATCH(B25, 'Svi studenti'!$B$2:$B1001, 0)),"---")} -> 3и1а | E25: {=iferror(iNDEX('Prisustvo-Vežbe'!$Q$4:$Q1001,MATCH(B25, 'Prisustvo-Vežbe'!$A$4:$A1001, 0)),"---")} -> 0 | G25: {=iferror(iNDEX('Januar 1'!$AH$5:$AH1001,MATCH(B25, 'Januar 1'!$A$5:$A1001, 0)),"---")} -> --- | I25: {=iferror(iNDEX('Januar 2'!$AM$5:$AM1001,MATCH(B25, 'Januar 2'!$A$5:$A1001, 0)),"---")} -> --- | K25: {=iferror(iNDEX('Jun1'!$AI$6:$AI1001,MATCH(B25, 'Jun1'!$A$6:$A1001, 0)),"---")} -> --- | M25: {=iferror(iNDEX('Jun2'!$AF$6:$AF1001,MATCH(B25, 'Jun2'!$A$6:$A1001, 0)),"---")} -> --- | O25: {=iferror(iNDEX('Sep1'!$AJ$6:$AJ1001,MATCH(B25, 'Sep1'!$A$6:$A1001, 0)),"---")} -> --- | Q25: {=iferror(iNDEX('Sep2'!$AF$6:$AF1001,MATCH(B25, 'Sep2'!$A$6:$A1001, 0)),"---")} -> 12.5 | S25: {=iferror(iNDEX(Dodatni!$AJ$6:$AJ1001,MATCH(B25, Dodatni!$A$6:$A1001, 0)),"---")} -> --- | U25: {=iferror(iNDEX('Sep1-2324'!$AQ$6:$AQ1001,MATCH(B25, 'Sep1-2324'!$A$6:$A1001, 0)),"---")} -> ---
A26: 23 | B26: 37/2023 | C26: {=INDEX('Svi studenti'!$C$2:$C1001,MATCH(B26, 'Svi studenti'!$B$2:$B1001, 0))} -> Иваниан, Сергеи | D26: {=iferror(iNDEX('Svi studenti'!$G$2:$G1001,MATCH(B26, 'Svi studenti'!$B$2:$B1001, 0)),"---")} -> 3и1а | E26: {=iferror(iNDEX('Prisustvo-Vežbe'!$Q$4:$Q1001,MATCH(B26, 'Prisustvo-Vežbe'!$A$4:$A1001, 0)),"---")} -> 5 | G26: {=iferror(iNDEX('Januar 1'!$AH$5:$AH1001,MATCH(B26, 'Januar 1'!$A$5:$A1001, 0)),"---")} -> 50.5 | I26: {=iferror(iNDEX('Januar 2'!$AM$5:$AM1001,MATCH(B26, 'Januar 2'!$A$5:$A1001, 0)),"---")} -> --- | K26: {=iferror(iNDEX('Jun1'!$AI$6:$AI1001,MATCH(B26, 'Jun1'!$A$6:$A1001, 0)),"---")} -> --- | M26: {=iferror(iNDEX('Jun2'!$AF$6:$AF1001,MATCH(B26, 'Jun2'!$A$6:$A1001, 0)),"---")} -> --- | O26: {=iferror(iNDEX('Sep1'!$AJ$6:$AJ1001,MATCH(B26, 'Sep1'!$A$6:$A1001, 0)),"---")} -> --- | Q26: {=iferror(iNDEX('Sep2'!$AF$6:$AF1001,MATCH(B26, 'Sep2'!$A$6:$A1001, 0)),"---")} -> --- | S26: {=iferror(iNDEX(Dodatni!$AJ$6:$AJ1001,MATCH(B26, Dodatni!$A$6:$A1001, 0)),"---")} -> --- | U26: {=iferror(iNDEX('Sep1-2324'!$AQ$6:$AQ1001,MATCH(B26, 'Sep1-2324'!$A$6:$A1001, 0)),"---")} -> ---
A27: 24 | B27: 62/2018 | C27: {=INDEX('Svi studenti'!$C$2:$C1001,MATCH(B27, 'Svi studenti'!$B$2:$B1001, 0))} -> Ивановић, Нада | D27: {=iferror(iNDEX('Svi studenti'!$G$2:$G1001,MATCH(B27, 'Svi studenti'!$B$2:$B1001, 0)),"---")} -> 3и1б | E27: {=iferror(iNDEX('Prisustvo-Vežbe'!$Q$4:$Q1001,MATCH(B27, 'Prisustvo-Vežbe'!$A$4:$A1001, 0)),"---")} -> 0 | G27: {=iferror(iNDEX('Januar 1'!$AH$5:$AH1001,MATCH(B27, 'Januar 1'!$A$5:$A1001, 0)),"---")} -> --- | I27: {=iferror(iNDEX('Januar 2'!$AM$5:$AM1001,MATCH(B27, 'Januar 2'!$A$5:$A1001, 0)),"---")} -> --- | K27: {=iferror(iNDEX('Jun1'!$AI$6:$AI1001,MATCH(B27, 'Jun1'!$A$6:$A1001, 0)),"---")} -> --- | M27: {=iferror(iNDEX('Jun2'!$AF$6:$AF1001,MATCH(B27, 'Jun2'!$A$6:$A1001, 0)),"---")} -> --- | O27: {=iferror(iNDEX('Sep1'!$AJ$6:$AJ1001,MATCH(B27, 'Sep1'!$A$6:$A1001, 0)),"---")} -> --- | Q27: {=iferror(iNDEX('Sep2'!$AF$6:$AF1001,MATCH(B27, 'Sep2'!$A$6:$A1001, 0)),"---")} -> --- | S27: {=iferror(iNDEX(Dodatni!$AJ$6:$AJ1001,MATCH(B27, Dodatni!$A$6:$A1001, 0)),"---")} -> --- | U27: {=iferror(iNDEX('Sep1-2324'!$AQ$6:$AQ1001,MATCH(B27, 'Sep1-2324'!$A$6:$A1001, 0)),"---")} -> ---
A28: 25 | B28: 42/2023 | C28: {=INDEX('Svi studenti'!$C$2:$C1001,MATCH(B28, 'Svi studenti'!$B$2:$B1001, 0))} -> Ивановић, Никола | D28: {=iferror(iNDEX('Svi studenti'!$G$2:$G1001,MATCH(B28, 'Svi studenti'!$B$2:$B1001, 0)),"---")} -> 3и1б | E28: {=iferror(iNDEX('Prisustvo-Vežbe'!$Q$4:$Q1001,MATCH(B28, 'Prisustvo-Vežbe'!$A$4:$A1001, 0)),"---")} -> 4 | G28: {=iferror(iNDEX('Januar 1'!$AH$5:$AH1001,MATCH(B28, 'Januar 1'!$A$5:$A1001, 0)),"---")} -> 28.5 | I28: {=iferror(iNDEX('Januar 2'!$AM$5:$AM1001,MATCH(B28, 'Januar 2'!$A$5:$A1001, 0)),"---")} -> --- | K28: {=iferror(iNDEX('Jun1'!$AI$6:$AI1001,MATCH(B28, 'Jun1'!$A$6:$A1001, 0)),"---")} -> --- | M28: {=iferror(iNDEX('Jun2'!$AF$6:$AF1001,MATCH(B28, 'Jun2'!$A$6:$A1001, 0)),"---")} -> --- | O28: {=iferror(iNDEX('Sep1'!$AJ$6:$AJ1001,MATCH(B28, 'Sep1'!$A$6:$A1001, 0)),"---")} -> --- | Q28: {=iferror(iNDEX('Sep2'!$AF$6:$AF1001,MATCH(B28, 'Sep2'!$A$6:$A1001, 0)),"---")} -> --- | S28: {=iferror(iNDEX(Dodatni!$AJ$6:$AJ1001,MATCH(B28, Dodatni!$A$6:$A1001, 0)),"---")} -> --- | U28: {=iferror(iNDEX('Sep1-2324'!$AQ$6:$AQ1001,MATCH(B28, 'Sep1-2324'!$A$6:$A1001, 0)),"---")} -> ---
A29: 26 | B29: 273/2022 | C29: {=INDEX('Svi studenti'!$C$2:$C1001,MATCH(B29, 'Svi studenti'!$B$2:$B1001, 0))} -> Јанковић, Урош | D29: {=iferror(iNDEX('Svi studenti'!$G$2:$G1001,MATCH(B29, 'Svi studenti'!$B$2:$B1001, 0)),"---")} -> 3и1а | E29: {=iferror(iNDEX('Prisustvo-Vežbe'!$Q$4:$Q1001,MATCH(B29, 'Prisustvo-Vežbe'!$A$4:$A1001, 0)),"---")} -> 5 | G29: {=iferror(iNDEX('Januar 1'!$AH$5:$AH1001,MATCH(B29, 'Januar 1'!$A$5:$A1001, 0)),"---")} -> --- | I29: {=iferror(iNDEX('Januar 2'!$AM$5:$AM1001,MATCH(B29, 'Januar 2'!$A$5:$A1001, 0)),"---")} -> --- | K29: {=iferror(iNDEX('Jun1'!$AI$6:$AI1001,MATCH(B29, 'Jun1'!$A$6:$A1001, 0)),"---")} -> --- | M29: {=iferror(iNDEX('Jun2'!$AF$6:$AF1001,MATCH(B29, 'Jun2'!$A$6:$A1001, 0)),"---")} -> --- | O29: {=iferror(iNDEX('Sep1'!$AJ$6:$AJ1001,MATCH(B29, 'Sep1'!$A$6:$A1001, 0)),"---")} -> --- | Q29: {=iferror(iNDEX('Sep2'!$AF$6:$AF1001,MATCH(B29, 'Sep2'!$A$6:$A1001, 0)),"---")} -> --- | S29: {=iferror(iNDEX(Dodatni!$AJ$6:$AJ1001,MATCH(B29, Dodatni!$A$6:$A1001, 0)),"---")} -> --- | U29: {=iferror(iNDEX('Sep1-2324'!$AQ$6:$AQ1001,MATCH(B29, 'Sep1-2324'!$A$6:$A1001, 0)),"---")} -> ---
A30: 27 | B30: 109/2022 | C30: {=INDEX('Svi studenti'!$C$2:$C1001,MATCH(B30, 'Svi studenti'!$B$2:$B1001, 0))} -> Јевремовић, Исидора | D30: {=iferror(iNDEX('Svi studenti'!$G$2:$G1001,MATCH(B30, 'Svi studenti'!$B$2:$B1001, 0)),"---")} -> 3и1а | E30: {=iferror(iNDEX('Prisustvo-Vežbe'!$Q$4:$Q1001,MATCH(B30, 'Prisustvo-Vežbe'!$A$4:$A1001, 0)),"---")} -> 4 | G30: {=iferror(iNDEX('Januar 1'!$AH$5:$AH1001,MATCH(B30, 'Januar 1'!$A$5:$A1001, 0)),"---")} -> 26.5 | I30: {=iferror(iNDEX('Januar 2'!$AM$5:$AM1001,MATCH(B30, 'Januar 2'!$A$5:$A1001, 0)),"---")} -> --- | K30: {=iferror(iNDEX('Jun1'!$AI$6:$AI1001,MATCH(B30, 'Jun1'!$A$6:$A1001, 0)),"---")} -> --- | M30: {=iferror(iNDEX('Jun2'!$AF$6:$AF1001,MATCH(B30, 'Jun2'!$A$6:$A1001, 0)),"---")} -> --- | O30: {=iferror(iNDEX('Sep1'!$AJ$6:$AJ1001,MATCH(B30, 'Sep1'!$A$6:$A1001, 0)),"---")} -> --- | Q30: {=iferror(iNDEX('Sep2'!$AF$6:$AF1001,MATCH(B30, 'Sep2'!$A$6:$A1001, 0)),"---")} -> --- | S30: {=iferror(iNDEX(Dodatni!$AJ$6:$AJ1001,MATCH(B30, Dodatni!$A$6:$A1001, 0)),"---")} -> --- | U30: {=iferror(iNDEX('Sep1-2324'!$AQ$6:$AQ1001,MATCH(B30, 'Sep1-2324'!$A$6:$A1001, 0)),"---")} -> ---
A31: 28 | B31: 174/2021 | C31: {=INDEX('Svi studenti'!$C$2:$C1001,MATCH(B31, 'Svi studenti'!$B$2:$B1001, 0))} -> Јовановић, Ана | D31: {=iferror(iNDEX('Svi studenti'!$G$2:$G1001,MATCH(B31, 'Svi studenti'!$B$2:$B1001, 0)),"---")} -> 3и1б | E31: {=iferror(iNDEX('Prisustvo-Vežbe'!$Q$4:$Q1001,MATCH(B31, 'Prisustvo-Vežbe'!$A$4:$A1001, 0)),"---")} -> 1.5 | G31: {=iferror(iNDEX('Januar 1'!$AH$5:$AH1001,MATCH(B31, 'Januar 1'!$A$5:$A1001, 0)),"---")} -> --- | I31: {=iferror(iNDEX('Januar 2'!$AM$5:$AM1001,MATCH(B31, 'Januar 2'!$A$5:$A1001, 0)),"---")} -> 5.5 | K31: {=iferror(iNDEX('Jun1'!$AI$6:$AI1001,MATCH(B31, 'Jun1'!$A$6:$A1001, 0)),"---")} -> 19 | M31: {=iferror(iNDEX('Jun2'!$AF$6:$AF1001,MATCH(B31, 'Jun2'!$A$6:$A1001, 0)),"---")} -> 32.5 | O31: {=iferror(iNDEX('Sep1'!$AJ$6:$AJ1001,MATCH(B31, 'Sep1'!$A$6:$A1001, 0)),"---")} -> --- | Q31: {=iferror(iNDEX('Sep2'!$AF$6:$AF1001,MATCH(B31, 'Sep2'!$A$6:$A1001, 0)),"---")} -> --- | S31: {=iferror(iNDEX(Dodatni!$AJ$6:$AJ1001,MATCH(B31, Dodatni!$A$6:$A1001, 0)),"---")} -> --- | U31: {=iferror(iNDEX('Sep1-2324'!$AQ$6:$AQ1001,MATCH(B31, 'Sep1-2324'!$A$6:$A1001, 0)),"---")} -> ---
A32: 29 | B32: 50/2023 | C32: {=INDEX('Svi studenti'!$C$2:$C1001,MATCH(B32, 'Svi studenti'!$B$2:$B1001, 0))} -> Јовановић, Ђорђе | D32: {=iferror(iNDEX('Svi studenti'!$G$2:$G1001,MATCH(B32, 'Svi studenti'!$B$2:$B1001, 0)),"---")} -> 3и1б | E32: {=iferror(iNDEX('Prisustvo-Vežbe'!$Q$4:$Q1001,MATCH(B32, 'Prisustvo-Vežbe'!$A$4:$A1001, 0)),"---")} -> 1.5 | G32: {=iferror(iNDEX('Januar 1'!$AH$5:$AH1001,MATCH(B32, 'Januar 1'!$A$5:$A1001, 0)),"---")} -> --- | I32: {=iferror(iNDEX('Januar 2'!$AM$5:$AM1001,MATCH(B32, 'Januar 2'!$A$5:$A1001, 0)),"---")} -> 23 | K32: {=iferror(iNDEX('Jun1'!$AI$6:$AI1001,MATCH(B32, 'Jun1'!$A$6:$A1001, 0)),"---")} -> 41 | M32: {=iferror(iNDEX('Jun2'!$AF$6:$AF1001,MATCH(B32, 'Jun2'!$A$6:$A1001, 0)),"---")} -> 52 | O32: {=iferror(iNDEX('Sep1'!$AJ$6:$AJ1001,MATCH(B32, 'Sep1'!$A$6:$A1001, 0)),"---")} -> --- | Q32: {=iferror(iNDEX('Sep2'!$AF$6:$AF1001,MATCH(B32, 'Sep2'!$A$6:$A1001, 0)),"---")} -> --- | S32: {=iferror(iNDEX(Dodatni!$AJ$6:$AJ1001,MATCH(B32, Dodatni!$A$6:$A1001, 0)),"---")} -> --- | U32: {=iferror(iNDEX('Sep1-2324'!$AQ$6:$AQ1001,MATCH(B32, 'Sep1-2324'!$A$6:$A1001, 0)),"---")} -> ---
A33: 30 | B33: 34/2023 | C33: {=INDEX('Svi studenti'!$C$2:$C1001,MATCH(B33, 'Svi studenti'!$B$2:$B1001, 0))} -> Јовановић, Лазар | D33: {=iferror(iNDEX('Svi studenti'!$G$2:$G1001,MATCH(B33, 'Svi studenti'!$B$2:$B1001, 0)),"---")} -> 3и1б | E33: {=iferror(iNDEX('Prisustvo-Vežbe'!$Q$4:$Q1001,MATCH(B33, 'Prisustvo-Vežbe'!$A$4:$A1001, 0)),"---")} -> 5 | G33: {=iferror(iNDEX('Januar 1'!$AH$5:$AH1001,MATCH(B33, 'Januar 1'!$A$5:$A1001, 0)),"---")} -> 55 | I33: {=iferror(iNDEX('Januar 2'!$AM$5:$AM1001,MATCH(B33, 'Januar 2'!$A$5:$A1001, 0)),"---")} -> --- | K33: {=iferror(iNDEX('Jun1'!$AI$6:$AI1001,MATCH(B33, 'Jun1'!$A$6:$A1001, 0)),"---")} -> --- | M33: {=iferror(iNDEX('Jun2'!$AF$6:$AF1001,MATCH(B33, 'Jun2'!$A$6:$A1001, 0)),"---")} -> --- | O33: {=iferror(iNDEX('Sep1'!$AJ$6:$AJ1001,MATCH(B33, 'Sep1'!$A$6:$A1001, 0)),"---")} -> --- | Q33: {=iferror(iNDEX('Sep2'!$AF$6:$AF1001,MATCH(B33, 'Sep2'!$A$6:$A1001, 0)),"---")} -> --- | S33: {=iferror(iNDEX(Dodatni!$AJ$6:$AJ1001,MATCH(B33, Dodatni!$A$6:$A1001, 0)),"---")} -> --- | U33: {=iferror(iNDEX('Sep1-2324'!$AQ$6:$AQ1001,MATCH(B33, 'Sep1-2324'!$A$6:$A1001, 0)),"---")} -> ---
A34: 31 | B34: 86/2015 | C34: {=INDEX('Svi studenti'!$C$2:$C1001,MATCH(B34, 'Svi studenti'!$B$2:$B1001, 0))} -> Каракаш, Линда Анђела | D34: {=iferror(iNDEX('Svi studenti'!$G$2:$G1001,MATCH(B34, 'Svi studenti'!$B$2:$B1001, 0)),"---")} -> 3и1б | E34: {=iferror(iNDEX('Prisustvo-Vežbe'!$Q$4:$Q1001,MATCH(B34, 'Prisustvo-Vežbe'!$A$4:$A1001, 0)),"---")} -> 0 | G34: {=iferror(iNDEX('Januar 1'!$AH$5:$AH1001,MATCH(B34, 'Januar 1'!$A$5:$A1001, 0)),"---")} -> --- | I34: {=iferror(iNDEX('Januar 2'!$AM$5:$AM1001,MATCH(B34, 'Januar 2'!$A$5:$A1001, 0)),"---")} -> 23 | K34: {=iferror(iNDEX('Jun1'!$AI$6:$AI1001,MATCH(B34, 'Jun1'!$A$6:$A1001, 0)),"---")} -> --- | M34: {=iferror(iNDEX('Jun2'!$AF$6:$AF1001,MATCH(B34, 'Jun2'!$A$6:$A1001, 0)),"---")} -> --- | O34: {=iferror(iNDEX('Sep1'!$AJ$6:$AJ1001,MATCH(B34, 'Sep1'!$A$6:$A1001, 0)),"---")} -> --- | Q34: {=iferror(iNDEX('Sep2'!$AF$6:$AF1001,MATCH(B34, 'Sep2'!$A$6:$A1001, 0)),"---")} -> --- | S34: {=iferror(iNDEX(Dodatni!$AJ$6:$AJ1001,MATCH(B34, Dodatni!$A$6:$A1001, 0)),"---")} -> --- | U34: {=iferror(iNDEX('Sep1-2324'!$AQ$6:$AQ1001,MATCH(B34, 'Sep1-2324'!$A$6:$A1001, 0)),"---")} -> ---
A35: 32 | B35: 402/2021 | C35: {=INDEX('Svi studenti'!$C$2:$C1001,MATCH(B35, 'Svi studenti'!$B$2:$B1001, 0))} -> Ковачић, Анђела | D35: {=iferror(iNDEX('Svi studenti'!$G$2:$G1001,MATCH(B35, 'Svi studenti'!$B$2:$B1001, 0)),"---")} -> 3и1б | E35: {=iferror(iNDEX('Prisustvo-Vežbe'!$Q$4:$Q1001,MATCH(B35, 'Prisustvo-Vežbe'!$A$4:$A1001, 0)),"---")} -> 0 | G35: {=iferror(iNDEX('Januar 1'!$AH$5:$AH1001,MATCH(B35, 'Januar 1'!$A$5:$A1001, 0)),"---")} -> --- | I35: {=iferror(iNDEX('Januar 2'!$AM$5:$AM1001,MATCH(B35, 'Januar 2'!$A$5:$A1001, 0)),"---")} -> --- | K35: {=iferror(iNDEX('Jun1'!$AI$6:$AI1001,MATCH(B35, 'Jun1'!$A$6:$A1001, 0)),"---")} -> --- | M35: {=iferror(iNDEX('Jun2'!$AF$6:$AF1001,MATCH(B35, 'Jun2'!$A$6:$A1001, 0)),"---")} -> --- | O35: {=iferror(iNDEX('Sep1'!$AJ$6:$AJ1001,MATCH(B35, 'Sep1'!$A$6:$A1001, 0)),"---")} -> --- | Q35: {=iferror(iNDEX('Sep2'!$AF$6:$AF1001,MATCH(B35, 'Sep2'!$A$6:$A1001, 0)),"---")} -> --- | S35: {=iferror(iNDEX(Dodatni!$AJ$6:$AJ1001,MATCH(B35, Dodatni!$A$6:$A1001, 0)),"---")} -> --- | U35: {=iferror(iNDEX('Sep1-2324'!$AQ$6:$AQ1001,MATCH(B35, 'Sep1-2324'!$A$6:$A1001, 0)),"---")} -> ---
A36: 33 | B36: 221/2021 | C36: {=INDEX('Svi studenti'!$C$2:$C1001,MATCH(B36, 'Svi studenti'!$B$2:$B1001, 0))} -> Костић, Нађа | D36: {=iferror(iNDEX('Svi studenti'!$G$2:$G1001,MATCH(B36, 'Svi studenti'!$B$2:$B1001, 0)),"---")} -> 3и1а | E36: {=iferror(iNDEX('Prisustvo-Vežbe'!$Q$4:$Q1001,MATCH(B36, 'Prisustvo-Vežbe'!$A$4:$A1001, 0)),"---")} -> 2.5 | G36: {=iferror(iNDEX('Januar 1'!$AH$5:$AH1001,MATCH(B36, 'Januar 1'!$A$5:$A1001, 0)),"---")} -> 22 | I36: {=iferror(iNDEX('Januar 2'!$AM$5:$AM1001,MATCH(B36, 'Januar 2'!$A$5:$A1001, 0)),"---")} -> --- | K36: {=iferror(iNDEX('Jun1'!$AI$6:$AI1001,MATCH(B36, 'Jun1'!$A$6:$A1001, 0)),"---")} -> --- | M36: {=iferror(iNDEX('Jun2'!$AF$6:$AF1001,MATCH(B36, 'Jun2'!$A$6:$A1001, 0)),"---")} -> --- | O36: {=iferror(iNDEX('Sep1'!$AJ$6:$AJ1001,MATCH(B36, 'Sep1'!$A$6:$A1001, 0)),"---")} -> --- | Q36: {=iferror(iNDEX('Sep2'!$AF$6:$AF1001,MATCH(B36, 'Sep2'!$A$6:$A1001, 0)),"---")} -> --- | S36: {=iferror(iNDEX(Dodatni!$AJ$6:$AJ1001,MATCH(B36, Dodatni!$A$6:$A1001, 0)),"---")} -> --- | U36: {=iferror(iNDEX('Sep1-2324'!$AQ$6:$AQ1001,MATCH(B36, 'Sep1-2324'!$A$6:$A1001, 0)),"---")} -> ---
A37: 34 | B37: 245/2022 | C37: {=INDEX('Svi studenti'!$C$2:$C1001,MATCH(B37, 'Svi studenti'!$B$2:$B1001, 0))} -> Крсмановић, Марко | D37: {=iferror(iNDEX('Svi studenti'!$G$2:$G1001,MATCH(B37, 'Svi studenti'!$B$2:$B1001, 0)),"---")} -> 3и1а | E37: {=iferror(iNDEX('Prisustvo-Vežbe'!$Q$4:$Q1001,MATCH(B37, 'Prisustvo-Vežbe'!$A$4:$A1001, 0)),"---")} -> 0 | G37: {=iferror(iNDEX('Januar 1'!$AH$5:$AH1001,MATCH(B37, 'Januar 1'!$A$5:$A1001, 0)),"---")} -> --- | I37: {=iferror(iNDEX('Januar 2'!$AM$5:$AM1001,MATCH(B37, 'Januar 2'!$A$5:$A1001, 0)),"---")} -> --- | K37: {=iferror(iNDEX('Jun1'!$AI$6:$AI1001,MATCH(B37, 'Jun1'!$A$6:$A1001, 0)),"---")} -> --- | M37: {=iferror(iNDEX('Jun2'!$AF$6:$AF1001,MATCH(B37, 'Jun2'!$A$6:$A1001, 0)),"---")} -> --- | O37: {=iferror(iNDEX('Sep1'!$AJ$6:$AJ1001,MATCH(B37, 'Sep1'!$A$6:$A1001, 0)),"---")} -> --- | Q37: {=iferror(iNDEX('Sep2'!$AF$6:$AF1001,MATCH(B37, 'Sep2'!$A$6:$A1001, 0)),"---")} -> --- | S37: {=iferror(iNDEX(Dodatni!$AJ$6:$AJ1001,MATCH(B37, Dodatni!$A$6:$A1001, 0)),"---")} -> --- | U37: {=iferror(iNDEX('Sep1-2324'!$AQ$6:$AQ1001,MATCH(B37, 'Sep1-2324'!$A$6:$A1001, 0)),"---")} -> ---
A38: 35 | B38: 174/2022 | C38: {=INDEX('Svi studenti'!$C$2:$C1001,MATCH(B38, 'Svi studenti'!$B$2:$B1001, 0))} -> Лапчевић, Лазар | D38: {=iferror(iNDEX('Svi studenti'!$G$2:$G1001,MATCH(B38, 'Svi studenti'!$B$2:$B1001, 0)),"---")} -> 3и1б | E38: {=iferror(iNDEX('Prisustvo-Vežbe'!$Q$4:$Q1001,MATCH(B38, 'Prisustvo-Vežbe'!$A$4:$A1001, 0)),"---")} -> 2 | G38: {=iferror(iNDEX('Januar 1'!$AH$5:$AH1001,MATCH(B38, 'Januar 1'!$A$5:$A1001, 0)),"---")} -> --- | I38: {=iferror(iNDEX('Januar 2'!$AM$5:$AM1001,MATCH(B38, 'Januar 2'!$A$5:$A1001, 0)),"---")} -> --- | K38: {=iferror(iNDEX('Jun1'!$AI$6:$AI1001,MATCH(B38, 'Jun1'!$A$6:$A1001, 0)),"---")} -> --- | M38: {=iferror(iNDEX('Jun2'!$AF$6:$AF1001,MATCH(B38, 'Jun2'!$A$6:$A1001, 0)),"---")} -> --- | O38: {=iferror(iNDEX('Sep1'!$AJ$6:$AJ1001,MATCH(B38, 'Sep1'!$A$6:$A1001, 0)),"---")} -> --- | Q38: {=iferror(iNDEX('Sep2'!$AF$6:$AF1001,MATCH(B38, 'Sep2'!$A$6:$A1001, 0)),"---")} -> --- | S38: {=iferror(iNDEX(Dodatni!$AJ$6:$AJ1001,MATCH(B38, Dodatni!$A$6:$A1001, 0)),"---")} -> --- | U38: {=iferror(iNDEX('Sep1-2324'!$AQ$6:$AQ1001,MATCH(B38, 'Sep1-2324'!$A$6:$A1001, 0)),"---")} -> ---
A39: 36 | B39: 190/2023 | C39: {=INDEX('Svi studenti'!$C$2:$C1001,MATCH(B39, 'Svi studenti'!$B$2:$B1001, 0))} -> Мажинг, Урош | D39: {=iferror(iNDEX('Svi studenti'!$G$2:$G1001,MATCH(B39, 'Svi studenti'!$B$2:$B1001, 0)),"---")} -> 3и1б | E39: {=iferror(iNDEX('Prisustvo-Vežbe'!$Q$4:$Q1001,MATCH(B39, 'Prisustvo-Vežbe'!$A$4:$A1001, 0)),"---")} -> 3.5 | G39: {=iferror(iNDEX('Januar 1'!$AH$5:$AH1001,MATCH(B39, 'Januar 1'!$A$5:$A1001, 0)),"---")} -> --- | I39: {=iferror(iNDEX('Januar 2'!$AM$5:$AM1001,MATCH(B39, 'Januar 2'!$A$5:$A1001, 0)),"---")} -> --- | K39: {=iferror(iNDEX('Jun1'!$AI$6:$AI1001,MATCH(B39, 'Jun1'!$A$6:$A1001, 0)),"---")} -> --- | M39: {=iferror(iNDEX('Jun2'!$AF$6:$AF1001,MATCH(B39, 'Jun2'!$A$6:$A1001, 0)),"---")} -> --- | O39: {=iferror(iNDEX('Sep1'!$AJ$6:$AJ1001,MATCH(B39, 'Sep1'!$A$6:$A1001, 0)),"---")} -> --- | Q39: {=iferror(iNDEX('Sep2'!$AF$6:$AF1001,MATCH(B39, 'Sep2'!$A$6:$A1001, 0)),"---")} -> --- | S39: {=iferror(iNDEX(Dodatni!$AJ$6:$AJ1001,MATCH(B39, Dodatni!$A$6:$A1001, 0)),"---")} -> --- | U39: {=iferror(iNDEX('Sep1-2324'!$AQ$6:$AQ1001,MATCH(B39, 'Sep1-2324'!$A$6:$A1001, 0)),"---")} -> ---
A40: 37 | B40: 190/2022 | C40: {=INDEX('Svi studenti'!$C$2:$C1001,MATCH(B40, 'Svi studenti'!$B$2:$B1001, 0))} -> Манчић, Филип | D40: {=iferror(iNDEX('Svi studenti'!$G$2:$G1001,MATCH(B40, 'Svi studenti'!$B$2:$B1001, 0)),"---")} -> 3и1б | E40: {=iferror(iNDEX('Prisustvo-Vežbe'!$Q$4:$Q1001,MATCH(B40, 'Prisustvo-Vežbe'!$A$4:$A1001, 0)),"---")} -> 0 | G40: {=iferror(iNDEX('Januar 1'!$AH$5:$AH1001,MATCH(B40, 'Januar 1'!$A$5:$A1001, 0)),"---")} -> --- | I40: {=iferror(iNDEX('Januar 2'!$AM$5:$AM1001,MATCH(B40, 'Januar 2'!$A$5:$A1001, 0)),"---")} -> 6 | K40: {=iferror(iNDEX('Jun1'!$AI$6:$AI1001,MATCH(B40, 'Jun1'!$A$6:$A1001, 0)),"---")} -> 31.5 | M40: {=iferror(iNDEX('Jun2'!$AF$6:$AF1001,MATCH(B40, 'Jun2'!$A$6:$A1001, 0)),"---")} -> --- | O40: {=iferror(iNDEX('Sep1'!$AJ$6:$AJ1001,MATCH(B40, 'Sep1'!$A$6:$A1001, 0)),"---")} -> --- | Q40: {=iferror(iNDEX('Sep2'!$AF$6:$AF1001,MATCH(B40, 'Sep2'!$A$6:$A1001, 0)),"---")} -> --- | S40: {=iferror(iNDEX(Dodatni!$AJ$6:$AJ1001,MATCH(B40, Dodatni!$A$6:$A1001, 0)),"---")} -> --- | U40: {=iferror(iNDEX('Sep1-2324'!$AQ$6:$AQ1001,MATCH(B40, 'Sep1-2324'!$A$6:$A1001, 0)),"---")} -> ---
A41: 38 | B41: 65/2023 | C41: {=INDEX('Svi studenti'!$C$2:$C1001,MATCH(B41, 'Svi studenti'!$B$2:$B1001, 0))} -> Марић, Душан | D41: {=iferror(iNDEX('Svi studenti'!$G$2:$G1001,MATCH(B41, 'Svi studenti'!$B$2:$B1001, 0)),"---")} -> 3и1а | E41: {=iferror(iNDEX('Prisustvo-Vežbe'!$Q$4:$Q1001,MATCH(B41, 'Prisustvo-Vežbe'!$A$4:$A1001, 0)),"---")} -> 5 | G41: {=iferror(iNDEX('Januar 1'!$AH$5:$AH1001,MATCH(B41, 'Januar 1'!$A$5:$A1001, 0)),"---")} -> 55 | I41: {=iferror(iNDEX('Januar 2'!$AM$5:$AM1001,MATCH(B41, 'Januar 2'!$A$5:$A1001, 0)),"---")} -> --- | K41: {=iferror(iNDEX('Jun1'!$AI$6:$AI1001,MATCH(B41, 'Jun1'!$A$6:$A1001, 0)),"---")} -> --- | M41: {=iferror(iNDEX('Jun2'!$AF$6:$AF1001,MATCH(B41, 'Jun2'!$A$6:$A1001, 0)),"---")} -> --- | O41: {=iferror(iNDEX('Sep1'!$AJ$6:$AJ1001,MATCH(B41, 'Sep1'!$A$6:$A1001, 0)),"---")} -> --- | Q41: {=iferror(iNDEX('Sep2'!$AF$6:$AF1001,MATCH(B41, 'Sep2'!$A$6:$A1001, 0)),"---")} -> --- | S41: {=iferror(iNDEX(Dodatni!$AJ$6:$AJ1001,MATCH(B41, Dodatni!$A$6:$A1001, 0)),"---")} -> --- | U41: {=iferror(iNDEX('Sep1-2324'!$AQ$6:$AQ1001,MATCH(B41, 'Sep1-2324'!$A$6:$A1001, 0)),"---")} -> ---
A42: 39 | B42: 214/2021 | C42: {=INDEX('Svi studenti'!$C$2:$C1001,MATCH(B42, 'Svi studenti'!$B$2:$B1001, 0))} -> Марчетић, Катарина | D42: {=iferror(iNDEX('Svi studenti'!$G$2:$G1001,MATCH(B42, 'Svi studenti'!$B$2:$B1001, 0)),"---")} -> 3и1б | E42: {=iferror(iNDEX('Prisustvo-Vežbe'!$Q$4:$Q1001,MATCH(B42, 'Prisustvo-Vežbe'!$A$4:$A1001, 0)),"---")} -> 0 | G42: {=iferror(iNDEX('Januar 1'!$AH$5:$AH1001,MATCH(B42, 'Januar 1'!$A$5:$A1001, 0)),"---")} -> --- | I42: {=iferror(iNDEX('Januar 2'!$AM$5:$AM1001,MATCH(B42, 'Januar 2'!$A$5:$A1001, 0)),"---")} -> 23 | K42: {=iferror(iNDEX('Jun1'!$AI$6:$AI1001,MATCH(B42, 'Jun1'!$A$6:$A1001, 0)),"---")} -> --- | M42: {=iferror(iNDEX('Jun2'!$AF$6:$AF1001,MATCH(B42, 'Jun2'!$A$6:$A1001, 0)),"---")} -> --- | O42: {=iferror(iNDEX('Sep1'!$AJ$6:$AJ1001,MATCH(B42, 'Sep1'!$A$6:$A1001, 0)),"---")} -> --- | Q42: {=iferror(iNDEX('Sep2'!$AF$6:$AF1001,MATCH(B42, 'Sep2'!$A$6:$A1001, 0)),"---")} -> --- | S42: {=iferror(iNDEX(Dodatni!$AJ$6:$AJ1001,MATCH(B42, Dodatni!$A$6:$A1001, 0)),"---")} -> --- | U42: {=iferror(iNDEX('Sep1-2324'!$AQ$6:$AQ1001,MATCH(B42, 'Sep1-2324'!$A$6:$A1001, 0)),"---")} -> ---
A43: 40 | B43: 46/2023 | C43: {=INDEX('Svi studenti'!$C$2:$C1001,MATCH(B43, 'Svi studenti'!$B$2:$B1001, 0))} -> Матић, Тадија | D43: {=iferror(iNDEX('Svi studenti'!$G$2:$G1001,MATCH(B43, 'Svi studenti'!$B$2:$B1001, 0)),"---")} -> 3и1б | E43: {=iferror(iNDEX('Prisustvo-Vežbe'!$Q$4:$Q1001,MATCH(B43, 'Prisustvo-Vežbe'!$A$4:$A1001, 0)),"---")} -> 5 | G43: {=iferror(iNDEX('Januar 1'!$AH$5:$AH1001,MATCH(B43, 'Januar 1'!$A$5:$A1001, 0)),"---")} -> 55 | I43: {=iferror(iNDEX('Januar 2'!$AM$5:$AM1001,MATCH(B43, 'Januar 2'!$A$5:$A1001, 0)),"---")} -> --- | K43: {=iferror(iNDEX('Jun1'!$AI$6:$AI1001,MATCH(B43, 'Jun1'!$A$6:$A1001, 0)),"---")} -> --- | M43: {=iferror(iNDEX('Jun2'!$AF$6:$AF1001,MATCH(B43, 'Jun2'!$A$6:$A1001, 0)),"---")} -> --- | O43: {=iferror(iNDEX('Sep1'!$AJ$6:$AJ1001,MATCH(B43, 'Sep1'!$A$6:$A1001, 0)),"---")} -> --- | Q43: {=iferror(iNDEX('Sep2'!$AF$6:$AF1001,MATCH(B43, 'Sep2'!$A$6:$A1001, 0)),"---")} -> --- | S43: {=iferror(iNDEX(Dodatni!$AJ$6:$AJ1001,MATCH(B43, Dodatni!$A$6:$A1001, 0)),"---")} -> --- | U43: {=iferror(iNDEX('Sep1-2324'!$AQ$6:$AQ1001,MATCH(B43, 'Sep1-2324'!$A$6:$A1001, 0)),"---")} -> ---
A44: 41 | B44: 53/2023 | C44: {=INDEX('Svi studenti'!$C$2:$C1001,MATCH(B44, 'Svi studenti'!$B$2:$B1001, 0))} -> Милекић, Сретен | D44: {=iferror(iNDEX('Svi studenti'!$G$2:$G1001,MATCH(B44, 'Svi studenti'!$B$2:$B1001, 0)),"---")} -> 3и1а | E44: {=iferror(iNDEX('Prisustvo-Vežbe'!$Q$4:$Q1001,MATCH(B44, 'Prisustvo-Vežbe'!$A$4:$A1001, 0)),"---")} -> 4.5 | G44: {=iferror(iNDEX('Januar 1'!$AH$5:$AH1001,MATCH(B44, 'Januar 1'!$A$5:$A1001, 0)),"---")} -> --- | I44: {=iferror(iNDEX('Januar 2'!$AM$5:$AM1001,MATCH(B44, 'Januar 2'!$A$5:$A1001, 0)),"---")} -> --- | K44: {=iferror(iNDEX('Jun1'!$AI$6:$AI1001,MATCH(B44, 'Jun1'!$A$6:$A1001, 0)),"---")} -> --- | M44: {=iferror(iNDEX('Jun2'!$AF$6:$AF1001,MATCH(B44, 'Jun2'!$A$6:$A1001, 0)),"---")} -> --- | O44: {=iferror(iNDEX('Sep1'!$AJ$6:$AJ1001,MATCH(B44, 'Sep1'!$A$6:$A1001, 0)),"---")} -> --- | Q44: {=iferror(iNDEX('Sep2'!$AF$6:$AF1001,MATCH(B44, 'Sep2'!$A$6:$A1001, 0)),"---")} -> 9 | S44: {=iferror(iNDEX(Dodatni!$AJ$6:$AJ1001,MATCH(B44, Dodatni!$A$6:$A1001, 0)),"---")} -> --- | U44: {=iferror(iNDEX('Sep1-2324'!$AQ$6:$AQ1001,MATCH(B44, 'Sep1-2324'!$A$6:$A1001, 0)),"---")} -> ---
A45: 42 | B45: 229/2022 | C45: {=INDEX('Svi studenti'!$C$2:$C1001,MATCH(B45, 'Svi studenti'!$B$2:$B1001, 0))} -> Миленковић, Ивана | D45: {=iferror(iNDEX('Svi studenti'!$G$2:$G1001,MATCH(B45, 'Svi studenti'!$B$2:$B1001, 0)),"---")} -> 3и1а | E45: {=iferror(iNDEX('Prisustvo-Vežbe'!$Q$4:$Q1001,MATCH(B45, 'Prisustvo-Vežbe'!$A$4:$A1001, 0)),"---")} -> 0 | G45: {=iferror(iNDEX('Januar 1'!$AH$5:$AH1001,MATCH(B45, 'Januar 1'!$A$5:$A1001, 0)),"---")} -> --- | I45: {=iferror(iNDEX('Januar 2'!$AM$5:$AM1001,MATCH(B45, 'Januar 2'!$A$5:$A1001, 0)),"---")} -> --- | K45: {=iferror(iNDEX('Jun1'!$AI$6:$AI1001,MATCH(B45, 'Jun1'!$A$6:$A1001, 0)),"---")} -> --- | M45: {=iferror(iNDEX('Jun2'!$AF$6:$AF1001,MATCH(B45, 'Jun2'!$A$6:$A1001, 0)),"---")} -> --- | O45: {=iferror(iNDEX('Sep1'!$AJ$6:$AJ1001,MATCH(B45, 'Sep1'!$A$6:$A1001, 0)),"---")} -> --- | Q45: {=iferror(iNDEX('Sep2'!$AF$6:$AF1001,MATCH(B45, 'Sep2'!$A$6:$A1001, 0)),"---")} -> --- | S45: {=iferror(iNDEX(Dodatni!$AJ$6:$AJ1001,MATCH(B45, Dodatni!$A$6:$A1001, 0)),"---")} -> --- | U45: {=iferror(iNDEX('Sep1-2324'!$AQ$6:$AQ1001,MATCH(B45, 'Sep1-2324'!$A$6:$A1001, 0)),"---")} -> ---
A46: 43 | B46: 138/2022 | C46: {=INDEX('Svi studenti'!$C$2:$C1001,MATCH(B46, 'Svi studenti'!$B$2:$B1001, 0))} -> Миловановић, Богдан | D46: {=iferror(iNDEX('Svi studenti'!$G$2:$G1001,MATCH(B46, 'Svi studenti'!$B$2:$B1001, 0)),"---")} -> 3и1б | E46: {=iferror(iNDEX('Prisustvo-Vežbe'!$Q$4:$Q1001,MATCH(B46, 'Prisustvo-Vežbe'!$A$4:$A1001, 0)),"---")} -> 0 | G46: {=iferror(iNDEX('Januar 1'!$AH$5:$AH1001,MATCH(B46, 'Januar 1'!$A$5:$A1001, 0)),"---")} -> --- | I46: {=iferror(iNDEX('Januar 2'!$AM$5:$AM1001,MATCH(B46, 'Januar 2'!$A$5:$A1001, 0)),"---")} -> --- | K46: {=iferror(iNDEX('Jun1'!$AI$6:$AI1001,MATCH(B46, 'Jun1'!$A$6:$A1001, 0)),"---")} -> --- | M46: {=iferror(iNDEX('Jun2'!$AF$6:$AF1001,MATCH(B46, 'Jun2'!$A$6:$A1001, 0)),"---")} -> --- | O46: {=iferror(iNDEX('Sep1'!$AJ$6:$AJ1001,MATCH(B46, 'Sep1'!$A$6:$A1001, 0)),"---")} -> --- | Q46: {=iferror(iNDEX('Sep2'!$AF$6:$AF1001,MATCH(B46, 'Sep2'!$A$6:$A1001, 0)),"---")} -> --- | S46: {=iferror(iNDEX(Dodatni!$AJ$6:$AJ1001,MATCH(B46, Dodatni!$A$6:$A1001, 0)),"---")} -> --- | U46: {=iferror(iNDEX('Sep1-2324'!$AQ$6:$AQ1001,MATCH(B46, 'Sep1-2324'!$A$6:$A1001, 0)),"---")} -> ---
A47: 44 | B47: 37/2022 | C47: {=INDEX('Svi studenti'!$C$2:$C1001,MATCH(B47, 'Svi studenti'!$B$2:$B1001, 0))} -> Миловановић, Матија | D47: {=iferror(iNDEX('Svi studenti'!$G$2:$G1001,MATCH(B47, 'Svi studenti'!$B$2:$B1001, 0)),"---")} -> 3и1а | E47: {=iferror(iNDEX('Prisustvo-Vežbe'!$Q$4:$Q1001,MATCH(B47, 'Prisustvo-Vežbe'!$A$4:$A1001, 0)),"---")} -> 0 | G47: {=iferror(iNDEX('Januar 1'!$AH$5:$AH1001,MATCH(B47, 'Januar 1'!$A$5:$A1001, 0)),"---")} -> --- | I47: {=iferror(iNDEX('Januar 2'!$AM$5:$AM1001,MATCH(B47, 'Januar 2'!$A$5:$A1001, 0)),"---")} -> --- | K47: {=iferror(iNDEX('Jun1'!$AI$6:$AI1001,MATCH(B47, 'Jun1'!$A$6:$A1001, 0)),"---")} -> --- | M47: {=iferror(iNDEX('Jun2'!$AF$6:$AF1001,MATCH(B47, 'Jun2'!$A$6:$A1001, 0)),"---")} -> --- | O47: {=iferror(iNDEX('Sep1'!$AJ$6:$AJ1001,MATCH(B47, 'Sep1'!$A$6:$A1001, 0)),"---")} -> --- | Q47: {=iferror(iNDEX('Sep2'!$AF$6:$AF1001,MATCH(B47, 'Sep2'!$A$6:$A1001, 0)),"---")} -> --- | S47: {=iferror(iNDEX(Dodatni!$AJ$6:$AJ1001,MATCH(B47, Dodatni!$A$6:$A1001, 0)),"---")} -> --- | U47: {=iferror(iNDEX('Sep1-2324'!$AQ$6:$AQ1001,MATCH(B47, 'Sep1-2324'!$A$6:$A1001, 0)),"---")} -> ---
A48: 45 | B48: 402/2019 | C48: {=INDEX('Svi studenti'!$C$2:$C1001,MATCH(B48, 'Svi studenti'!$B$2:$B1001, 0))} -> Минић, Јелена | D48: {=iferror(iNDEX('Svi studenti'!$G$2:$G1001,MATCH(B48, 'Svi studenti'!$B$2:$B1001, 0)),"---")} -> 3и1б | E48: {=iferror(iNDEX('Prisustvo-Vežbe'!$Q$4:$Q1001,MATCH(B48, 'Prisustvo-Vežbe'!$A$4:$A1001, 0)),"---")} -> 2 | G48: {=iferror(iNDEX('Januar 1'!$AH$5:$AH1001,MATCH(B48, 'Januar 1'!$A$5:$A1001, 0)),"---")} -> --- | I48: {=iferror(iNDEX('Januar 2'!$AM$5:$AM1001,MATCH(B48, 'Januar 2'!$A$5:$A1001, 0)),"---")} -> --- | K48: {=iferror(iNDEX('Jun1'!$AI$6:$AI1001,MATCH(B48, 'Jun1'!$A$6:$A1001, 0)),"---")} -> --- | M48: {=iferror(iNDEX('Jun2'!$AF$6:$AF1001,MATCH(B48, 'Jun2'!$A$6:$A1001, 0)),"---")} -> --- | O48: {=iferror(iNDEX('Sep1'!$AJ$6:$AJ1001,MATCH(B48, 'Sep1'!$A$6:$A1001, 0)),"---")} -> --- | Q48: {=iferror(iNDEX('Sep2'!$AF$6:$AF1001,MATCH(B48, 'Sep2'!$A$6:$A1001, 0)),"---")} -> --- | S48: {=iferror(iNDEX(Dodatni!$AJ$6:$AJ1001,MATCH(B48, Dodatni!$A$6:$A1001, 0)),"---")} -> --- | U48: {=iferror(iNDEX('Sep1-2324'!$AQ$6:$AQ1001,MATCH(B48, 'Sep1-2324'!$A$6:$A1001, 0)),"---")} -> ---
A49: 46 | B49: 102/2023 | C49: {=INDEX('Svi studenti'!$C$2:$C1001,MATCH(B49, 'Svi studenti'!$B$2:$B1001, 0))} -> Минић, Милан | D49: {=iferror(iNDEX('Svi studenti'!$G$2:$G1001,MATCH(B49, 'Svi studenti'!$B$2:$B1001, 0)),"---")} -> 3и1б | E49: {=iferror(iNDEX('Prisustvo-Vežbe'!$Q$4:$Q1001,MATCH(B49, 'Prisustvo-Vežbe'!$A$4:$A1001, 0)),"---")} -> 0 | G49: {=iferror(iNDEX('Januar 1'!$AH$5:$AH1001,MATCH(B49, 'Januar 1'!$A$5:$A1001, 0)),"---")} -> 34 | I49: {=iferror(iNDEX('Januar 2'!$AM$5:$AM1001,MATCH(B49, 'Januar 2'!$A$5:$A1001, 0)),"---")} -> --- | K49: {=iferror(iNDEX('Jun1'!$AI$6:$AI1001,MATCH(B49, 'Jun1'!$A$6:$A1001, 0)),"---")} -> --- | M49: {=iferror(iNDEX('Jun2'!$AF$6:$AF1001,MATCH(B49, 'Jun2'!$A$6:$A1001, 0)),"---")} -> --- | O49: {=iferror(iNDEX('Sep1'!$AJ$6:$AJ1001,MATCH(B49, 'Sep1'!$A$6:$A1001, 0)),"---")} -> --- | Q49: {=iferror(iNDEX('Sep2'!$AF$6:$AF1001,MATCH(B49, 'Sep2'!$A$6:$A1001, 0)),"---")} -> --- | S49: {=iferror(iNDEX(Dodatni!$AJ$6:$AJ1001,MATCH(B49, Dodatni!$A$6:$A1001, 0)),"---")} -> --- | U49: {=iferror(iNDEX('Sep1-2324'!$AQ$6:$AQ1001,MATCH(B49, 'Sep1-2324'!$A$6:$A1001, 0)),"---")} -> ---
A50: 47 | B50: 109/2020 | C50: {=INDEX('Svi studenti'!$C$2:$C1001,MATCH(B50, 'Svi studenti'!$B$2:$B1001, 0))} -> Мићевић, Митар | D50: {=iferror(iNDEX('Svi studenti'!$G$2:$G1001,MATCH(B50, 'Svi studenti'!$B$2:$B1001, 0)),"---")} -> 3и1а | E50: {=iferror(iNDEX('Prisustvo-Vežbe'!$Q$4:$Q1001,MATCH(B50, 'Prisustvo-Vežbe'!$A$4:$A1001, 0)),"---")} -> 0 | G50: {=iferror(iNDEX('Januar 1'!$AH$5:$AH1001,MATCH(B50, 'Januar 1'!$A$5:$A1001, 0)),"---")} -> --- | I50: {=iferror(iNDEX('Januar 2'!$AM$5:$AM1001,MATCH(B50, 'Januar 2'!$A$5:$A1001, 0)),"---")} -> --- | K50: {=iferror(iNDEX('Jun1'!$AI$6:$AI1001,MATCH(B50, 'Jun1'!$A$6:$A1001, 0)),"---")} -> --- | M50: {=iferror(iNDEX('Jun2'!$AF$6:$AF1001,MATCH(B50, 'Jun2'!$A$6:$A1001, 0)),"---")} -> --- | O50: {=iferror(iNDEX('Sep1'!$AJ$6:$AJ1001,MATCH(B50, 'Sep1'!$A$6:$A1001, 0)),"---")} -> --- | Q50: {=iferror(iNDEX('Sep2'!$AF$6:$AF1001,MATCH(B50, 'Sep2'!$A$6:$A1001, 0)),"---")} -> --- | S50: {=iferror(iNDEX(Dodatni!$AJ$6:$AJ1001,MATCH(B50, Dodatni!$A$6:$A1001, 0)),"---")} -> --- | U50: {=iferror(iNDEX('Sep1-2324'!$AQ$6:$AQ1001,MATCH(B50, 'Sep1-2324'!$A$6:$A1001, 0)),"---")} -> ---
A51: 48 | B51: 109/2023 | C51: {=INDEX('Svi studenti'!$C$2:$C1001,MATCH(B51, 'Svi studenti'!$B$2:$B1001, 0))} -> Молнар, Линда | D51: {=iferror(iNDEX('Svi studenti'!$G$2:$G1001,MATCH(B51, 'Svi studenti'!$B$2:$B1001, 0)),"---")} -> 3и1а | E51: {=iferror(iNDEX('Prisustvo-Vežbe'!$Q$4:$Q1001,MATCH(B51, 'Prisustvo-Vežbe'!$A$4:$A1001, 0)),"---")} -> 4.5 | G51: {=iferror(iNDEX('Januar 1'!$AH$5:$AH1001,MATCH(B51, 'Januar 1'!$A$5:$A1001, 0)),"---")} -> --- | I51: {=iferror(iNDEX('Januar 2'!$AM$5:$AM1001,MATCH(B51, 'Januar 2'!$A$5:$A1001, 0)),"---")} -> 27 | K51: {=iferror(iNDEX('Jun1'!$AI$6:$AI1001,MATCH(B51, 'Jun1'!$A$6:$A1001, 0)),"---")} -> --- | M51: {=iferror(iNDEX('Jun2'!$AF$6:$AF1001,MATCH(B51, 'Jun2'!$A$6:$A1001, 0)),"---")} -> --- | O51: {=iferror(iNDEX('Sep1'!$AJ$6:$AJ1001,MATCH(B51, 'Sep1'!$A$6:$A1001, 0)),"---")} -> --- | Q51: {=iferror(iNDEX('Sep2'!$AF$6:$AF1001,MATCH(B51, 'Sep2'!$A$6:$A1001, 0)),"---")} -> --- | S51: {=iferror(iNDEX(Dodatni!$AJ$6:$AJ1001,MATCH(B51, Dodatni!$A$6:$A1001, 0)),"---")} -> --- | U51: {=iferror(iNDEX('Sep1-2324'!$AQ$6:$AQ1001,MATCH(B51, 'Sep1-2324'!$A$6:$A1001, 0)),"---")} -> ---
A52: 49 | B52: 106/2023 | C52: {=INDEX('Svi studenti'!$C$2:$C1001,MATCH(B52, 'Svi studenti'!$B$2:$B1001, 0))} -> Ненић, Јана | D52: {=iferror(iNDEX('Svi studenti'!$G$2:$G1001,MATCH(B52, 'Svi studenti'!$B$2:$B1001, 0)),"---")} -> 3и1б | E52: {=iferror(iNDEX('Prisustvo-Vežbe'!$Q$4:$Q1001,MATCH(B52, 'Prisustvo-Vežbe'!$A$4:$A1001, 0)),"---")} -> 0 | G52: {=iferror(iNDEX('Januar 1'!$AH$5:$AH1001,MATCH(B52, 'Januar 1'!$A$5:$A1001, 0)),"---")} -> --- | I52: {=iferror(iNDEX('Januar 2'!$AM$5:$AM1001,MATCH(B52, 'Januar 2'!$A$5:$A1001, 0)),"---")} -> 23 | K52: {=iferror(iNDEX('Jun1'!$AI$6:$AI1001,MATCH(B52, 'Jun1'!$A$6:$A1001, 0)),"---")} -> --- | M52: {=iferror(iNDEX('Jun2'!$AF$6:$AF1001,MATCH(B52, 'Jun2'!$A$6:$A1001, 0)),"---")} -> --- | O52: {=iferror(iNDEX('Sep1'!$AJ$6:$AJ1001,MATCH(B52, 'Sep1'!$A$6:$A1001, 0)),"---")} -> --- | Q52: {=iferror(iNDEX('Sep2'!$AF$6:$AF1001,MATCH(B52, 'Sep2'!$A$6:$A1001, 0)),"---")} -> --- | S52: {=iferror(iNDEX(Dodatni!$AJ$6:$AJ1001,MATCH(B52, Dodatni!$A$6:$A1001, 0)),"---")} -> --- | U52: {=iferror(iNDEX('Sep1-2324'!$AQ$6:$AQ1001,MATCH(B52, 'Sep1-2324'!$A$6:$A1001, 0)),"---")} -> ---
A53: 50 | B53: 46/2020 | C53: {=INDEX('Svi studenti'!$C$2:$C1001,MATCH(B53, 'Svi studenti'!$B$2:$B1001, 0))} -> Никодијевић, Милутин | D53: {=iferror(iNDEX('Svi studenti'!$G$2:$G1001,MATCH(B53, 'Svi studenti'!$B$2:$B1001, 0)),"---")} -> 3и1б | E53: {=iferror(iNDEX('Prisustvo-Vežbe'!$Q$4:$Q1001,MATCH(B53, 'Prisustvo-Vežbe'!$A$4:$A1001, 0)),"---")} -> 0 | G53: {=iferror(iNDEX('Januar 1'!$AH$5:$AH1001,MATCH(B53, 'Januar 1'!$A$5:$A1001, 0)),"---")} -> --- | I53: {=iferror(iNDEX('Januar 2'!$AM$5:$AM1001,MATCH(B53, 'Januar 2'!$A$5:$A1001, 0)),"---")} -> --- | K53: {=iferror(iNDEX('Jun1'!$AI$6:$AI1001,MATCH(B53, 'Jun1'!$A$6:$A1001, 0)),"---")} -> 37.5 | M53: {=iferror(iNDEX('Jun2'!$AF$6:$AF1001,MATCH(B53, 'Jun2'!$A$6:$A1001, 0)),"---")} -> --- | O53: {=iferror(iNDEX('Sep1'!$AJ$6:$AJ1001,MATCH(B53, 'Sep1'!$A$6:$A1001, 0)),"---")} -> --- | Q53: {=iferror(iNDEX('Sep2'!$AF$6:$AF1001,MATCH(B53, 'Sep2'!$A$6:$A1001, 0)),"---")} -> --- | S53: {=iferror(iNDEX(Dodatni!$AJ$6:$AJ1001,MATCH(B53, Dodatni!$A$6:$A1001, 0)),"---")} -> --- | U53: {=iferror(iNDEX('Sep1-2324'!$AQ$6:$AQ1001,MATCH(B53, 'Sep1-2324'!$A$6:$A1001, 0)),"---")} -> ---
A54: 51 | B54: 302/2023 | C54: {=INDEX('Svi studenti'!$C$2:$C1001,MATCH(B54, 'Svi studenti'!$B$2:$B1001, 0))} -> Николић, Ивана | D54: {=iferror(iNDEX('Svi studenti'!$G$2:$G1001,MATCH(B54, 'Svi studenti'!$B$2:$B1001, 0)),"---")} -> 3и1б | E54: {=iferror(iNDEX('Prisustvo-Vežbe'!$Q$4:$Q1001,MATCH(B54, 'Prisustvo-Vežbe'!$A$4:$A1001, 0)),"---")} -> 0 | G54: {=iferror(iNDEX('Januar 1'!$AH$5:$AH1001,MATCH(B54, 'Januar 1'!$A$5:$A1001, 0)),"---")} -> --- | I54: {=iferror(iNDEX('Januar 2'!$AM$5:$AM1001,MATCH(B54, 'Januar 2'!$A$5:$A1001, 0)),"---")} -> --- | K54: {=iferror(iNDEX('Jun1'!$AI$6:$AI1001,MATCH(B54, 'Jun1'!$A$6:$A1001, 0)),"---")} -> --- | M54: {=iferror(iNDEX('Jun2'!$AF$6:$AF1001,MATCH(B54, 'Jun2'!$A$6:$A1001, 0)),"---")} -> --- | O54: {=iferror(iNDEX('Sep1'!$AJ$6:$AJ1001,MATCH(B54, 'Sep1'!$A$6:$A1001, 0)),"---")} -> --- | Q54: {=iferror(iNDEX('Sep2'!$AF$6:$AF1001,MATCH(B54, 'Sep2'!$A$6:$A1001, 0)),"---")} -> --- | S54: {=iferror(iNDEX(Dodatni!$AJ$6:$AJ1001,MATCH(B54, Dodatni!$A$6:$A1001, 0)),"---")} -> --- | U54: {=iferror(iNDEX('Sep1-2324'!$AQ$6:$AQ1001,MATCH(B54, 'Sep1-2324'!$A$6:$A1001, 0)),"---")} -> ---
A55: 52 | B55: 258/2021 | C55: {=INDEX('Svi studenti'!$C$2:$C1001,MATCH(B55, 'Svi studenti'!$B$2:$B1001, 0))} -> Николић, Петар | D55: {=iferror(iNDEX('Svi studenti'!$G$2:$G1001,MATCH(B55, 'Svi studenti'!$B$2:$B1001, 0)),"---")} -> 3и1б | E55: {=iferror(iNDEX('Prisustvo-Vežbe'!$Q$4:$Q1001,MATCH(B55, 'Prisustvo-Vežbe'!$A$4:$A1001, 0)),"---")} -> 0 | G55: {=iferror(iNDEX('Januar 1'!$AH$5:$AH1001,MATCH(B55, 'Januar 1'!$A$5:$A1001, 0)),"---")} -> --- | I55: {=iferror(iNDEX('Januar 2'!$AM$5:$AM1001,MATCH(B55, 'Januar 2'!$A$5:$A1001, 0)),"---")} -> --- | K55: {=iferror(iNDEX('Jun1'!$AI$6:$AI1001,MATCH(B55, 'Jun1'!$A$6:$A1001, 0)),"---")} -> 13.5 | M55: {=iferror(iNDEX('Jun2'!$AF$6:$AF1001,MATCH(B55, 'Jun2'!$A$6:$A1001, 0)),"---")} -> 19.5 | O55: {=iferror(iNDEX('Sep1'!$AJ$6:$AJ1001,MATCH(B55, 'Sep1'!$A$6:$A1001, 0)),"---")} -> 32 | Q55: {=iferror(iNDEX('Sep2'!$AF$6:$AF1001,MATCH(B55, 'Sep2'!$A$6:$A1001, 0)),"---")} -> --- | S55: {=iferror(iNDEX(Dodatni!$AJ$6:$AJ1001,MATCH(B55, Dodatni!$A$6:$A1001, 0)),"---")} -> --- | U55: {=iferror(iNDEX('Sep1-2324'!$AQ$6:$AQ1001,MATCH(B55, 'Sep1-2324'!$A$6:$A1001, 0)),"---")} -> ---
A56: 53 | B56: 142/2023 | C56: {=INDEX('Svi studenti'!$C$2:$C1001,MATCH(B56, 'Svi studenti'!$B$2:$B1001, 0))} -> Павловић, Душан | D56: {=iferror(iNDEX('Svi studenti'!$G$2:$G1001,MATCH(B56, 'Svi studenti'!$B$2:$B1001, 0)),"---")} -> 3и1б | E56: {=iferror(iNDEX('Prisustvo-Vežbe'!$Q$4:$Q1001,MATCH(B56, 'Prisustvo-Vežbe'!$A$4:$A1001, 0)),"---")} -> 1 | G56: {=iferror(iNDEX('Januar 1'!$AH$5:$AH1001,MATCH(B56, 'Januar 1'!$A$5:$A1001, 0)),"---")} -> --- | I56: {=iferror(iNDEX('Januar 2'!$AM$5:$AM1001,MATCH(B56, 'Januar 2'!$A$5:$A1001, 0)),"---")} -> 23 | K56: {=iferror(iNDEX('Jun1'!$AI$6:$AI1001,MATCH(B56, 'Jun1'!$A$6:$A1001, 0)),"---")} -> --- | M56: {=iferror(iNDEX('Jun2'!$AF$6:$AF1001,MATCH(B56, 'Jun2'!$A$6:$A1001, 0)),"---")} -> --- | O56: {=iferror(iNDEX('Sep1'!$AJ$6:$AJ1001,MATCH(B56, 'Sep1'!$A$6:$A1001, 0)),"---")} -> --- | Q56: {=iferror(iNDEX('Sep2'!$AF$6:$AF1001,MATCH(B56, 'Sep2'!$A$6:$A1001, 0)),"---")} -> --- | S56: {=iferror(iNDEX(Dodatni!$AJ$6:$AJ1001,MATCH(B56, Dodatni!$A$6:$A1001, 0)),"---")} -> --- | U56: {=iferror(iNDEX('Sep1-2324'!$AQ$6:$AQ1001,MATCH(B56, 'Sep1-2324'!$A$6:$A1001, 0)),"---")} -> ---
A57: 54 | B57: 161/2023 | C57: {=INDEX('Svi studenti'!$C$2:$C1001,MATCH(B57, 'Svi studenti'!$B$2:$B1001, 0))} -> Пантелић, Андреа | D57: {=iferror(iNDEX('Svi studenti'!$G$2:$G1001,MATCH(B57, 'Svi studenti'!$B$2:$B1001, 0)),"---")} -> 3и1а | E57: {=iferror(iNDEX('Prisustvo-Vežbe'!$Q$4:$Q1001,MATCH(B57, 'Prisustvo-Vežbe'!$A$4:$A1001, 0)),"---")} -> 5 | G57: {=iferror(iNDEX('Januar 1'!$AH$5:$AH1001,MATCH(B57, 'Januar 1'!$A$5:$A1001, 0)),"---")} -> --- | I57: {=iferror(iNDEX('Januar 2'!$AM$5:$AM1001,MATCH(B57, 'Januar 2'!$A$5:$A1001, 0)),"---")} -> --- | K57: {=iferror(iNDEX('Jun1'!$AI$6:$AI1001,MATCH(B57, 'Jun1'!$A$6:$A1001, 0)),"---")} -> --- | M57: {=iferror(iNDEX('Jun2'!$AF$6:$AF1001,MATCH(B57, 'Jun2'!$A$6:$A1001, 0)),"---")} -> --- | O57: {=iferror(iNDEX('Sep1'!$AJ$6:$AJ1001,MATCH(B57, 'Sep1'!$A$6:$A1001, 0)),"---")} -> 29.5 | Q57: {=iferror(iNDEX('Sep2'!$AF$6:$AF1001,MATCH(B57, 'Sep2'!$A$6:$A1001, 0)),"---")} -> --- | S57: {=iferror(iNDEX(Dodatni!$AJ$6:$AJ1001,MATCH(B57, Dodatni!$A$6:$A1001, 0)),"---")} -> --- | U57: {=iferror(iNDEX('Sep1-2324'!$AQ$6:$AQ1001,MATCH(B57, 'Sep1-2324'!$A$6:$A1001, 0)),"---")} -> ---
A58: 55 | B58: 49/2022 | C58: {=INDEX('Svi studenti'!$C$2:$C1001,MATCH(B58, 'Svi studenti'!$B$2:$B1001, 0))} -> Пејчић, Богдан | D58: {=iferror(iNDEX('Svi studenti'!$G$2:$G1001,MATCH(B58, 'Svi studenti'!$B$2:$B1001, 0)),"---")} -> 3и1а | E58: {=iferror(iNDEX('Prisustvo-Vežbe'!$Q$4:$Q1001,MATCH(B58, 'Prisustvo-Vežbe'!$A$4:$A1001, 0)),"---")} -> 1 | G58: {=iferror(iNDEX('Januar 1'!$AH$5:$AH1001,MATCH(B58, 'Januar 1'!$A$5:$A1001, 0)),"---")} -> 34.5 | I58: {=iferror(iNDEX('Januar 2'!$AM$5:$AM1001,MATCH(B58, 'Januar 2'!$A$5:$A1001, 0)),"---")} -> --- | K58: {=iferror(iNDEX('Jun1'!$AI$6:$AI1001,MATCH(B58, 'Jun1'!$A$6:$A1001, 0)),"---")} -> --- | M58: {=iferror(iNDEX('Jun2'!$AF$6:$AF1001,MATCH(B58, 'Jun2'!$A$6:$A1001, 0)),"---")} -> --- | O58: {=iferror(iNDEX('Sep1'!$AJ$6:$AJ1001,MATCH(B58, 'Sep1'!$A$6:$A1001, 0)),"---")} -> --- | Q58: {=iferror(iNDEX('Sep2'!$AF$6:$AF1001,MATCH(B58, 'Sep2'!$A$6:$A1001, 0)),"---")} -> --- | S58: {=iferror(iNDEX(Dodatni!$AJ$6:$AJ1001,MATCH(B58, Dodatni!$A$6:$A1001, 0)),"---")} -> --- | U58: {=iferror(iNDEX('Sep1-2324'!$AQ$6:$AQ1001,MATCH(B58, 'Sep1-2324'!$A$6:$A1001, 0)),"---")} -> ---
A59: 56 | B59: 81/2023 | C59: {=INDEX('Svi studenti'!$C$2:$C1001,MATCH(B59, 'Svi studenti'!$B$2:$B1001, 0))} -> Петковић, Урош | D59: {=iferror(iNDEX('Svi studenti'!$G$2:$G1001,MATCH(B59, 'Svi studenti'!$B$2:$B1001, 0)),"---")} -> 3и1а | E59: {=iferror(iNDEX('Prisustvo-Vežbe'!$Q$4:$Q1001,MATCH(B59, 'Prisustvo-Vežbe'!$A$4:$A1001, 0)),"---")} -> 5 | G59: {=iferror(iNDEX('Januar 1'!$AH$5:$AH1001,MATCH(B59, 'Januar 1'!$A$5:$A1001, 0)),"---")} -> 37 | I59: {=iferror(iNDEX('Januar 2'!$AM$5:$AM1001,MATCH(B59, 'Januar 2'!$A$5:$A1001, 0)),"---")} -> --- | K59: {=iferror(iNDEX('Jun1'!$AI$6:$AI1001,MATCH(B59, 'Jun1'!$A$6:$A1001, 0)),"---")} -> --- | M59: {=iferror(iNDEX('Jun2'!$AF$6:$AF1001,MATCH(B59, 'Jun2'!$A$6:$A1001, 0)),"---")} -> --- | O59: {=iferror(iNDEX('Sep1'!$AJ$6:$AJ1001,MATCH(B59, 'Sep1'!$A$6:$A1001, 0)),"---")} -> --- | Q59: {=iferror(iNDEX('Sep2'!$AF$6:$AF1001,MATCH(B59, 'Sep2'!$A$6:$A1001, 0)),"---")} -> --- | S59: {=iferror(iNDEX(Dodatni!$AJ$6:$AJ1001,MATCH(B59, Dodatni!$A$6:$A1001, 0)),"---")} -> --- | U59: {=iferror(iNDEX('Sep1-2324'!$AQ$6:$AQ1001,MATCH(B59, 'Sep1-2324'!$A$6:$A1001, 0)),"---")} -> ---
A60: 57 | B60: 129/2023 | C60: {=INDEX('Svi studenti'!$C$2:$C1001,MATCH(B60, 'Svi studenti'!$B$2:$B1001, 0))} -> Петровић, Андреј | D60: {=iferror(iNDEX('Svi studenti'!$G$2:$G1001,MATCH(B60, 'Svi studenti'!$B$2:$B1001, 0)),"---")} -> 3и1а | E60: {=iferror(iNDEX('Prisustvo-Vežbe'!$Q$4:$Q1001,MATCH(B60, 'Prisustvo-Vežbe'!$A$4:$A1001, 0)),"---")} -> 4.5 | G60: {=iferror(iNDEX('Januar 1'!$AH$5:$AH1001,MATCH(B60, 'Januar 1'!$A$5:$A1001, 0)),"---")} -> --- | I60: {=iferror(iNDEX('Januar 2'!$AM$5:$AM1001,MATCH(B60, 'Januar 2'!$A$5:$A1001, 0)),"---")} -> --- | K60: {=iferror(iNDEX('Jun1'!$AI$6:$AI1001,MATCH(B60, 'Jun1'!$A$6:$A1001, 0)),"---")} -> --- | M60: {=iferror(iNDEX('Jun2'!$AF$6:$AF1001,MATCH(B60, 'Jun2'!$A$6:$A1001, 0)),"---")} -> --- | O60: {=iferror(iNDEX('Sep1'!$AJ$6:$AJ1001,MATCH(B60, 'Sep1'!$A$6:$A1001, 0)),"---")} -> --- | Q60: {=iferror(iNDEX('Sep2'!$AF$6:$AF1001,MATCH(B60, 'Sep2'!$A$6:$A1001, 0)),"---")} -> --- | S60: {=iferror(iNDEX(Dodatni!$AJ$6:$AJ1001,MATCH(B60, Dodatni!$A$6:$A1001, 0)),"---")} -> --- | U60: {=iferror(iNDEX('Sep1-2324'!$AQ$6:$AQ1001,MATCH(B60, 'Sep1-2324'!$A$6:$A1001, 0)),"---")} -> ---
A61: 58 | B61: 277/2022 | C61: {=INDEX('Svi studenti'!$C$2:$C1001,MATCH(B61, 'Svi studenti'!$B$2:$B1001, 0))} -> Петровић, Тамара | D61: {=iferror(iNDEX('Svi studenti'!$G$2:$G1001,MATCH(B61, 'Svi studenti'!$B$2:$B1001, 0)),"---")} -> 3и1а | E61: {=iferror(iNDEX('Prisustvo-Vežbe'!$Q$4:$Q1001,MATCH(B61, 'Prisustvo-Vežbe'!$A$4:$A1001, 0)),"---")} -> 0 | G61: {=iferror(iNDEX('Januar 1'!$AH$5:$AH1001,MATCH(B61, 'Januar 1'!$A$5:$A1001, 0)),"---")} -> --- | I61: {=iferror(iNDEX('Januar 2'!$AM$5:$AM1001,MATCH(B61, 'Januar 2'!$A$5:$A1001, 0)),"---")} -> --- | K61: {=iferror(iNDEX('Jun1'!$AI$6:$AI1001,MATCH(B61, 'Jun1'!$A$6:$A1001, 0)),"---")} -> --- | M61: {=iferror(iNDEX('Jun2'!$AF$6:$AF1001,MATCH(B61, 'Jun2'!$A$6:$A1001, 0)),"---")} -> --- | O61: {=iferror(iNDEX('Sep1'!$AJ$6:$AJ1001,MATCH(B61, 'Sep1'!$A$6:$A1001, 0)),"---")} -> --- | Q61: {=iferror(iNDEX('Sep2'!$AF$6:$AF1001,MATCH(B61, 'Sep2'!$A$6:$A1001, 0)),"---")} -> --- | S61: {=iferror(iNDEX(Dodatni!$AJ$6:$AJ1001,MATCH(B61, Dodatni!$A$6:$A1001, 0)),"---")} -> --- | U61: {=iferror(iNDEX('Sep1-2324'!$AQ$6:$AQ1001,MATCH(B61, 'Sep1-2324'!$A$6:$A1001, 0)),"---")} -> ---
A62: 59 | B62: 57/2023 | C62: {=INDEX('Svi studenti'!$C$2:$C1001,MATCH(B62, 'Svi studenti'!$B$2:$B1001, 0))} -> Познанић, Богдан | D62: {=iferror(iNDEX('Svi studenti'!$G$2:$G1001,MATCH(B62, 'Svi studenti'!$B$2:$B1001, 0)),"---")} -> 3и1а | E62: {=iferror(iNDEX('Prisustvo-Vežbe'!$Q$4:$Q1001,MATCH(B62, 'Prisustvo-Vežbe'!$A$4:$A1001, 0)),"---")} -> 0 | G62: {=iferror(iNDEX('Januar 1'!$AH$5:$AH1001,MATCH(B62, 'Januar 1'!$A$5:$A1001, 0)),"---")} -> --- | I62: {=iferror(iNDEX('Januar 2'!$AM$5:$AM1001,MATCH(B62, 'Januar 2'!$A$5:$A1001, 0)),"---")} -> --- | K62: {=iferror(iNDEX('Jun1'!$AI$6:$AI1001,MATCH(B62, 'Jun1'!$A$6:$A1001, 0)),"---")} -> --- | M62: {=iferror(iNDEX('Jun2'!$AF$6:$AF1001,MATCH(B62, 'Jun2'!$A$6:$A1001, 0)),"---")} -> --- | O62: {=iferror(iNDEX('Sep1'!$AJ$6:$AJ1001,MATCH(B62, 'Sep1'!$A$6:$A1001, 0)),"---")} -> --- | Q62: {=iferror(iNDEX('Sep2'!$AF$6:$AF1001,MATCH(B62, 'Sep2'!$A$6:$A1001, 0)),"---")} -> --- | S62: {=iferror(iNDEX(Dodatni!$AJ$6:$AJ1001,MATCH(B62, Dodatni!$A$6:$A1001, 0)),"---")} -> --- | U62: {=iferror(iNDEX('Sep1-2324'!$AQ$6:$AQ1001,MATCH(B62, 'Sep1-2324'!$A$6:$A1001, 0)),"---")} -> ---
A63: 60 | B63: 62/2019 | C63: {=INDEX('Svi studenti'!$C$2:$C1001,MATCH(B63, 'Svi studenti'!$B$2:$B1001, 0))} -> Поповић, Давид | D63: {=iferror(iNDEX('Svi studenti'!$G$2:$G1001,MATCH(B63, 'Svi studenti'!$B$2:$B1001, 0)),"---")} -> 3и1б | E63: {=iferror(iNDEX('Prisustvo-Vežbe'!$Q$4:$Q1001,MATCH(B63, 'Prisustvo-Vežbe'!$A$4:$A1001, 0)),"---")} -> 0 | G63: {=iferror(iNDEX('Januar 1'!$AH$5:$AH1001,MATCH(B63, 'Januar 1'!$A$5:$A1001, 0)),"---")} -> --- | I63: {=iferror(iNDEX('Januar 2'!$AM$5:$AM1001,MATCH(B63, 'Januar 2'!$A$5:$A1001, 0)),"---")} -> --- | K63: {=iferror(iNDEX('Jun1'!$AI$6:$AI1001,MATCH(B63, 'Jun1'!$A$6:$A1001, 0)),"---")} -> --- | M63: {=iferror(iNDEX('Jun2'!$AF$6:$AF1001,MATCH(B63, 'Jun2'!$A$6:$A1001, 0)),"---")} -> --- | O63: {=iferror(iNDEX('Sep1'!$AJ$6:$AJ1001,MATCH(B63, 'Sep1'!$A$6:$A1001, 0)),"---")} -> --- | Q63: {=iferror(iNDEX('Sep2'!$AF$6:$AF1001,MATCH(B63, 'Sep2'!$A$6:$A1001, 0)),"---")} -> --- | S63: {=iferror(iNDEX(Dodatni!$AJ$6:$AJ1001,MATCH(B63, Dodatni!$A$6:$A1001, 0)),"---")} -> --- | U63: {=iferror(iNDEX('Sep1-2324'!$AQ$6:$AQ1001,MATCH(B63, 'Sep1-2324'!$A$6:$A1001, 0)),"---")} -> ---
A64: 61 | B64: 58/2020 | C64: {=INDEX('Svi studenti'!$C$2:$C1001,MATCH(B64, 'Svi studenti'!$B$2:$B1001, 0))} -> Радивојевић, Јана | D64: {=iferror(iNDEX('Svi studenti'!$G$2:$G1001,MATCH(B64, 'Svi studenti'!$B$2:$B1001, 0)),"---")} -> 3и1б | E64: {=iferror(iNDEX('Prisustvo-Vežbe'!$Q$4:$Q1001,MATCH(B64, 'Prisustvo-Vežbe'!$A$4:$A1001, 0)),"---")} -> 0 | G64: {=iferror(iNDEX('Januar 1'!$AH$5:$AH1001,MATCH(B64, 'Januar 1'!$A$5:$A1001, 0)),"---")} -> --- | I64: {=iferror(iNDEX('Januar 2'!$AM$5:$AM1001,MATCH(B64, 'Januar 2'!$A$5:$A1001, 0)),"---")} -> --- | K64: {=iferror(iNDEX('Jun1'!$AI$6:$AI1001,MATCH(B64, 'Jun1'!$A$6:$A1001, 0)),"---")} -> --- | M64: {=iferror(iNDEX('Jun2'!$AF$6:$AF1001,MATCH(B64, 'Jun2'!$A$6:$A1001, 0)),"---")} -> --- | O64: {=iferror(iNDEX('Sep1'!$AJ$6:$AJ1001,MATCH(B64, 'Sep1'!$A$6:$A1001, 0)),"---")} -> --- | Q64: {=iferror(iNDEX('Sep2'!$AF$6:$AF1001,MATCH(B64, 'Sep2'!$A$6:$A1001, 0)),"---")} -> 6 | S64: {=iferror(iNDEX(Dodatni!$AJ$6:$AJ1001,MATCH(B64, Dodatni!$A$6:$A1001, 0)),"---")} -> --- | U64: {=iferror(iNDEX('Sep1-2324'!$AQ$6:$AQ1001,MATCH(B64, 'Sep1-2324'!$A$6:$A1001, 0)),"---")} -> ---
A65: 62 | B65: 133/2023 | C65: {=INDEX('Svi studenti'!$C$2:$C1001,MATCH(B65, 'Svi studenti'!$B$2:$B1001, 0))} -> Радовић, Андрија | D65: {=iferror(iNDEX('Svi studenti'!$G$2:$G1001,MATCH(B65, 'Svi studenti'!$B$2:$B1001, 0)),"---")} -> 3и1а | E65: {=iferror(iNDEX('Prisustvo-Vežbe'!$Q$4:$Q1001,MATCH(B65, 'Prisustvo-Vežbe'!$A$4:$A1001, 0)),"---")} -> 5 | G65: {=iferror(iNDEX('Januar 1'!$AH$5:$AH1001,MATCH(B65, 'Januar 1'!$A$5:$A1001, 0)),"---")} -> 45 | I65: {=iferror(iNDEX('Januar 2'!$AM$5:$AM1001,MATCH(B65, 'Januar 2'!$A$5:$A1001, 0)),"---")} -> --- | K65: {=iferror(iNDEX('Jun1'!$AI$6:$AI1001,MATCH(B65, 'Jun1'!$A$6:$A1001, 0)),"---")} -> --- | M65: {=iferror(iNDEX('Jun2'!$AF$6:$AF1001,MATCH(B65, 'Jun2'!$A$6:$A1001, 0)),"---")} -> --- | O65: {=iferror(iNDEX('Sep1'!$AJ$6:$AJ1001,MATCH(B65, 'Sep1'!$A$6:$A1001, 0)),"---")} -> --- | Q65: {=iferror(iNDEX('Sep2'!$AF$6:$AF1001,MATCH(B65, 'Sep2'!$A$6:$A1001, 0)),"---")} -> --- | S65: {=iferror(iNDEX(Dodatni!$AJ$6:$AJ1001,MATCH(B65, Dodatni!$A$6:$A1001, 0)),"---")} -> --- | U65: {=iferror(iNDEX('Sep1-2324'!$AQ$6:$AQ1001,MATCH(B65, 'Sep1-2324'!$A$6:$A1001, 0)),"---")} -> ---
A66: 63 | B66: 41/2020 | C66: {=INDEX('Svi studenti'!$C$2:$C1001,MATCH(B66, 'Svi studenti'!$B$2:$B1001, 0))} -> Радојковић, Ана | D66: {=iferror(iNDEX('Svi studenti'!$G$2:$G1001,MATCH(B66, 'Svi studenti'!$B$2:$B1001, 0)),"---")} -> 3и1а | E66: {=iferror(iNDEX('Prisustvo-Vežbe'!$Q$4:$Q1001,MATCH(B66, 'Prisustvo-Vežbe'!$A$4:$A1001, 0)),"---")} -> 0 | G66: {=iferror(iNDEX('Januar 1'!$AH$5:$AH1001,MATCH(B66, 'Januar 1'!$A$5:$A1001, 0)),"---")} -> --- | I66: {=iferror(iNDEX('Januar 2'!$AM$5:$AM1001,MATCH(B66, 'Januar 2'!$A$5:$A1001, 0)),"---")} -> --- | K66: {=iferror(iNDEX('Jun1'!$AI$6:$AI1001,MATCH(B66, 'Jun1'!$A$6:$A1001, 0)),"---")} -> --- | M66: {=iferror(iNDEX('Jun2'!$AF$6:$AF1001,MATCH(B66, 'Jun2'!$A$6:$A1001, 0)),"---")} -> --- | O66: {=iferror(iNDEX('Sep1'!$AJ$6:$AJ1001,MATCH(B66, 'Sep1'!$A$6:$A1001, 0)),"---")} -> --- | Q66: {=iferror(iNDEX('Sep2'!$AF$6:$AF1001,MATCH(B66, 'Sep2'!$A$6:$A1001, 0)),"---")} -> --- | S66: {=iferror(iNDEX(Dodatni!$AJ$6:$AJ1001,MATCH(B66, Dodatni!$A$6:$A1001, 0)),"---")} -> --- | U66: {=iferror(iNDEX('Sep1-2324'!$AQ$6:$AQ1001,MATCH(B66, 'Sep1-2324'!$A$6:$A1001, 0)),"---")} -> ---
A67: 64 | B67: 62/2021 | C67: {=INDEX('Svi studenti'!$C$2:$C1001,MATCH(B67, 'Svi studenti'!$B$2:$B1001, 0))} -> Ранковић, Јован | D67: {=iferror(iNDEX('Svi studenti'!$G$2:$G1001,MATCH(B67, 'Svi studenti'!$B$2:$B1001, 0)),"---")} -> 3и1б | E67: {=iferror(iNDEX('Prisustvo-Vežbe'!$Q$4:$Q1001,MATCH(B67, 'Prisustvo-Vežbe'!$A$4:$A1001, 0)),"---")} -> 0 | G67: {=iferror(iNDEX('Januar 1'!$AH$5:$AH1001,MATCH(B67, 'Januar 1'!$A$5:$A1001, 0)),"---")} -> 14 | I67: {=iferror(iNDEX('Januar 2'!$AM$5:$AM1001,MATCH(B67, 'Januar 2'!$A$5:$A1001, 0)),"---")} -> 18 | K67: {=iferror(iNDEX('Jun1'!$AI$6:$AI1001,MATCH(B67, 'Jun1'!$A$6:$A1001, 0)),"---")} -> --- | M67: {=iferror(iNDEX('Jun2'!$AF$6:$AF1001,MATCH(B67, 'Jun2'!$A$6:$A1001, 0)),"---")} -> 15.5 | O67: {=iferror(iNDEX('Sep1'!$AJ$6:$AJ1001,MATCH(B67, 'Sep1'!$A$6:$A1001, 0)),"---")} -> 23 | Q67: {=iferror(iNDEX('Sep2'!$AF$6:$AF1001,MATCH(B67, 'Sep2'!$A$6:$A1001, 0)),"---")} -> --- | S67: {=iferror(iNDEX(Dodatni!$AJ$6:$AJ1001,MATCH(B67, Dodatni!$A$6:$A1001, 0)),"---")} -> --- | U67: {=iferror(iNDEX('Sep1-2324'!$AQ$6:$AQ1001,MATCH(B67, 'Sep1-2324'!$A$6:$A1001, 0)),"---")} -> ---
A68: 65 | B68: 169/2023 | C68: {=INDEX('Svi studenti'!$C$2:$C1001,MATCH(B68, 'Svi studenti'!$B$2:$B1001, 0))} -> Срећковић, Филип | D68: {=iferror(iNDEX('Svi studenti'!$G$2:$G1001,MATCH(B68, 'Svi studenti'!$B$2:$B1001, 0)),"---")} -> 3и1а | E68: {=iferror(iNDEX('Prisustvo-Vežbe'!$Q$4:$Q1001,MATCH(B68, 'Prisustvo-Vežbe'!$A$4:$A1001, 0)),"---")} -> 0.5 | G68: {=iferror(iNDEX('Januar 1'!$AH$5:$AH1001,MATCH(B68, 'Januar 1'!$A$5:$A1001, 0)),"---")} -> --- | I68: {=iferror(iNDEX('Januar 2'!$AM$5:$AM1001,MATCH(B68, 'Januar 2'!$A$5:$A1001, 0)),"---")} -> --- | K68: {=iferror(iNDEX('Jun1'!$AI$6:$AI1001,MATCH(B68, 'Jun1'!$A$6:$A1001, 0)),"---")} -> --- | M68: {=iferror(iNDEX('Jun2'!$AF$6:$AF1001,MATCH(B68, 'Jun2'!$A$6:$A1001, 0)),"---")} -> --- | O68: {=iferror(iNDEX('Sep1'!$AJ$6:$AJ1001,MATCH(B68, 'Sep1'!$A$6:$A1001, 0)),"---")} -> --- | Q68: {=iferror(iNDEX('Sep2'!$AF$6:$AF1001,MATCH(B68, 'Sep2'!$A$6:$A1001, 0)),"---")} -> --- | S68: {=iferror(iNDEX(Dodatni!$AJ$6:$AJ1001,MATCH(B68, Dodatni!$A$6:$A1001, 0)),"---")} -> --- | U68: {=iferror(iNDEX('Sep1-2324'!$AQ$6:$AQ1001,MATCH(B68, 'Sep1-2324'!$A$6:$A1001, 0)),"---")} -> ---
A69: 66 | B69: 289/2021 | C69: {=INDEX('Svi studenti'!$C$2:$C1001,MATCH(B69, 'Svi studenti'!$B$2:$B1001, 0))} -> Станковић, Андреја | D69: {=iferror(iNDEX('Svi studenti'!$G$2:$G1001,MATCH(B69, 'Svi studenti'!$B$2:$B1001, 0)),"---")} -> 3и1а | E69: {=iferror(iNDEX('Prisustvo-Vežbe'!$Q$4:$Q1001,MATCH(B69, 'Prisustvo-Vežbe'!$A$4:$A1001, 0)),"---")} -> 5 | G69: {=iferror(iNDEX('Januar 1'!$AH$5:$AH1001,MATCH(B69, 'Januar 1'!$A$5:$A1001, 0)),"---")} -> --- | I69: {=iferror(iNDEX('Januar 2'!$AM$5:$AM1001,MATCH(B69, 'Januar 2'!$A$5:$A1001, 0)),"---")} -> --- | K69: {=iferror(iNDEX('Jun1'!$AI$6:$AI1001,MATCH(B69, 'Jun1'!$A$6:$A1001, 0)),"---")} -> --- | M69: {=iferror(iNDEX('Jun2'!$AF$6:$AF1001,MATCH(B69, 'Jun2'!$A$6:$A1001, 0)),"---")} -> --- | O69: {=iferror(iNDEX('Sep1'!$AJ$6:$AJ1001,MATCH(B69, 'Sep1'!$A$6:$A1001, 0)),"---")} -> 24.5 | Q69: {=iferror(iNDEX('Sep2'!$AF$6:$AF1001,MATCH(B69, 'Sep2'!$A$6:$A1001, 0)),"---")} -> --- | S69: {=iferror(iNDEX(Dodatni!$AJ$6:$AJ1001,MATCH(B69, Dodatni!$A$6:$A1001, 0)),"---")} -> --- | U69: {=iferror(iNDEX('Sep1-2324'!$AQ$6:$AQ1001,MATCH(B69, 'Sep1-2324'!$A$6:$A1001, 0)),"---")} -> ---
A70: 67 | B70: 22/2023 | C70: {=INDEX('Svi studenti'!$C$2:$C1001,MATCH(B70, 'Svi studenti'!$B$2:$B1001, 0))} -> Станковић, Анђела | D70: {=iferror(iNDEX('Svi studenti'!$G$2:$G1001,MATCH(B70, 'Svi studenti'!$B$2:$B1001, 0)),"---")} -> 3и1б | E70: {=iferror(iNDEX('Prisustvo-Vežbe'!$Q$4:$Q1001,MATCH(B70, 'Prisustvo-Vežbe'!$A$4:$A1001, 0)),"---")} -> 3.5 | G70: {=iferror(iNDEX('Januar 1'!$AH$5:$AH1001,MATCH(B70, 'Januar 1'!$A$5:$A1001, 0)),"---")} -> --- | I70: {=iferror(iNDEX('Januar 2'!$AM$5:$AM1001,MATCH(B70, 'Januar 2'!$A$5:$A1001, 0)),"---")} -> --- | K70: {=iferror(iNDEX('Jun1'!$AI$6:$AI1001,MATCH(B70, 'Jun1'!$A$6:$A1001, 0)),"---")} -> --- | M70: {=iferror(iNDEX('Jun2'!$AF$6:$AF1001,MATCH(B70, 'Jun2'!$A$6:$A1001, 0)),"---")} -> --- | O70: {=iferror(iNDEX('Sep1'!$AJ$6:$AJ1001,MATCH(B70, 'Sep1'!$A$6:$A1001, 0)),"---")} -> --- | Q70: {=iferror(iNDEX('Sep2'!$AF$6:$AF1001,MATCH(B70, 'Sep2'!$A$6:$A1001, 0)),"---")} -> 39.5 | S70: {=iferror(iNDEX(Dodatni!$AJ$6:$AJ1001,MATCH(B70, Dodatni!$A$6:$A1001, 0)),"---")} -> --- | U70: {=iferror(iNDEX('Sep1-2324'!$AQ$6:$AQ1001,MATCH(B70, 'Sep1-2324'!$A$6:$A1001, 0)),"---")} -> ---
A71: 68 | B71: 301/2020 | C71: {=INDEX('Svi studenti'!$C$2:$C1001,MATCH(B71, 'Svi studenti'!$B$2:$B1001, 0))} -> Стојадиновић, Немања | D71: {=iferror(iNDEX('Svi studenti'!$G$2:$G1001,MATCH(B71, 'Svi studenti'!$B$2:$B1001, 0)),"---")} -> 3и1а | E71: {=iferror(iNDEX('Prisustvo-Vežbe'!$Q$4:$Q1001,MATCH(B71, 'Prisustvo-Vežbe'!$A$4:$A1001, 0)),"---")} -> 0 | G71: {=iferror(iNDEX('Januar 1'!$AH$5:$AH1001,MATCH(B71, 'Januar 1'!$A$5:$A1001, 0)),"---")} -> --- | I71: {=iferror(iNDEX('Januar 2'!$AM$5:$AM1001,MATCH(B71, 'Januar 2'!$A$5:$A1001, 0)),"---")} -> 18 | K71: {=iferror(iNDEX('Jun1'!$AI$6:$AI1001,MATCH(B71, 'Jun1'!$A$6:$A1001, 0)),"---")} -> 26.5 | M71: {=iferror(iNDEX('Jun2'!$AF$6:$AF1001,MATCH(B71, 'Jun2'!$A$6:$A1001, 0)),"---")} -> --- | O71: {=iferror(iNDEX('Sep1'!$AJ$6:$AJ1001,MATCH(B71, 'Sep1'!$A$6:$A1001, 0)),"---")} -> --- | Q71: {=iferror(iNDEX('Sep2'!$AF$6:$AF1001,MATCH(B71, 'Sep2'!$A$6:$A1001, 0)),"---")} -> --- | S71: {=iferror(iNDEX(Dodatni!$AJ$6:$AJ1001,MATCH(B71, Dodatni!$A$6:$A1001, 0)),"---")} -> --- | U71: {=iferror(iNDEX('Sep1-2324'!$AQ$6:$AQ1001,MATCH(B71, 'Sep1-2324'!$A$6:$A1001, 0)),"---")} -> ---
A72: 69 | B72: 109/2021 | C72: {=INDEX('Svi studenti'!$C$2:$C1001,MATCH(B72, 'Svi studenti'!$B$2:$B1001, 0))} -> Стојановић, Дејан | D72: {=iferror(iNDEX('Svi studenti'!$G$2:$G1001,MATCH(B72, 'Svi studenti'!$B$2:$B1001, 0)),"---")} -> 3и1а | E72: {=iferror(iNDEX('Prisustvo-Vežbe'!$Q$4:$Q1001,MATCH(B72, 'Prisustvo-Vežbe'!$A$4:$A1001, 0)),"---")} -> 0.5 | G72: {=iferror(iNDEX('Januar 1'!$AH$5:$AH1001,MATCH(B72, 'Januar 1'!$A$5:$A1001, 0)),"---")} -> --- | I72: {=iferror(iNDEX('Januar 2'!$AM$5:$AM1001,MATCH(B72, 'Januar 2'!$A$5:$A1001, 0)),"---")} -> --- | K72: {=iferror(iNDEX('Jun1'!$AI$6:$AI1001,MATCH(B72, 'Jun1'!$A$6:$A1001, 0)),"---")} -> --- | M72: {=iferror(iNDEX('Jun2'!$AF$6:$AF1001,MATCH(B72, 'Jun2'!$A$6:$A1001, 0)),"---")} -> --- | O72: {=iferror(iNDEX('Sep1'!$AJ$6:$AJ1001,MATCH(B72, 'Sep1'!$A$6:$A1001, 0)),"---")} -> --- | Q72: {=iferror(iNDEX('Sep2'!$AF$6:$AF1001,MATCH(B72, 'Sep2'!$A$6:$A1001, 0)),"---")} -> --- | S72: {=iferror(iNDEX(Dodatni!$AJ$6:$AJ1001,MATCH(B72, Dodatni!$A$6:$A1001, 0)),"---")} -> --- | U72: {=iferror(iNDEX('Sep1-2324'!$AQ$6:$AQ1001,MATCH(B72, 'Sep1-2324'!$A$6:$A1001, 0)),"---")} -> ---
A73: 70 | B73: 153/2023 | C73: {=INDEX('Svi studenti'!$C$2:$C1001,MATCH(B73, 'Svi studenti'!$B$2:$B1001, 0))} -> Танев, Игор | D73: {=iferror(iNDEX('Svi studenti'!$G$2:$G1001,MATCH(B73, 'Svi studenti'!$B$2:$B1001, 0)),"---")} -> 3и1а | E73: {=iferror(iNDEX('Prisustvo-Vežbe'!$Q$4:$Q1001,MATCH(B73, 'Prisustvo-Vežbe'!$A$4:$A1001, 0)),"---")} -> 1.5 | G73: {=iferror(iNDEX('Januar 1'!$AH$5:$AH1001,MATCH(B73, 'Januar 1'!$A$5:$A1001, 0)),"---")} -> --- | I73: {=iferror(iNDEX('Januar 2'!$AM$5:$AM1001,MATCH(B73, 'Januar 2'!$A$5:$A1001, 0)),"---")} -> --- | K73: {=iferror(iNDEX('Jun1'!$AI$6:$AI1001,MATCH(B73, 'Jun1'!$A$6:$A1001, 0)),"---")} -> --- | M73: {=iferror(iNDEX('Jun2'!$AF$6:$AF1001,MATCH(B73, 'Jun2'!$A$6:$A1001, 0)),"---")} -> --- | O73: {=iferror(iNDEX('Sep1'!$AJ$6:$AJ1001,MATCH(B73, 'Sep1'!$A$6:$A1001, 0)),"---")} -> 32 | Q73: {=iferror(iNDEX('Sep2'!$AF$6:$AF1001,MATCH(B73, 'Sep2'!$A$6:$A1001, 0)),"---")} -> --- | S73: {=iferror(iNDEX(Dodatni!$AJ$6:$AJ1001,MATCH(B73, Dodatni!$A$6:$A1001, 0)),"---")} -> --- | U73: {=iferror(iNDEX('Sep1-2324'!$AQ$6:$AQ1001,MATCH(B73, 'Sep1-2324'!$A$6:$A1001, 0)),"---")} -> ---
A74: 71 | B74: 70/2023 | C74: {=INDEX('Svi studenti'!$C$2:$C1001,MATCH(B74, 'Svi studenti'!$B$2:$B1001, 0))} -> Тасић, Михајло | D74: {=iferror(iNDEX('Svi studenti'!$G$2:$G1001,MATCH(B74, 'Svi studenti'!$B$2:$B1001, 0)),"---")} -> 3и1б | E74: {=iferror(iNDEX('Prisustvo-Vežbe'!$Q$4:$Q1001,MATCH(B74, 'Prisustvo-Vežbe'!$A$4:$A1001, 0)),"---")} -> 2 | G74: {=iferror(iNDEX('Januar 1'!$AH$5:$AH1001,MATCH(B74, 'Januar 1'!$A$5:$A1001, 0)),"---")} -> --- | I74: {=iferror(iNDEX('Januar 2'!$AM$5:$AM1001,MATCH(B74, 'Januar 2'!$A$5:$A1001, 0)),"---")} -> --- | K74: {=iferror(iNDEX('Jun1'!$AI$6:$AI1001,MATCH(B74, 'Jun1'!$A$6:$A1001, 0)),"---")} -> --- | M74: {=iferror(iNDEX('Jun2'!$AF$6:$AF1001,MATCH(B74, 'Jun2'!$A$6:$A1001, 0)),"---")} -> --- | O74: {=iferror(iNDEX('Sep1'!$AJ$6:$AJ1001,MATCH(B74, 'Sep1'!$A$6:$A1001, 0)),"---")} -> --- | Q74: {=iferror(iNDEX('Sep2'!$AF$6:$AF1001,MATCH(B74, 'Sep2'!$A$6:$A1001, 0)),"---")} -> 40 | S74: {=iferror(iNDEX(Dodatni!$AJ$6:$AJ1001,MATCH(B74, Dodatni!$A$6:$A1001, 0)),"---")} -> --- | U74: {=iferror(iNDEX('Sep1-2324'!$AQ$6:$AQ1001,MATCH(B74, 'Sep1-2324'!$A$6:$A1001, 0)),"---")} -> ---
A75: 72 | B75: 54/2023 | C75: {=INDEX('Svi studenti'!$C$2:$C1001,MATCH(B75, 'Svi studenti'!$B$2:$B1001, 0))} -> Терзић, Војин | D75: {=iferror(iNDEX('Svi studenti'!$G$2:$G1001,MATCH(B75, 'Svi studenti'!$B$2:$B1001, 0)),"---")} -> 3и1б | E75: {=iferror(iNDEX('Prisustvo-Vežbe'!$Q$4:$Q1001,MATCH(B75, 'Prisustvo-Vežbe'!$A$4:$A1001, 0)),"---")} -> 1 | G75: {=iferror(iNDEX('Januar 1'!$AH$5:$AH1001,MATCH(B75, 'Januar 1'!$A$5:$A1001, 0)),"---")} -> --- | I75: {=iferror(iNDEX('Januar 2'!$AM$5:$AM1001,MATCH(B75, 'Januar 2'!$A$5:$A1001, 0)),"---")} -> --- | K75: {=iferror(iNDEX('Jun1'!$AI$6:$AI1001,MATCH(B75, 'Jun1'!$A$6:$A1001, 0)),"---")} -> --- | M75: {=iferror(iNDEX('Jun2'!$AF$6:$AF1001,MATCH(B75, 'Jun2'!$A$6:$A1001, 0)),"---")} -> --- | O75: {=iferror(iNDEX('Sep1'!$AJ$6:$AJ1001,MATCH(B75, 'Sep1'!$A$6:$A1001, 0)),"---")} -> --- | Q75: {=iferror(iNDEX('Sep2'!$AF$6:$AF1001,MATCH(B75, 'Sep2'!$A$6:$A1001, 0)),"---")} -> --- | S75: {=iferror(iNDEX(Dodatni!$AJ$6:$AJ1001,MATCH(B75, Dodatni!$A$6:$A1001, 0)),"---")} -> --- | U75: {=iferror(iNDEX('Sep1-2324'!$AQ$6:$AQ1001,MATCH(B75, 'Sep1-2324'!$A$6:$A1001, 0)),"---")} -> ---
A76: 73 | B76: 102/2022 | C76: {=INDEX('Svi studenti'!$C$2:$C1001,MATCH(B76, 'Svi studenti'!$B$2:$B1001, 0))} -> Тонић, Лука | D76: {=iferror(iNDEX('Svi studenti'!$G$2:$G1001,MATCH(B76, 'Svi studenti'!$B$2:$B1001, 0)),"---")} -> 3и1б | E76: {=iferror(iNDEX('Prisustvo-Vežbe'!$Q$4:$Q1001,MATCH(B76, 'Prisustvo-Vežbe'!$A$4:$A1001, 0)),"---")} -> 1 | G76: {=iferror(iNDEX('Januar 1'!$AH$5:$AH1001,MATCH(B76, 'Januar 1'!$A$5:$A1001, 0)),"---")} -> --- | I76: {=iferror(iNDEX('Januar 2'!$AM$5:$AM1001,MATCH(B76, 'Januar 2'!$A$5:$A1001, 0)),"---")} -> --- | K76: {=iferror(iNDEX('Jun1'!$AI$6:$AI1001,MATCH(B76, 'Jun1'!$A$6:$A1001, 0)),"---")} -> --- | M76: {=iferror(iNDEX('Jun2'!$AF$6:$AF1001,MATCH(B76, 'Jun2'!$A$6:$A1001, 0)),"---")} -> --- | O76: {=iferror(iNDEX('Sep1'!$AJ$6:$AJ1001,MATCH(B76, 'Sep1'!$A$6:$A1001, 0)),"---")} -> 4 | Q76: {=iferror(iNDEX('Sep2'!$AF$6:$AF1001,MATCH(B76, 'Sep2'!$A$6:$A1001, 0)),"---")} -> --- | S76: {=iferror(iNDEX(Dodatni!$AJ$6:$AJ1001,MATCH(B76, Dodatni!$A$6:$A1001, 0)),"---")} -> --- | U76: {=iferror(iNDEX('Sep1-2324'!$AQ$6:$AQ1001,MATCH(B76, 'Sep1-2324'!$A$6:$A1001, 0)),"---")} -> ---
A77: 74 | B77: 41/2023 | C77: {=INDEX('Svi studenti'!$C$2:$C1001,MATCH(B77, 'Svi studenti'!$B$2:$B1001, 0))} -> Торбица, Милан | D77: {=iferror(iNDEX('Svi studenti'!$G$2:$G1001,MATCH(B77, 'Svi studenti'!$B$2:$B1001, 0)),"---")} -> 3и1а | E77: {=iferror(iNDEX('Prisustvo-Vežbe'!$Q$4:$Q1001,MATCH(B77, 'Prisustvo-Vežbe'!$A$4:$A1001, 0)),"---")} -> 0.5 | G77: {=iferror(iNDEX('Januar 1'!$AH$5:$AH1001,MATCH(B77, 'Januar 1'!$A$5:$A1001, 0)),"---")} -> 33 | I77: {=iferror(iNDEX('Januar 2'!$AM$5:$AM1001,MATCH(B77, 'Januar 2'!$A$5:$A1001, 0)),"---")} -> --- | K77: {=iferror(iNDEX('Jun1'!$AI$6:$AI1001,MATCH(B77, 'Jun1'!$A$6:$A1001, 0)),"---")} -> --- | M77: {=iferror(iNDEX('Jun2'!$AF$6:$AF1001,MATCH(B77, 'Jun2'!$A$6:$A1001, 0)),"---")} -> --- | O77: {=iferror(iNDEX('Sep1'!$AJ$6:$AJ1001,MATCH(B77, 'Sep1'!$A$6:$A1001, 0)),"---")} -> --- | Q77: {=iferror(iNDEX('Sep2'!$AF$6:$AF1001,MATCH(B77, 'Sep2'!$A$6:$A1001, 0)),"---")} -> --- | S77: {=iferror(iNDEX(Dodatni!$AJ$6:$AJ1001,MATCH(B77, Dodatni!$A$6:$A1001, 0)),"---")} -> --- | U77: {=iferror(iNDEX('Sep1-2324'!$AQ$6:$AQ1001,MATCH(B77, 'Sep1-2324'!$A$6:$A1001, 0)),"---")} -> ---
A78: 75 | B78: 206/2023 | C78: {=INDEX('Svi studenti'!$C$2:$C1001,MATCH(B78, 'Svi studenti'!$B$2:$B1001, 0))} -> Ћосић, Стефан | D78: {=iferror(iNDEX('Svi studenti'!$G$2:$G1001,MATCH(B78, 'Svi studenti'!$B$2:$B1001, 0)),"---")} -> 3и1б | E78: {=iferror(iNDEX('Prisustvo-Vežbe'!$Q$4:$Q1001,MATCH(B78, 'Prisustvo-Vežbe'!$A$4:$A1001, 0)),"---")} -> 1 | G78: {=iferror(iNDEX('Januar 1'!$AH$5:$AH1001,MATCH(B78, 'Januar 1'!$A$5:$A1001, 0)),"---")} -> --- | I78: {=iferror(iNDEX('Januar 2'!$AM$5:$AM1001,MATCH(B78, 'Januar 2'!$A$5:$A1001, 0)),"---")} -> --- | K78: {=iferror(iNDEX('Jun1'!$AI$6:$AI1001,MATCH(B78, 'Jun1'!$A$6:$A1001, 0)),"---")} -> --- | M78: {=iferror(iNDEX('Jun2'!$AF$6:$AF1001,MATCH(B78, 'Jun2'!$A$6:$A1001, 0)),"---")} -> 17 | O78: {=iferror(iNDEX('Sep1'!$AJ$6:$AJ1001,MATCH(B78, 'Sep1'!$A$6:$A1001, 0)),"---")} -> 27 | Q78: {=iferror(iNDEX('Sep2'!$AF$6:$AF1001,MATCH(B78, 'Sep2'!$A$6:$A1001, 0)),"---")} -> --- | S78: {=iferror(iNDEX(Dodatni!$AJ$6:$AJ1001,MATCH(B78, Dodatni!$A$6:$A1001, 0)),"---")} -> --- | U78: {=iferror(iNDEX('Sep1-2324'!$AQ$6:$AQ1001,MATCH(B78, 'Sep1-2324'!$A$6:$A1001, 0)),"---")} -> ---
A79: 76 | B79: 157/2022 | C79: {=INDEX('Svi studenti'!$C$2:$C1001,MATCH(B79, 'Svi studenti'!$B$2:$B1001, 0))} -> Црномарковић, Ана | D79: {=iferror(iNDEX('Svi studenti'!$G$2:$G1001,MATCH(B79, 'Svi studenti'!$B$2:$B1001, 0)),"---")} -> 3и1а | E79: {=iferror(iNDEX('Prisustvo-Vežbe'!$Q$4:$Q1001,MATCH(B79, 'Prisustvo-Vežbe'!$A$4:$A1001, 0)),"---")} -> 4 | G79: {=iferror(iNDEX('Januar 1'!$AH$5:$AH1001,MATCH(B79, 'Januar 1'!$A$5:$A1001, 0)),"---")} -> --- | I79: {=iferror(iNDEX('Januar 2'!$AM$5:$AM1001,MATCH(B79, 'Januar 2'!$A$5:$A1001, 0)),"---")} -> 28.5 | K79: {=iferror(iNDEX('Jun1'!$AI$6:$AI1001,MATCH(B79, 'Jun1'!$A$6:$A1001, 0)),"---")} -> --- | M79: {=iferror(iNDEX('Jun2'!$AF$6:$AF1001,MATCH(B79, 'Jun2'!$A$6:$A1001, 0)),"---")} -> --- | O79: {=iferror(iNDEX('Sep1'!$AJ$6:$AJ1001,MATCH(B79, 'Sep1'!$A$6:$A1001, 0)),"---")} -> --- | Q79: {=iferror(iNDEX('Sep2'!$AF$6:$AF1001,MATCH(B79, 'Sep2'!$A$6:$A1001, 0)),"---")} -> --- | S79: {=iferror(iNDEX(Dodatni!$AJ$6:$AJ1001,MATCH(B79, Dodatni!$A$6:$A1001, 0)),"---")} -> --- | U79: {=iferror(iNDEX('Sep1-2324'!$AQ$6:$AQ1001,MATCH(B79, 'Sep1-2324'!$A$6:$A1001, 0)),"---")} -> ---
A80: 77 | B80: 178/2018 | C80: {=INDEX('Svi studenti'!$C$2:$C1001,MATCH(B80, 'Svi studenti'!$B$2:$B1001, 0))} -> Чабаркапа, Димитрије | D80: {=iferror(iNDEX('Svi studenti'!$G$2:$G1001,MATCH(B80, 'Svi studenti'!$B$2:$B1001, 0)),"---")} -> 3и1б | E80: {=iferror(iNDEX('Prisustvo-Vežbe'!$Q$4:$Q1001,MATCH(B80, 'Prisustvo-Vežbe'!$A$4:$A1001, 0)),"---")} -> 0 | G80: {=iferror(iNDEX('Januar 1'!$AH$5:$AH1001,MATCH(B80, 'Januar 1'!$A$5:$A1001, 0)),"---")} -> --- | I80: {=iferror(iNDEX('Januar 2'!$AM$5:$AM1001,MATCH(B80, 'Januar 2'!$A$5:$A1001, 0)),"---")} -> --- | K80: {=iferror(iNDEX('Jun1'!$AI$6:$AI1001,MATCH(B80, 'Jun1'!$A$6:$A1001, 0)),"---")} -> --- | M80: {=iferror(iNDEX('Jun2'!$AF$6:$AF1001,MATCH(B80, 'Jun2'!$A$6:$A1001, 0)),"---")} -> --- | O80: {=iferror(iNDEX('Sep1'!$AJ$6:$AJ1001,MATCH(B80, 'Sep1'!$A$6:$A1001, 0)),"---")} -> --- | Q80: {=iferror(iNDEX('Sep2'!$AF$6:$AF1001,MATCH(B80, 'Sep2'!$A$6:$A1001, 0)),"---")} -> --- | S80: {=iferror(iNDEX(Dodatni!$AJ$6:$AJ1001,MATCH(B80, Dodatni!$A$6:$A1001, 0)),"---")} -> --- | U80: {=iferror(iNDEX('Sep1-2324'!$AQ$6:$AQ1001,MATCH(B80, 'Sep1-2324'!$A$6:$A1001, 0)),"---")} -> ---
A81: 78 | B81: 134/2023 | C81: {=INDEX('Svi studenti'!$C$2:$C1001,MATCH(B81, 'Svi studenti'!$B$2:$B1001, 0))} -> Чомагић, Анђела | D81: {=iferror(iNDEX('Svi studenti'!$G$2:$G1001,MATCH(B81, 'Svi studenti'!$B$2:$B1001, 0)),"---")} -> 3и1б | E81: {=iferror(iNDEX('Prisustvo-Vežbe'!$Q$4:$Q1001,MATCH(B81, 'Prisustvo-Vežbe'!$A$4:$A1001, 0)),"---")} -> 5 | G81: {=iferror(iNDEX('Januar 1'!$AH$5:$AH1001,MATCH(B81, 'Januar 1'!$A$5:$A1001, 0)),"---")} -> --- | I81: {=iferror(iNDEX('Januar 2'!$AM$5:$AM1001,MATCH(B81, 'Januar 2'!$A$5:$A1001, 0)),"---")} -> --- | K81: {=iferror(iNDEX('Jun1'!$AI$6:$AI1001,MATCH(B81, 'Jun1'!$A$6:$A1001, 0)),"---")} -> --- | M81: {=iferror(iNDEX('Jun2'!$AF$6:$AF1001,MATCH(B81, 'Jun2'!$A$6:$A1001, 0)),"---")} -> 26.5 | O81: {=iferror(iNDEX('Sep1'!$AJ$6:$AJ1001,MATCH(B81, 'Sep1'!$A$6:$A1001, 0)),"---")} -> --- | Q81: {=iferror(iNDEX('Sep2'!$AF$6:$AF1001,MATCH(B81, 'Sep2'!$A$6:$A1001, 0)),"---")} -> --- | S81: {=iferror(iNDEX(Dodatni!$AJ$6:$AJ1001,MATCH(B81, Dodatni!$A$6:$A1001, 0)),"---")} -> --- | U81: {=iferror(iNDEX('Sep1-2324'!$AQ$6:$AQ1001,MATCH(B81, 'Sep1-2324'!$A$6:$A1001, 0)),"---")} -> ---
A82: 79 | B82: 77/2023 | C82: {=INDEX('Svi studenti'!$C$2:$C1001,MATCH(B82, 'Svi studenti'!$B$2:$B1001, 0))} -> Шимшић, Дивна | D82: {=iferror(iNDEX('Svi studenti'!$G$2:$G1001,MATCH(B82, 'Svi studenti'!$B$2:$B1001, 0)),"---")} -> 3и1а | E82: {=iferror(iNDEX('Prisustvo-Vežbe'!$Q$4:$Q1001,MATCH(B82, 'Prisustvo-Vežbe'!$A$4:$A1001, 0)),"---")} -> 5 | G82: {=iferror(iNDEX('Januar 1'!$AH$5:$AH1001,MATCH(B82, 'Januar 1'!$A$5:$A1001, 0)),"---")} -> --- | I82: {=iferror(iNDEX('Januar 2'!$AM$5:$AM1001,MATCH(B82, 'Januar 2'!$A$5:$A1001, 0)),"---")} -> 24.5 | K82: {=iferror(iNDEX('Jun1'!$AI$6:$AI1001,MATCH(B82, 'Jun1'!$A$6:$A1001, 0)),"---")} -> --- | M82: {=iferror(iNDEX('Jun2'!$AF$6:$AF1001,MATCH(B82, 'Jun2'!$A$6:$A1001, 0)),"---")} -> --- | O82: {=iferror(iNDEX('Sep1'!$AJ$6:$AJ1001,MATCH(B82, 'Sep1'!$A$6:$A1001, 0)),"---")} -> --- | Q82: {=iferror(iNDEX('Sep2'!$AF$6:$AF1001,MATCH(B82, 'Sep2'!$A$6:$A1001, 0)),"---")} -> --- | S82: {=iferror(iNDEX(Dodatni!$AJ$6:$AJ1001,MATCH(B82, Dodatni!$A$6:$A1001, 0)),"---")} -> --- | U82: {=iferror(iNDEX('Sep1-2324'!$AQ$6:$AQ1001,MATCH(B82, 'Sep1-2324'!$A$6:$A1001, 0)),"---")} -> ---
A83: 80 | B83: 135/2023 | C83: {=INDEX('Svi studenti'!$C$2:$C1001,MATCH(B83, 'Svi studenti'!$B$2:$B1001, 0))} -> Алановић, Дане | D83: {=iferror(iNDEX('Svi studenti'!$G$2:$G1001,MATCH(B83, 'Svi studenti'!$B$2:$B1001, 0)),"---")} -> 3и2а | E83: {=iferror(iNDEX('Prisustvo-Vežbe'!$Q$4:$Q1001,MATCH(B83, 'Prisustvo-Vežbe'!$A$4:$A1001, 0)),"---")} -> 2.5 | G83: {=iferror(iNDEX('Januar 1'!$AH$5:$AH1001,MATCH(B83, 'Januar 1'!$A$5:$A1001, 0)),"---")} -> --- | I83: {=iferror(iNDEX('Januar 2'!$AM$5:$AM1001,MATCH(B83, 'Januar 2'!$A$5:$A1001, 0)),"---")} -> --- | K83: {=iferror(iNDEX('Jun1'!$AI$6:$AI1001,MATCH(B83, 'Jun1'!$A$6:$A1001, 0)),"---")} -> 8 | M83: {=iferror(iNDEX('Jun2'!$AF$6:$AF1001,MATCH(B83, 'Jun2'!$A$6:$A1001, 0)),"---")} -> 33.5 | O83: {=iferror(iNDEX('Sep1'!$AJ$6:$AJ1001,MATCH(B83, 'Sep1'!$A$6:$A1001, 0)),"---")} -> --- | Q83: {=iferror(iNDEX('Sep2'!$AF$6:$AF1001,MATCH(B83, 'Sep2'!$A$6:$A1001, 0)),"---")} -> --- | S83: {=iferror(iNDEX(Dodatni!$AJ$6:$AJ1001,MATCH(B83, Dodatni!$A$6:$A1001, 0)),"---")} -> --- | U83: {=iferror(iNDEX('Sep1-2324'!$AQ$6:$AQ1001,MATCH(B83, 'Sep1-2324'!$A$6:$A1001, 0)),"---")} -> ---
A84: 81 | B84: 84/2023 | C84: {=INDEX('Svi studenti'!$C$2:$C1001,MATCH(B84, 'Svi studenti'!$B$2:$B1001, 0))} -> Анђелковић, Борис | D84: {=iferror(iNDEX('Svi studenti'!$G$2:$G1001,MATCH(B84, 'Svi studenti'!$B$2:$B1001, 0)),"---")} -> 3и2б | E84: {=iferror(iNDEX('Prisustvo-Vežbe'!$Q$4:$Q1001,MATCH(B84, 'Prisustvo-Vežbe'!$A$4:$A1001, 0)),"---")} -> 0 | G84: {=iferror(iNDEX('Januar 1'!$AH$5:$AH1001,MATCH(B84, 'Januar 1'!$A$5:$A1001, 0)),"---")} -> --- | I84: {=iferror(iNDEX('Januar 2'!$AM$5:$AM1001,MATCH(B84, 'Januar 2'!$A$5:$A1001, 0)),"---")} -> --- | K84: {=iferror(iNDEX('Jun1'!$AI$6:$AI1001,MATCH(B84, 'Jun1'!$A$6:$A1001, 0)),"---")} -> --- | M84: {=iferror(iNDEX('Jun2'!$AF$6:$AF1001,MATCH(B84, 'Jun2'!$A$6:$A1001, 0)),"---")} -> 35.5 | O84: {=iferror(iNDEX('Sep1'!$AJ$6:$AJ1001,MATCH(B84, 'Sep1'!$A$6:$A1001, 0)),"---")} -> --- | Q84: {=iferror(iNDEX('Sep2'!$AF$6:$AF1001,MATCH(B84, 'Sep2'!$A$6:$A1001, 0)),"---")} -> --- | S84: {=iferror(iNDEX(Dodatni!$AJ$6:$AJ1001,MATCH(B84, Dodatni!$A$6:$A1001, 0)),"---")} -> --- | U84: {=iferror(iNDEX('Sep1-2324'!$AQ$6:$AQ1001,MATCH(B84, 'Sep1-2324'!$A$6:$A1001, 0)),"---")} -> ---
A85: 82 | B85: 95/2023 | C85: {=INDEX('Svi studenti'!$C$2:$C1001,MATCH(B85, 'Svi studenti'!$B$2:$B1001, 0))} -> Арсеновић, Виктор | D85: {=iferror(iNDEX('Svi studenti'!$G$2:$G1001,MATCH(B85, 'Svi studenti'!$B$2:$B1001, 0)),"---")} -> 3и2а | E85: {=iferror(iNDEX('Prisustvo-Vežbe'!$Q$4:$Q1001,MATCH(B85, 'Prisustvo-Vežbe'!$A$4:$A1001, 0)),"---")} -> 1 | G85: {=iferror(iNDEX('Januar 1'!$AH$5:$AH1001,MATCH(B85, 'Januar 1'!$A$5:$A1001, 0)),"---")} -> --- | I85: {=iferror(iNDEX('Januar 2'!$AM$5:$AM1001,MATCH(B85, 'Januar 2'!$A$5:$A1001, 0)),"---")} -> --- | K85: {=iferror(iNDEX('Jun1'!$AI$6:$AI1001,MATCH(B85, 'Jun1'!$A$6:$A1001, 0)),"---")} -> --- | M85: {=iferror(iNDEX('Jun2'!$AF$6:$AF1001,MATCH(B85, 'Jun2'!$A$6:$A1001, 0)),"---")} -> --- | O85: {=iferror(iNDEX('Sep1'!$AJ$6:$AJ1001,MATCH(B85, 'Sep1'!$A$6:$A1001, 0)),"---")} -> --- | Q85: {=iferror(iNDEX('Sep2'!$AF$6:$AF1001,MATCH(B85, 'Sep2'!$A$6:$A1001, 0)),"---")} -> --- | S85: {=iferror(iNDEX(Dodatni!$AJ$6:$AJ1001,MATCH(B85, Dodatni!$A$6:$A1001, 0)),"---")} -> --- | U85: {=iferror(iNDEX('Sep1-2324'!$AQ$6:$AQ1001,MATCH(B85, 'Sep1-2324'!$A$6:$A1001, 0)),"---")} -> ---
A86: 83 | B86: 24/2023 | C86: {=INDEX('Svi studenti'!$C$2:$C1001,MATCH(B86, 'Svi studenti'!$B$2:$B1001, 0))} -> Бановић, Љубомир | D86: {=iferror(iNDEX('Svi studenti'!$G$2:$G1001,MATCH(B86, 'Svi studenti'!$B$2:$B1001, 0)),"---")} -> 3и2б | E86: {=iferror(iNDEX('Prisustvo-Vežbe'!$Q$4:$Q1001,MATCH(B86, 'Prisustvo-Vežbe'!$A$4:$A1001, 0)),"---")} -> 5 | G86: {=iferror(iNDEX('Januar 1'!$AH$5:$AH1001,MATCH(B86, 'Januar 1'!$A$5:$A1001, 0)),"---")} -> 54.8 | I86: {=iferror(iNDEX('Januar 2'!$AM$5:$AM1001,MATCH(B86, 'Januar 2'!$A$5:$A1001, 0)),"---")} -> --- | K86: {=iferror(iNDEX('Jun1'!$AI$6:$AI1001,MATCH(B86, 'Jun1'!$A$6:$A1001, 0)),"---")} -> --- | M86: {=iferror(iNDEX('Jun2'!$AF$6:$AF1001,MATCH(B86, 'Jun2'!$A$6:$A1001, 0)),"---")} -> --- | O86: {=iferror(iNDEX('Sep1'!$AJ$6:$AJ1001,MATCH(B86, 'Sep1'!$A$6:$A1001, 0)),"---")} -> --- | Q86: {=iferror(iNDEX('Sep2'!$AF$6:$AF1001,MATCH(B86, 'Sep2'!$A$6:$A1001, 0)),"---")} -> --- | S86: {=iferror(iNDEX(Dodatni!$AJ$6:$AJ1001,MATCH(B86, Dodatni!$A$6:$A1001, 0)),"---")} -> --- | U86: {=iferror(iNDEX('Sep1-2324'!$AQ$6:$AQ1001,MATCH(B86, 'Sep1-2324'!$A$6:$A1001, 0)),"---")} -> ---
A87: 84 | B87: 251/2019 | C87: {=INDEX('Svi studenti'!$C$2:$C1001,MATCH(B87, 'Svi studenti'!$B$2:$B1001, 0))} -> Бекчић, Драган | D87: {=iferror(iNDEX('Svi studenti'!$G$2:$G1001,MATCH(B87, 'Svi studenti'!$B$2:$B1001, 0)),"---")} -> 3и2а | E87: {=iferror(iNDEX('Prisustvo-Vežbe'!$Q$4:$Q1001,MATCH(B87, 'Prisustvo-Vežbe'!$A$4:$A1001, 0)),"---")} -> 2.5 | G87: {=iferror(iNDEX('Januar 1'!$AH$5:$AH1001,MATCH(B87, 'Januar 1'!$A$5:$A1001, 0)),"---")} -> --- | I87: {=iferror(iNDEX('Januar 2'!$AM$5:$AM1001,MATCH(B87, 'Januar 2'!$A$5:$A1001, 0)),"---")} -> 9.5 | K87: {=iferror(iNDEX('Jun1'!$AI$6:$AI1001,MATCH(B87, 'Jun1'!$A$6:$A1001, 0)),"---")} -> 12 | M87: {=iferror(iNDEX('Jun2'!$AF$6:$AF1001,MATCH(B87, 'Jun2'!$A$6:$A1001, 0)),"---")} -> 26.5 | O87: {=iferror(iNDEX('Sep1'!$AJ$6:$AJ1001,MATCH(B87, 'Sep1'!$A$6:$A1001, 0)),"---")} -> --- | Q87: {=iferror(iNDEX('Sep2'!$AF$6:$AF1001,MATCH(B87, 'Sep2'!$A$6:$A1001, 0)),"---")} -> --- | S87: {=iferror(iNDEX(Dodatni!$AJ$6:$AJ1001,MATCH(B87, Dodatni!$A$6:$A1001, 0)),"---")} -> --- | U87: {=iferror(iNDEX('Sep1-2324'!$AQ$6:$AQ1001,MATCH(B87, 'Sep1-2324'!$A$6:$A1001, 0)),"---")} -> ---
A88: 85 | B88: 159/2024 | C88: {=INDEX('Svi studenti'!$C$2:$C1001,MATCH(B88, 'Svi studenti'!$B$2:$B1001, 0))} -> Бикић, Андрија | D88: {=iferror(iNDEX('Svi studenti'!$G$2:$G1001,MATCH(B88, 'Svi studenti'!$B$2:$B1001, 0)),"---")} -> 3и2а | E88: {=iferror(iNDEX('Prisustvo-Vežbe'!$Q$4:$Q1001,MATCH(B88, 'Prisustvo-Vežbe'!$A$4:$A1001, 0)),"---")} -> 0 | G88: {=iferror(iNDEX('Januar 1'!$AH$5:$AH1001,MATCH(B88, 'Januar 1'!$A$5:$A1001, 0)),"---")} -> --- | I88: {=iferror(iNDEX('Januar 2'!$AM$5:$AM1001,MATCH(B88, 'Januar 2'!$A$5:$A1001, 0)),"---")} -> --- | K88: {=iferror(iNDEX('Jun1'!$AI$6:$AI1001,MATCH(B88, 'Jun1'!$A$6:$A1001, 0)),"---")} -> --- | M88: {=iferror(iNDEX('Jun2'!$AF$6:$AF1001,MATCH(B88, 'Jun2'!$A$6:$A1001, 0)),"---")} -> --- | O88: {=iferror(iNDEX('Sep1'!$AJ$6:$AJ1001,MATCH(B88, 'Sep1'!$A$6:$A1001, 0)),"---")} -> --- | Q88: {=iferror(iNDEX('Sep2'!$AF$6:$AF1001,MATCH(B88, 'Sep2'!$A$6:$A1001, 0)),"---")} -> --- | S88: {=iferror(iNDEX(Dodatni!$AJ$6:$AJ1001,MATCH(B88, Dodatni!$A$6:$A1001, 0)),"---")} -> --- | U88: {=iferror(iNDEX('Sep1-2324'!$AQ$6:$AQ1001,MATCH(B88, 'Sep1-2324'!$A$6:$A1001, 0)),"---")} -> ---
A89: 86 | B89: 171/2023 | C89: {=INDEX('Svi studenti'!$C$2:$C1001,MATCH(B89, 'Svi studenti'!$B$2:$B1001, 0))} -> Васиљевић, Василије | D89: {=iferror(iNDEX('Svi studenti'!$G$2:$G1001,MATCH(B89, 'Svi studenti'!$B$2:$B1001, 0)),"---")} -> 3и2а | E89: {=iferror(iNDEX('Prisustvo-Vežbe'!$Q$4:$Q1001,MATCH(B89, 'Prisustvo-Vežbe'!$A$4:$A1001, 0)),"---")} -> 0 | G89: {=iferror(iNDEX('Januar 1'!$AH$5:$AH1001,MATCH(B89, 'Januar 1'!$A$5:$A1001, 0)),"---")} -> 16.5 | I89: {=iferror(iNDEX('Januar 2'!$AM$5:$AM1001,MATCH(B89, 'Januar 2'!$A$5:$A1001, 0)),"---")} -> --- | K89: {=iferror(iNDEX('Jun1'!$AI$6:$AI1001,MATCH(B89, 'Jun1'!$A$6:$A1001, 0)),"---")} -> --- | M89: {=iferror(iNDEX('Jun2'!$AF$6:$AF1001,MATCH(B89, 'Jun2'!$A$6:$A1001, 0)),"---")} -> 34.5 | O89: {=iferror(iNDEX('Sep1'!$AJ$6:$AJ1001,MATCH(B89, 'Sep1'!$A$6:$A1001, 0)),"---")} -> --- | Q89: {=iferror(iNDEX('Sep2'!$AF$6:$AF1001,MATCH(B89, 'Sep2'!$A$6:$A1001, 0)),"---")} -> --- | S89: {=iferror(iNDEX(Dodatni!$AJ$6:$AJ1001,MATCH(B89, Dodatni!$A$6:$A1001, 0)),"---")} -> --- | U89: {=iferror(iNDEX('Sep1-2324'!$AQ$6:$AQ1001,MATCH(B89, 'Sep1-2324'!$A$6:$A1001, 0)),"---")} -> ---
A90: 87 | B90: 203/2021 | C90: {=INDEX('Svi studenti'!$C$2:$C1001,MATCH(B90, 'Svi studenti'!$B$2:$B1001, 0))} -> Величковић, Јелена | D90: {=iferror(iNDEX('Svi studenti'!$G$2:$G1001,MATCH(B90, 'Svi studenti'!$B$2:$B1001, 0)),"---")} -> 3и2а | E90: {=iferror(iNDEX('Prisustvo-Vežbe'!$Q$4:$Q1001,MATCH(B90, 'Prisustvo-Vežbe'!$A$4:$A1001, 0)),"---")} -> 0.5 | G90: {=iferror(iNDEX('Januar 1'!$AH$5:$AH1001,MATCH(B90, 'Januar 1'!$A$5:$A1001, 0)),"---")} -> --- | I90: {=iferror(iNDEX('Januar 2'!$AM$5:$AM1001,MATCH(B90, 'Januar 2'!$A$5:$A1001, 0)),"---")} -> --- | K90: {=iferror(iNDEX('Jun1'!$AI$6:$AI1001,MATCH(B90, 'Jun1'!$A$6:$A1001, 0)),"---")} -> --- | M90: {=iferror(iNDEX('Jun2'!$AF$6:$AF1001,MATCH(B90, 'Jun2'!$A$6:$A1001, 0)),"---")} -> --- | O90: {=iferror(iNDEX('Sep1'!$AJ$6:$AJ1001,MATCH(B90, 'Sep1'!$A$6:$A1001, 0)),"---")} -> --- | Q90: {=iferror(iNDEX('Sep2'!$AF$6:$AF1001,MATCH(B90, 'Sep2'!$A$6:$A1001, 0)),"---")} -> --- | S90: {=iferror(iNDEX(Dodatni!$AJ$6:$AJ1001,MATCH(B90, Dodatni!$A$6:$A1001, 0)),"---")} -> --- | U90: {=iferror(iNDEX('Sep1-2324'!$AQ$6:$AQ1001,MATCH(B90, 'Sep1-2324'!$A$6:$A1001, 0)),"---")} -> ---
A91: 88 | B91: 36/2021 | C91: {=INDEX('Svi studenti'!$C$2:$C1001,MATCH(B91, 'Svi studenti'!$B$2:$B1001, 0))} -> Владисављевић, Никола | D91: {=iferror(iNDEX('Svi studenti'!$G$2:$G1001,MATCH(B91, 'Svi studenti'!$B$2:$B1001, 0)),"---")} -> 3и2б | E91: {=iferror(iNDEX('Prisustvo-Vežbe'!$Q$4:$Q1001,MATCH(B91, 'Prisustvo-Vežbe'!$A$4:$A1001, 0)),"---")} -> 0.5 | G91: {=iferror(iNDEX('Januar 1'!$AH$5:$AH1001,MATCH(B91, 'Januar 1'!$A$5:$A1001, 0)),"---")} -> --- | I91: {=iferror(iNDEX('Januar 2'!$AM$5:$AM1001,MATCH(B91, 'Januar 2'!$A$5:$A1001, 0)),"---")} -> --- | K91: {=iferror(iNDEX('Jun1'!$AI$6:$AI1001,MATCH(B91, 'Jun1'!$A$6:$A1001, 0)),"---")} -> --- | M91: {=iferror(iNDEX('Jun2'!$AF$6:$AF1001,MATCH(B91, 'Jun2'!$A$6:$A1001, 0)),"---")} -> --- | O91: {=iferror(iNDEX('Sep1'!$AJ$6:$AJ1001,MATCH(B91, 'Sep1'!$A$6:$A1001, 0)),"---")} -> 16.5 | Q91: {=iferror(iNDEX('Sep2'!$AF$6:$AF1001,MATCH(B91, 'Sep2'!$A$6:$A1001, 0)),"---")} -> 40 | S91: {=iferror(iNDEX(Dodatni!$AJ$6:$AJ1001,MATCH(B91, Dodatni!$A$6:$A1001, 0)),"---")} -> --- | U91: {=iferror(iNDEX('Sep1-2324'!$AQ$6:$AQ1001,MATCH(B91, 'Sep1-2324'!$A$6:$A1001, 0)),"---")} -> ---
A92: 89 | B92: 196/2023 | C92: {=INDEX('Svi studenti'!$C$2:$C1001,MATCH(B92, 'Svi studenti'!$B$2:$B1001, 0))} -> Вујко, Димитрије | D92: {=iferror(iNDEX('Svi studenti'!$G$2:$G1001,MATCH(B92, 'Svi studenti'!$B$2:$B1001, 0)),"---")} -> 3и2б | E92: {=iferror(iNDEX('Prisustvo-Vežbe'!$Q$4:$Q1001,MATCH(B92, 'Prisustvo-Vežbe'!$A$4:$A1001, 0)),"---")} -> 0 | G92: {=iferror(iNDEX('Januar 1'!$AH$5:$AH1001,MATCH(B92, 'Januar 1'!$A$5:$A1001, 0)),"---")} -> --- | I92: {=iferror(iNDEX('Januar 2'!$AM$5:$AM1001,MATCH(B92, 'Januar 2'!$A$5:$A1001, 0)),"---")} -> --- | K92: {=iferror(iNDEX('Jun1'!$AI$6:$AI1001,MATCH(B92, 'Jun1'!$A$6:$A1001, 0)),"---")} -> --- | M92: {=iferror(iNDEX('Jun2'!$AF$6:$AF1001,MATCH(B92, 'Jun2'!$A$6:$A1001, 0)),"---")} -> --- | O92: {=iferror(iNDEX('Sep1'!$AJ$6:$AJ1001,MATCH(B92, 'Sep1'!$A$6:$A1001, 0)),"---")} -> --- | Q92: {=iferror(iNDEX('Sep2'!$AF$6:$AF1001,MATCH(B92, 'Sep2'!$A$6:$A1001, 0)),"---")} -> --- | S92: {=iferror(iNDEX(Dodatni!$AJ$6:$AJ1001,MATCH(B92, Dodatni!$A$6:$A1001, 0)),"---")} -> --- | U92: {=iferror(iNDEX('Sep1-2324'!$AQ$6:$AQ1001,MATCH(B92, 'Sep1-2324'!$A$6:$A1001, 0)),"---")} -> ---
A93: 90 | B93: 124/2022 | C93: {=INDEX('Svi studenti'!$C$2:$C1001,MATCH(B93, 'Svi studenti'!$B$2:$B1001, 0))} -> Вуковић, Јана | D93: {=iferror(iNDEX('Svi studenti'!$G$2:$G1001,MATCH(B93, 'Svi studenti'!$B$2:$B1001, 0)),"---")} -> 3и2б | E93: {=iferror(iNDEX('Prisustvo-Vežbe'!$Q$4:$Q1001,MATCH(B93, 'Prisustvo-Vežbe'!$A$4:$A1001, 0)),"---")} -> 4.5 | G93: {=iferror(iNDEX('Januar 1'!$AH$5:$AH1001,MATCH(B93, 'Januar 1'!$A$5:$A1001, 0)),"---")} -> --- | I93: {=iferror(iNDEX('Januar 2'!$AM$5:$AM1001,MATCH(B93, 'Januar 2'!$A$5:$A1001, 0)),"---")} -> 31 | K93: {=iferror(iNDEX('Jun1'!$AI$6:$AI1001,MATCH(B93, 'Jun1'!$A$6:$A1001, 0)),"---")} -> 17.75 | M93: {=iferror(iNDEX('Jun2'!$AF$6:$AF1001,MATCH(B93, 'Jun2'!$A$6:$A1001, 0)),"---")} -> --- | O93: {=iferror(iNDEX('Sep1'!$AJ$6:$AJ1001,MATCH(B93, 'Sep1'!$A$6:$A1001, 0)),"---")} -> 53.5 | Q93: {=iferror(iNDEX('Sep2'!$AF$6:$AF1001,MATCH(B93, 'Sep2'!$A$6:$A1001, 0)),"---")} -> --- | S93: {=iferror(iNDEX(Dodatni!$AJ$6:$AJ1001,MATCH(B93, Dodatni!$A$6:$A1001, 0)),"---")} -> --- | U93: {=iferror(iNDEX('Sep1-2324'!$AQ$6:$AQ1001,MATCH(B93, 'Sep1-2324'!$A$6:$A1001, 0)),"---")} -> ---
A94: 91 | B94: 439/2019 | C94: {=INDEX('Svi studenti'!$C$2:$C1001,MATCH(B94, 'Svi studenti'!$B$2:$B1001, 0))} -> Вучељић, Марко | D94: {=iferror(iNDEX('Svi studenti'!$G$2:$G1001,MATCH(B94, 'Svi studenti'!$B$2:$B1001, 0)),"---")} -> 3и2а | E94: {=iferror(iNDEX('Prisustvo-Vežbe'!$Q$4:$Q1001,MATCH(B94, 'Prisustvo-Vežbe'!$A$4:$A1001, 0)),"---")} -> 5 | G94: {=iferror(iNDEX('Januar 1'!$AH$5:$AH1001,MATCH(B94, 'Januar 1'!$A$5:$A1001, 0)),"---")} -> --- | I94: {=iferror(iNDEX('Januar 2'!$AM$5:$AM1001,MATCH(B94, 'Januar 2'!$A$5:$A1001, 0)),"---")} -> 35 | K94: {=iferror(iNDEX('Jun1'!$AI$6:$AI1001,MATCH(B94, 'Jun1'!$A$6:$A1001, 0)),"---")} -> --- | M94: {=iferror(iNDEX('Jun2'!$AF$6:$AF1001,MATCH(B94, 'Jun2'!$A$6:$A1001, 0)),"---")} -> --- | O94: {=iferror(iNDEX('Sep1'!$AJ$6:$AJ1001,MATCH(B94, 'Sep1'!$A$6:$A1001, 0)),"---")} -> --- | Q94: {=iferror(iNDEX('Sep2'!$AF$6:$AF1001,MATCH(B94, 'Sep2'!$A$6:$A1001, 0)),"---")} -> --- | S94: {=iferror(iNDEX(Dodatni!$AJ$6:$AJ1001,MATCH(B94, Dodatni!$A$6:$A1001, 0)),"---")} -> --- | U94: {=iferror(iNDEX('Sep1-2324'!$AQ$6:$AQ1001,MATCH(B94, 'Sep1-2324'!$A$6:$A1001, 0)),"---")} -> ---
A95: 92 | B95: 328/2021 | C95: {=INDEX('Svi studenti'!$C$2:$C1001,MATCH(B95, 'Svi studenti'!$B$2:$B1001, 0))} -> Гагић, Јован | D95: {=iferror(iNDEX('Svi studenti'!$G$2:$G1001,MATCH(B95, 'Svi studenti'!$B$2:$B1001, 0)),"---")} -> 3и2б | E95: {=iferror(iNDEX('Prisustvo-Vežbe'!$Q$4:$Q1001,MATCH(B95, 'Prisustvo-Vežbe'!$A$4:$A1001, 0)),"---")} -> 0 | G95: {=iferror(iNDEX('Januar 1'!$AH$5:$AH1001,MATCH(B95, 'Januar 1'!$A$5:$A1001, 0)),"---")} -> --- | I95: {=iferror(iNDEX('Januar 2'!$AM$5:$AM1001,MATCH(B95, 'Januar 2'!$A$5:$A1001, 0)),"---")} -> --- | K95: {=iferror(iNDEX('Jun1'!$AI$6:$AI1001,MATCH(B95, 'Jun1'!$A$6:$A1001, 0)),"---")} -> --- | M95: {=iferror(iNDEX('Jun2'!$AF$6:$AF1001,MATCH(B95, 'Jun2'!$A$6:$A1001, 0)),"---")} -> --- | O95: {=iferror(iNDEX('Sep1'!$AJ$6:$AJ1001,MATCH(B95, 'Sep1'!$A$6:$A1001, 0)),"---")} -> --- | Q95: {=iferror(iNDEX('Sep2'!$AF$6:$AF1001,MATCH(B95, 'Sep2'!$A$6:$A1001, 0)),"---")} -> --- | S95: {=iferror(iNDEX(Dodatni!$AJ$6:$AJ1001,MATCH(B95, Dodatni!$A$6:$A1001, 0)),"---")} -> --- | U95: {=iferror(iNDEX('Sep1-2324'!$AQ$6:$AQ1001,MATCH(B95, 'Sep1-2324'!$A$6:$A1001, 0)),"---")} -> ---
A96: 93 | B96: 131/2022 | C96: {=INDEX('Svi studenti'!$C$2:$C1001,MATCH(B96, 'Svi studenti'!$B$2:$B1001, 0))} -> Гајић, Реља | D96: {=iferror(iNDEX('Svi studenti'!$G$2:$G1001,MATCH(B96, 'Svi studenti'!$B$2:$B1001, 0)),"---")} -> 3и2а | E96: {=iferror(iNDEX('Prisustvo-Vežbe'!$Q$4:$Q1001,MATCH(B96, 'Prisustvo-Vežbe'!$A$4:$A1001, 0)),"---")} -> 0 | G96: {=iferror(iNDEX('Januar 1'!$AH$5:$AH1001,MATCH(B96, 'Januar 1'!$A$5:$A1001, 0)),"---")} -> --- | I96: {=iferror(iNDEX('Januar 2'!$AM$5:$AM1001,MATCH(B96, 'Januar 2'!$A$5:$A1001, 0)),"---")} -> --- | K96: {=iferror(iNDEX('Jun1'!$AI$6:$AI1001,MATCH(B96, 'Jun1'!$A$6:$A1001, 0)),"---")} -> --- | M96: {=iferror(iNDEX('Jun2'!$AF$6:$AF1001,MATCH(B96, 'Jun2'!$A$6:$A1001, 0)),"---")} -> 32 | O96: {=iferror(iNDEX('Sep1'!$AJ$6:$AJ1001,MATCH(B96, 'Sep1'!$A$6:$A1001, 0)),"---")} -> --- | Q96: {=iferror(iNDEX('Sep2'!$AF$6:$AF1001,MATCH(B96, 'Sep2'!$A$6:$A1001, 0)),"---")} -> --- | S96: {=iferror(iNDEX(Dodatni!$AJ$6:$AJ1001,MATCH(B96, Dodatni!$A$6:$A1001, 0)),"---")} -> --- | U96: {=iferror(iNDEX('Sep1-2324'!$AQ$6:$AQ1001,MATCH(B96, 'Sep1-2324'!$A$6:$A1001, 0)),"---")} -> ---
A97: 94 | B97: 56/2023 | C97: {=INDEX('Svi studenti'!$C$2:$C1001,MATCH(B97, 'Svi studenti'!$B$2:$B1001, 0))} -> Гајић, Стефан | D97: {=iferror(iNDEX('Svi studenti'!$G$2:$G1001,MATCH(B97, 'Svi studenti'!$B$2:$B1001, 0)),"---")} -> 3и2б | E97: {=iferror(iNDEX('Prisustvo-Vežbe'!$Q$4:$Q1001,MATCH(B97, 'Prisustvo-Vežbe'!$A$4:$A1001, 0)),"---")} -> 5 | G97: {=iferror(iNDEX('Januar 1'!$AH$5:$AH1001,MATCH(B97, 'Januar 1'!$A$5:$A1001, 0)),"---")} -> --- | I97: {=iferror(iNDEX('Januar 2'!$AM$5:$AM1001,MATCH(B97, 'Januar 2'!$A$5:$A1001, 0)),"---")} -> --- | K97: {=iferror(iNDEX('Jun1'!$AI$6:$AI1001,MATCH(B97, 'Jun1'!$A$6:$A1001, 0)),"---")} -> --- | M97: {=iferror(iNDEX('Jun2'!$AF$6:$AF1001,MATCH(B97, 'Jun2'!$A$6:$A1001, 0)),"---")} -> 44 | O97: {=iferror(iNDEX('Sep1'!$AJ$6:$AJ1001,MATCH(B97, 'Sep1'!$A$6:$A1001, 0)),"---")} -> --- | Q97: {=iferror(iNDEX('Sep2'!$AF$6:$AF1001,MATCH(B97, 'Sep2'!$A$6:$A1001, 0)),"---")} -> --- | S97: {=iferror(iNDEX(Dodatni!$AJ$6:$AJ1001,MATCH(B97, Dodatni!$A$6:$A1001, 0)),"---")} -> --- | U97: {=iferror(iNDEX('Sep1-2324'!$AQ$6:$AQ1001,MATCH(B97, 'Sep1-2324'!$A$6:$A1001, 0)),"---")} -> ---
A98: 95 | B98: 151/2018 | C98: {=INDEX('Svi studenti'!$C$2:$C1001,MATCH(B98, 'Svi studenti'!$B$2:$B1001, 0))} -> Глигић, Марко | D98: {=iferror(iNDEX('Svi studenti'!$G$2:$G1001,MATCH(B98, 'Svi studenti'!$B$2:$B1001, 0)),"---")} -> 3и2а | E98: {=iferror(iNDEX('Prisustvo-Vežbe'!$Q$4:$Q1001,MATCH(B98, 'Prisustvo-Vežbe'!$A$4:$A1001, 0)),"---")} -> 0 | G98: {=iferror(iNDEX('Januar 1'!$AH$5:$AH1001,MATCH(B98, 'Januar 1'!$A$5:$A1001, 0)),"---")} -> --- | I98: {=iferror(iNDEX('Januar 2'!$AM$5:$AM1001,MATCH(B98, 'Januar 2'!$A$5:$A1001, 0)),"---")} -> --- | K98: {=iferror(iNDEX('Jun1'!$AI$6:$AI1001,MATCH(B98, 'Jun1'!$A$6:$A1001, 0)),"---")} -> --- | M98: {=iferror(iNDEX('Jun2'!$AF$6:$AF1001,MATCH(B98, 'Jun2'!$A$6:$A1001, 0)),"---")} -> --- | O98: {=iferror(iNDEX('Sep1'!$AJ$6:$AJ1001,MATCH(B98, 'Sep1'!$A$6:$A1001, 0)),"---")} -> --- | Q98: {=iferror(iNDEX('Sep2'!$AF$6:$AF1001,MATCH(B98, 'Sep2'!$A$6:$A1001, 0)),"---")} -> --- | S98: {=iferror(iNDEX(Dodatni!$AJ$6:$AJ1001,MATCH(B98, Dodatni!$A$6:$A1001, 0)),"---")} -> --- | U98: {=iferror(iNDEX('Sep1-2324'!$AQ$6:$AQ1001,MATCH(B98, 'Sep1-2324'!$A$6:$A1001, 0)),"---")} -> ---
A99: 96 | B99: 40/2022 | C99: {=INDEX('Svi studenti'!$C$2:$C1001,MATCH(B99, 'Svi studenti'!$B$2:$B1001, 0))} -> Давидовић, Лука | D99: {=iferror(iNDEX('Svi studenti'!$G$2:$G1001,MATCH(B99, 'Svi studenti'!$B$2:$B1001, 0)),"---")} -> 3и2б | E99: {=iferror(iNDEX('Prisustvo-Vežbe'!$Q$4:$Q1001,MATCH(B99, 'Prisustvo-Vežbe'!$A$4:$A1001, 0)),"---")} -> 0 | G99: {=iferror(iNDEX('Januar 1'!$AH$5:$AH1001,MATCH(B99, 'Januar 1'!$A$5:$A1001, 0)),"---")} -> --- | I99: {=iferror(iNDEX('Januar 2'!$AM$5:$AM1001,MATCH(B99, 'Januar 2'!$A$5:$A1001, 0)),"---")} -> --- | K99: {=iferror(iNDEX('Jun1'!$AI$6:$AI1001,MATCH(B99, 'Jun1'!$A$6:$A1001, 0)),"---")} -> --- | M99: {=iferror(iNDEX('Jun2'!$AF$6:$AF1001,MATCH(B99, 'Jun2'!$A$6:$A1001, 0)),"---")} -> --- | O99: {=iferror(iNDEX('Sep1'!$AJ$6:$AJ1001,MATCH(B99, 'Sep1'!$A$6:$A1001, 0)),"---")} -> --- | Q99: {=iferror(iNDEX('Sep2'!$AF$6:$AF1001,MATCH(B99, 'Sep2'!$A$6:$A1001, 0)),"---")} -> --- | S99: {=iferror(iNDEX(Dodatni!$AJ$6:$AJ1001,MATCH(B99, Dodatni!$A$6:$A1001, 0)),"---")} -> --- | U99: {=iferror(iNDEX('Sep1-2324'!$AQ$6:$AQ1001,MATCH(B99, 'Sep1-2324'!$A$6:$A1001, 0)),"---")} -> ---
A100: 97 | B100: 279/2019 | C100: {=INDEX('Svi studenti'!$C$2:$C1001,MATCH(B100, 'Svi studenti'!$B$2:$B1001, 0))} -> Достанић, Урош | D100: {=iferror(iNDEX('Svi studenti'!$G$2:$G1001,MATCH(B100, 'Svi studenti'!$B$2:$B1001, 0)),"---")} -> 3и2а | E100: {=iferror(iNDEX('Prisustvo-Vežbe'!$Q$4:$Q1001,MATCH(B100, 'Prisustvo-Vežbe'!$A$4:$A1001, 0)),"---")} -> 0 | G100: {=iferror(iNDEX('Januar 1'!$AH$5:$AH1001,MATCH(B100, 'Januar 1'!$A$5:$A1001, 0)),"---")} -> --- | I100: {=iferror(iNDEX('Januar 2'!$AM$5:$AM1001,MATCH(B100, 'Januar 2'!$A$5:$A1001, 0)),"---")} -> --- | K100: {=iferror(iNDEX('Jun1'!$AI$6:$AI1001,MATCH(B100, 'Jun1'!$A$6:$A1001, 0)),"---")} -> --- | M100: {=iferror(iNDEX('Jun2'!$AF$6:$AF1001,MATCH(B100, 'Jun2'!$A$6:$A1001, 0)),"---")} -> --- | O100: {=iferror(iNDEX('Sep1'!$AJ$6:$AJ1001,MATCH(B100, 'Sep1'!$A$6:$A1001, 0)),"---")} -> --- | Q100: {=iferror(iNDEX('Sep2'!$AF$6:$AF1001,MATCH(B100, 'Sep2'!$A$6:$A1001, 0)),"---")} -> --- | S100: {=iferror(iNDEX(Dodatni!$AJ$6:$AJ1001,MATCH(B100, Dodatni!$A$6:$A1001, 0)),"---")} -> --- | U100: {=iferror(iNDEX('Sep1-2324'!$AQ$6:$AQ1001,MATCH(B100, 'Sep1-2324'!$A$6:$A1001, 0)),"---")} -> ---
...

Sheet Prisustvo-Vežbe
C2: Nastavna nedelja | P2: Ukupno (13) | Q2: Poeni
A3: Indeks | B3: Ime i prezime | C3: 1 | D3: 2 | E3: 3 | F3: 4 | G3: 5 | H3: 6 | I3: 7 | J3: 8 | K3: 9 | L3: 10 | M3: 11 | N3: 12 | O3: 13
A4: 154/2023 | B4: {=INDEX('Svi studenti'!$C$2:$C1001,MATCH(A4, 'Svi studenti'!$B$2:$B1001, 0))} -> Ајдуковић, Лука | E4: 1 | L4: 1 | P4: =sum(C4:O4) -> 2 | Q4: =if(P4 > 0, min(P4*5/10,5), 0) -> 1
A5: 25/2018 | B5: {=INDEX('Svi studenti'!$C$2:$C1001,MATCH(A5, 'Svi studenti'!$B$2:$B1001, 0))} -> Арамбашић, Тодор | P5: =sum(C5:O5) -> 0 | Q5: =if(P5 > 0, min(P5*5/10,5), 0) -> 0
A6: 217/2023 | B6: {=INDEX('Svi studenti'!$C$2:$C1001,MATCH(A6, 'Svi studenti'!$B$2:$B1001, 0))} -> Аћимовић, Љубомир | C6: 1 | E6: 1 | F6: 1 | H6: 1 | J6: 1 | P6: =sum(C6:O6) -> 5 | Q6: =if(P6 > 0, min(P6*5/10,5), 0) -> 2.5
A7: 278/2021 | B7: {=INDEX('Svi studenti'!$C$2:$C1001,MATCH(A7, 'Svi studenti'!$B$2:$B1001, 0))} -> Бељић, Лазар | C7: 1 | E7: 1 | F7: 1 | H7: 1 | J7: 1 | K7: 1 | L7: 1 | M7: 1 | P7: =sum(C7:O7) -> 8 | Q7: =if(P7 > 0, min(P7*5/10,5), 0) -> 4
A8: 90/2023 | B8: {=INDEX('Svi studenti'!$C$2:$C1001,MATCH(A8, 'Svi studenti'!$B$2:$B1001, 0))} -> Божиновић, Дуња | E8: 1 | F8: 1 | P8: =sum(C8:O8) -> 2 | Q8: =if(P8 > 0, min(P8*5/10,5), 0) -> 1
A9: 178/2021 | B9: {=INDEX('Svi studenti'!$C$2:$C1001,MATCH(A9, 'Svi studenti'!$B$2:$B1001, 0))} -> Будимир, Никола | P9: =sum(C9:O9) -> 0 | Q9: =if(P9 > 0, min(P9*5/10,5), 0) -> 0
A10: 266/2021 | B10: {=INDEX('Svi studenti'!$C$2:$C1001,MATCH(A10, 'Svi studenti'!$B$2:$B1001, 0))} -> Влаховић, Иван | D10: 1 | E10: 1 | F10: 1 | H10: 1 | I10: 1 | J10: 1 | K10: 1 | L10: 1 | P10: =sum(C10:O10) -> 8 | Q10: =if(P10 > 0, min(P10*5/10,5), 0) -> 4
A11: 26/2023 | B11: {=INDEX('Svi studenti'!$C$2:$C1001,MATCH(A11, 'Svi studenti'!$B$2:$B1001, 0))} -> Вуковић, Лола | C11: 1 | D11: 1 | E11: 1 | F11: 1 | H11: 1 | I11: 1 | J11: 1 | K11: 1 | L11: 1 | M11: 1 | N11: 1 | P11: =sum(C11:O11) -> 11 | Q11: =if(P11 > 0, min(P11*5/10,5), 0) -> 5
A12: 82/2022 | B12: {=INDEX('Svi studenti'!$C$2:$C1001,MATCH(A12, 'Svi studenti'!$B$2:$B1001, 0))} -> Глигорић, Мила | C12: 1 | D12: 0 | E12: 0 | F12: 1 | G12: 1 | H12: 0 | I12: 0 | J12: 0 | K12: 0 | L12: 0 | M12: 0 | N12: 0 | O12: 0 | P12: =sum(C12:O12) -> 3 | Q12: =if(P12 > 0, min(P12*5/10,5), 0) -> 1.5
A13: 61/2023 | B13: {=INDEX('Svi studenti'!$C$2:$C1001,MATCH(A13, 'Svi studenti'!$B$2:$B1001, 0))} -> Грбовић, Теодора | C13: 0 | D13: 1 | E13: 1 | F13: 1 | G13: 1 | H13: 1 | I13: 1 | J13: 1 | K13: 1 | L13: 1 | M13: 1 | N13: 1 | O13: 0 | P13: =sum(C13:O13) -> 11 | Q13: =if(P13 > 0, min(P13*5/10,5), 0) -> 5
A14: 305/2018 | B14: {=INDEX('Svi studenti'!$C$2:$C1001,MATCH(A14, 'Svi studenti'!$B$2:$B1001, 0))} -> Гудурић, Урош | P14: =sum(C14:O14) -> 0 | Q14: =if(P14 > 0, min(P14*5/10,5), 0) -> 0
A15: 377/2019 | B15: {=INDEX('Svi studenti'!$C$2:$C1001,MATCH(A15, 'Svi studenti'!$B$2:$B1001, 0))} -> Дамњановић, Татјана | C15: 1 | L15: 1 | P15: =sum(C15:O15) -> 2 | Q15: =if(P15 > 0, min(P15*5/10,5), 0) -> 1
A16: 141/2022 | B16: {=INDEX('Svi studenti'!$C$2:$C1001,MATCH(A16, 'Svi studenti'!$B$2:$B1001, 0))} -> Дељанин, Петар | C16: 1 | D16: 1 | E16: 1 | F16: 1 | K16: 1 | L16: 1 | P16: =sum(C16:O16) -> 6 | Q16: =if(P16 > 0, min(P16*5/10,5), 0) -> 3
A17: 206/2022 | B17: {=INDEX('Svi studenti'!$C$2:$C1001,MATCH(A17, 'Svi studenti'!$B$2:$B1001, 0))} -> Дивјак, Анастасија | C17: 1 | D17: 1 | F17: 1 | I17: 1 | L17: 1 | P17: =sum(C17:O17) -> 5 | Q17: =if(P17 > 0, min(P17*5/10,5), 0) -> 2.5
A18: 98/2023 | B18: {=INDEX('Svi studenti'!$C$2:$C1001,MATCH(A18, 'Svi studenti'!$B$2:$B1001, 0))} -> Димитријевић, Младен | C18: 1 | D18: 0 | E18: 1 | F18: 1 | G18: 1 | H18: 1 | I18: 1 | J18: 1 | K18: 1 | L18: 1 | M18: 1 | N18: 1 | O18: 0 | P18: =sum(C18:O18) -> 11 | Q18: =if(P18 > 0, min(P18*5/10,5), 0) -> 5
A19: 122/2023 | B19: {=INDEX('Svi studenti'!$C$2:$C1001,MATCH(A19, 'Svi studenti'!$B$2:$B1001, 0))} -> Димитријевић, Никола | C19: 1 | D19: 1 | E19: 1 | F19: 1 | G19: 1 | H19: 1 | I19: 1 | J19: 1 | K19: 1 | L19: 1 | M19: 1 | N19: 1 | P19: =sum(C19:O19) -> 12 | Q19: =if(P19 > 0, min(P19*5/10,5), 0) -> 5
A20: 401/2021 | B20: {=INDEX('Svi studenti'!$C$2:$C1001,MATCH(A20, 'Svi studenti'!$B$2:$B1001, 0))} -> Добросављевић, Исидора | C20: 1 | D20: 0 | E20: 1 | F20: 1 | G20: 1 | H20: 1 | I20: 0 | J20: 0 | K20: 0 | L20: 0 | M20: 0 | N20: 0 | O20: 0 | P20: =sum(C20:O20) -> 5 | Q20: =if(P20 > 0, min(P20*5/10,5), 0) -> 2.5
A21: 110/2019 | B21: {=INDEX('Svi studenti'!$C$2:$C1001,MATCH(A21, 'Svi studenti'!$B$2:$B1001, 0))} -> Докмановић, Нина | C21: 1 | D21: 1 | E21: 1 | F21: 1 | J21: 1 | K21: 1 | P21: =sum(C21:O21) -> 6 | Q21: =if(P21 > 0, min(P21*5/10,5), 0) -> 3
A22: 150/2023 | B22: {=INDEX('Svi studenti'!$C$2:$C1001,MATCH(A22, 'Svi studenti'!$B$2:$B1001, 0))} -> Ђорђевић, Александар | C22: 1 | P22: =sum(C22:O22) -> 1 | Q22: =if(P22 > 0, min(P22*5/10,5), 0) -> 0.5
A23: 69/2023 | B23: {=INDEX('Svi studenti'!$C$2:$C1001,MATCH(A23, 'Svi studenti'!$B$2:$B1001, 0))} -> Ђорђевић, Чедомир | P23: =sum(C23:O23) -> 0 | Q23: =if(P23 > 0, min(P23*5/10,5), 0) -> 0
A24: 214/2023 | B24: {=INDEX('Svi studenti'!$C$2:$C1001,MATCH(A24, 'Svi studenti'!$B$2:$B1001, 0))} -> Ђуровић, Слађана | C24: 1 | D24: 1 | E24: 1 | F24: 1 | H24: 1 | J24: 1 | K24: 1 | L24: 1 | M24: 1 | N24: 1 | P24: =sum(C24:O24) -> 10 | Q24: =if(P24 > 0, min(P24*5/10,5), 0) -> 5
A25: 345/2021 | B25: {=INDEX('Svi studenti'!$C$2:$C1001,MATCH(A25, 'Svi studenti'!$B$2:$B1001, 0))} -> Здјелар, Катарина | P25: =sum(C25:O25) -> 0 | Q25: =if(P25 > 0, min(P25*5/10,5), 0) -> 0
A26: 37/2023 | B26: {=INDEX('Svi studenti'!$C$2:$C1001,MATCH(A26, 'Svi studenti'!$B$2:$B1001, 0))} -> Иваниан, Сергеи | C26: 1 | D26: 1 | E26: 1 | F26: 1 | G26: 1 | H26: 1 | I26: 1 | J26: 1 | K26: 1 | L26: 1 | M26: 1 | P26: =sum(C26:O26) -> 11 | Q26: =if(P26 > 0, min(P26*5/10,5), 0) -> 5
A27: 62/2018 | B27: {=INDEX('Svi studenti'!$C$2:$C1001,MATCH(A27, 'Svi studenti'!$B$2:$B1001, 0))} -> Ивановић, Нада | P27: =sum(C27:O27) -> 0 | Q27: =if(P27 > 0, min(P27*5/10,5), 0) -> 0
A28: 42/2023 | B28: {=INDEX('Svi studenti'!$C$2:$C1001,MATCH(A28, 'Svi studenti'!$B$2:$B1001, 0))} -> Ивановић, Никола | C28: 1 | E28: 1 | F28: 1 | H28: 1 | I28: 1 | J28: 1 | L28: 1 | N28: 1 | P28: =sum(C28:O28) -> 8 | Q28: =if(P28 > 0, min(P28*5/10,5), 0) -> 4
A29: 273/2022 | B29: {=INDEX('Svi studenti'!$C$2:$C1001,MATCH(A29, 'Svi studenti'!$B$2:$B1001, 0))} -> Јанковић, Урош | C29: 1 | D29: 0 | E29: 1 | F29: 1 | G29: 1 | H29: 1 | I29: 1 | J29: 0 | K29: 1 | L29: 1 | M29: 1 | N29: 0 | O29: 1 | P29: =sum(C29:O29) -> 10 | Q29: =if(P29 > 0, min(P29*5/10,5), 0) -> 5
A30: 109/2022 | B30: {=INDEX('Svi studenti'!$C$2:$C1001,MATCH(A30, 'Svi studenti'!$B$2:$B1001, 0))} -> Јевремовић, Исидора | C30: 1 | D30: 0 | E30: 0 | F30: 0 | G30: 1 | H30: 1 | I30: 0 | J30: 0 | K30: 1 | L30: 1 | M30: 1 | N30: 1 | O30: 1 | P30: =sum(C30:O30) -> 8 | Q30: =if(P30 > 0, min(P30*5/10,5), 0) -> 4
A31: 174/2021 | B31: {=INDEX('Svi studenti'!$C$2:$C1001,MATCH(A31, 'Svi studenti'!$B$2:$B1001, 0))} -> Јовановић, Ана | E31: 1 | K31: 1 | L31: 1 | P31: =sum(C31:O31) -> 3 | Q31: =if(P31 > 0, min(P31*5/10,5), 0) -> 1.5
A32: 50/2023 | B32: {=INDEX('Svi studenti'!$C$2:$C1001,MATCH(A32, 'Svi studenti'!$B$2:$B1001, 0))} -> Јовановић, Ђорђе | C32: 1 | D32: 1 | F32: 1 | P32: =sum(C32:O32) -> 3 | Q32: =if(P32 > 0, min(P32*5/10,5), 0) -> 1.5
A33: 34/2023 | B33: {=INDEX('Svi studenti'!$C$2:$C1001,MATCH(A33, 'Svi studenti'!$B$2:$B1001, 0))} -> Јовановић, Лазар | C33: 1 | D33: 1 | F33: 1 | G33: 1 | H33: 1 | I33: 1 | J33: 1 | K33: 1 | L33: 1 | N33: 1 | P33: =sum(C33:O33) -> 10 | Q33: =if(P33 > 0, min(P33*5/10,5), 0) -> 5
A34: 86/2015 | B34: {=INDEX('Svi studenti'!$C$2:$C1001,MATCH(A34, 'Svi studenti'!$B$2:$B1001, 0))} -> Каракаш, Линда Анђела | P34: =sum(C34:O34) -> 0 | Q34: =if(P34 > 0, min(P34*5/10,5), 0) -> 0
A35: 402/2021 | B35: {=INDEX('Svi studenti'!$C$2:$C1001,MATCH(A35, 'Svi studenti'!$B$2:$B1001, 0))} -> Ковачић, Анђела | P35: =sum(C35:O35) -> 0 | Q35: =if(P35 > 0, min(P35*5/10,5), 0) -> 0
A36: 221/2021 | B36: {=INDEX('Svi studenti'!$C$2:$C1001,MATCH(A36, 'Svi studenti'!$B$2:$B1001, 0))} -> Костић, Нађа | D36: 1 | E36: 1 | F36: 1 | G36: 1 | L36: 1 | P36: =sum(C36:O36) -> 5 | Q36: =if(P36 > 0, min(P36*5/10,5), 0) -> 2.5
A37: 245/2022 | B37: {=INDEX('Svi studenti'!$C$2:$C1001,MATCH(A37, 'Svi studenti'!$B$2:$B1001, 0))} -> Крсмановић, Марко | P37: =sum(C37:O37) -> 0 | Q37: =if(P37 > 0, min(P37*5/10,5), 0) -> 0
A38: 174/2022 | B38: {=INDEX('Svi studenti'!$C$2:$C1001,MATCH(A38, 'Svi studenti'!$B$2:$B1001, 0))} -> Лапчевић, Лазар | C38: 1 | G38: 1 | J38: 1 | N38: 1 | P38: =sum(C38:O38) -> 4 | Q38: =if(P38 > 0, min(P38*5/10,5), 0) -> 2
A39: 190/2023 | B39: {=INDEX('Svi studenti'!$C$2:$C1001,MATCH(A39, 'Svi studenti'!$B$2:$B1001, 0))} -> Мажинг, Урош | C39: 1 | D39: 1 | E39: 1 | I39: 1 | J39: 1 | L39: 1 | N39: 1 | P39: =sum(C39:O39) -> 7 | Q39: =if(P39 > 0, min(P39*5/10,5), 0) -> 3.5
A40: 190/2022 | B40: {=INDEX('Svi studenti'!$C$2:$C1001,MATCH(A40, 'Svi studenti'!$B$2:$B1001, 0))} -> Манчић, Филип | P40: =sum(C40:O40) -> 0 | Q40: =if(P40 > 0, min(P40*5/10,5), 0) -> 0
A41: 65/2023 | B41: {=INDEX('Svi studenti'!$C$2:$C1001,MATCH(A41, 'Svi studenti'!$B$2:$B1001, 0))} -> Марић, Душан | C41: 1 | D41: 1 | E41: 1 | F41: 1 | G41: 1 | H41: 1 | I41: 1 | J41: 1 | K41: 1 | L41: 1 | M41: 1 | N41: 1 | O41: 1 | P41: =sum(C41:O41) -> 13 | Q41: =if(P41 > 0, min(P41*5/10,5), 0) -> 5
A42: 214/2021 | B42: {=INDEX('Svi studenti'!$C$2:$C1001,MATCH(A42, 'Svi studenti'!$B$2:$B1001, 0))} -> Марчетић, Катарина | P42: =sum(C42:O42) -> 0 | Q42: =if(P42 > 0, min(P42*5/10,5), 0) -> 0
A43: 46/2023 | B43: {=INDEX('Svi studenti'!$C$2:$C1001,MATCH(A43, 'Svi studenti'!$B$2:$B1001, 0))} -> Матић, Тадија | C43: 1 | D43: 0 | E43: 1 | F43: 1 | G43: 1 | H43: 1 | I43: 1 | J43: 1 | K43: 1 | L43: 1 | M43: 1 | N43: 0 | O43: 0 | P43: =sum(C43:O43) -> 10 | Q43: =if(P43 > 0, min(P43*5/10,5), 0) -> 5
A44: 53/2023 | B44: {=INDEX('Svi studenti'!$C$2:$C1001,MATCH(A44, 'Svi studenti'!$B$2:$B1001, 0))} -> Милекић, Сретен | C44: 0 | D44: 0 | E44: 1 | F44: 0 | G44: 1 | H44: 1 | I44: 1 | J44: 1 | K44: 1 | L44: 1 | M44: 1 | N44: 0 | O44: 1 | P44: =sum(C44:O44) -> 9 | Q44: =if(P44 > 0, min(P44*5/10,5), 0) -> 4.5
A45: 229/2022 | B45: {=INDEX('Svi studenti'!$C$2:$C1001,MATCH(A45, 'Svi studenti'!$B$2:$B1001, 0))} -> Миленковић, Ивана | P45: =sum(C45:O45) -> 0 | Q45: =if(P45 > 0, min(P45*5/10,5), 0) -> 0
A46: 138/2022 | B46: {=INDEX('Svi studenti'!$C$2:$C1001,MATCH(A46, 'Svi studenti'!$B$2:$B1001, 0))} -> Миловановић, Богдан | P46: =sum(C46:O46) -> 0 | Q46: =if(P46 > 0, min(P46*5/10,5), 0) -> 0
A47: 37/2022 | B47: {=INDEX('Svi studenti'!$C$2:$C1001,MATCH(A47, 'Svi studenti'!$B$2:$B1001, 0))} -> Миловановић, Матија | P47: =sum(C47:O47) -> 0 | Q47: =if(P47 > 0, min(P47*5/10,5), 0) -> 0
A48: 402/2019 | B48: {=INDEX('Svi studenti'!$C$2:$C1001,MATCH(A48, 'Svi studenti'!$B$2:$B1001, 0))} -> Минић, Јелена | D48: 1 | H48: 1 | I48: 1 | J48: 1 | P48: =sum(C48:O48) -> 4 | Q48: =if(P48 > 0, min(P48*5/10,5), 0) -> 2
A49: 102/2023 | B49: {=INDEX('Svi studenti'!$C$2:$C1001,MATCH(A49, 'Svi studenti'!$B$2:$B1001, 0))} -> Минић, Милан | P49: =sum(C49:O49) -> 0 | Q49: =if(P49 > 0, min(P49*5/10,5), 0) -> 0
A50: 109/2020 | B50: {=INDEX('Svi studenti'!$C$2:$C1001,MATCH(A50, 'Svi studenti'!$B$2:$B1001, 0))} -> Мићевић, Митар | P50: =sum(C50:O50) -> 0 | Q50: =if(P50 > 0, min(P50*5/10,5), 0) -> 0
A51: 109/2023 | B51: {=INDEX('Svi studenti'!$C$2:$C1001,MATCH(A51, 'Svi studenti'!$B$2:$B1001, 0))} -> Молнар, Линда | C51: 1 | D51: 1 | E51: 1 | F51: 0 | G51: 1 | H51: 1 | I51: 0 | J51: 1 | K51: 0 | L51: 1 | M51: 0 | N51: 1 | O51: 1 | P51: =sum(C51:O51) -> 9 | Q51: =if(P51 > 0, min(P51*5/10,5), 0) -> 4.5
A52: 106/2023 | B52: {=INDEX('Svi studenti'!$C$2:$C1001,MATCH(A52, 'Svi studenti'!$B$2:$B1001, 0))} -> Ненић, Јана | P52: =sum(C52:O52) -> 0 | Q52: =if(P52 > 0, min(P52*5/10,5), 0) -> 0
A53: 46/2020 | B53: {=INDEX('Svi studenti'!$C$2:$C1001,MATCH(A53, 'Svi studenti'!$B$2:$B1001, 0))} -> Никодијевић, Милутин | P53: =sum(C53:O53) -> 0 | Q53: =if(P53 > 0, min(P53*5/10,5), 0) -> 0
A54: 302/2023 | B54: {=INDEX('Svi studenti'!$C$2:$C1001,MATCH(A54, 'Svi studenti'!$B$2:$B1001, 0))} -> Николић, Ивана | P54: =sum(C54:O54) -> 0 | Q54: =if(P54 > 0, min(P54*5/10,5), 0) -> 0
A55: 258/2021 | B55: {=INDEX('Svi studenti'!$C$2:$C1001,MATCH(A55, 'Svi studenti'!$B$2:$B1001, 0))} -> Николић, Петар | P55: =sum(C55:O55) -> 0 | Q55: =if(P55 > 0, min(P55*5/10,5), 0) -> 0
A56: 142/2023 | B56: {=INDEX('Svi studenti'!$C$2:$C1001,MATCH(A56, 'Svi studenti'!$B$2:$B1001, 0))} -> Павловић, Душан | D56: 1 | E56: 1 | P56: =sum(C56:O56) -> 2 | Q56: =if(P56 > 0, min(P56*5/10,5), 0) -> 1
A57: 161/2023 | B57: {=INDEX('Svi studenti'!$C$2:$C1001,MATCH(A57, 'Svi studenti'!$B$2:$B1001, 0))} -> Пантелић, Андреа | C57: 1 | D57: 1 | E57: 1 | F57: 1 | G57: 1 | H57: 1 | I57: 1 | J57: 1 | K57: 1 | L57: 1 | M57: 0 | N57: 0 | O57: 0 | P57: =sum(C57:O57) -> 10 | Q57: =if(P57 > 0, min(P57*5/10,5), 0) -> 5
A58: 49/2022 | B58: {=INDEX('Svi studenti'!$C$2:$C1001,MATCH(A58, 'Svi studenti'!$B$2:$B1001, 0))} -> Пејчић, Богдан | G58: 1 | M58: 1 | P58: =sum(C58:O58) -> 2 | Q58: =if(P58 > 0, min(P58*5/10,5), 0) -> 1
A59: 81/2023 | B59: {=INDEX('Svi studenti'!$C$2:$C1001,MATCH(A59, 'Svi studenti'!$B$2:$B1001, 0))} -> Петковић, Урош | C59: 0 | D59: 0 | E59: 1 | F59: 1 | G59: 1 | H59: 1 | I59: 1 | J59: 0 | K59: 1 | L59: 1 | M59: 1 | N59: 1 | O59: 1 | P59: =sum(C59:O59) -> 10 | Q59: =if(P59 > 0, min(P59*5/10,5), 0) -> 5
A60: 129/2023 | B60: {=INDEX('Svi studenti'!$C$2:$C1001,MATCH(A60, 'Svi studenti'!$B$2:$B1001, 0))} -> Петровић, Андреј | C60: 1 | D60: 0 | E60: 1 | F60: 1 | G60: 1 | H60: 1 | I60: 1 | J60: 1 | K60: 0 | L60: 1 | M60: 0 | N60: 0 | O60: 1 | P60: =sum(C60:O60) -> 9 | Q60: =if(P60 > 0, min(P60*5/10,5), 0) -> 4.5
A61: 277/2022 | B61: {=INDEX('Svi studenti'!$C$2:$C1001,MATCH(A61, 'Svi studenti'!$B$2:$B1001, 0))} -> Петровић, Тамара | P61: =sum(C61:O61) -> 0 | Q61: =if(P61 > 0, min(P61*5/10,5), 0) -> 0
A62: 57/2023 | B62: {=INDEX('Svi studenti'!$C$2:$C1001,MATCH(A62, 'Svi studenti'!$B$2:$B1001, 0))} -> Познанић, Богдан | P62: =sum(C62:O62) -> 0 | Q62: =if(P62 > 0, min(P62*5/10,5), 0) -> 0
A63: 62/2019 | B63: {=INDEX('Svi studenti'!$C$2:$C1001,MATCH(A63, 'Svi studenti'!$B$2:$B1001, 0))} -> Поповић, Давид | P63: =sum(C63:O63) -> 0 | Q63: =if(P63 > 0, min(P63*5/10,5), 0) -> 0
A64: 58/2020 | B64: {=INDEX('Svi studenti'!$C$2:$C1001,MATCH(A64, 'Svi studenti'!$B$2:$B1001, 0))} -> Радивојевић, Јана | P64: =sum(C64:O64) -> 0 | Q64: =if(P64 > 0, min(P64*5/10,5), 0) -> 0
A65: 133/2023 | B65: {=INDEX('Svi studenti'!$C$2:$C1001,MATCH(A65, 'Svi studenti'!$B$2:$B1001, 0))} -> Радовић, Андрија | C65: 1 | D65: 0 | E65: 1 | F65: 1 | G65: 1 | H65: 1 | I65: 1 | J65: 1 | K65: 1 | L65: 1 | M65: 0 | N65: 0 | O65: 1 | P65: =sum(C65:O65) -> 10 | Q65: =if(P65 > 0, min(P65*5/10,5), 0) -> 5
A66: 41/2020 | B66: {=INDEX('Svi studenti'!$C$2:$C1001,MATCH(A66, 'Svi studenti'!$B$2:$B1001, 0))} -> Радојковић, Ана | P66: =sum(C66:O66) -> 0 | Q66: =if(P66 > 0, min(P66*5/10,5), 0) -> 0
A67: 62/2021 | B67: {=INDEX('Svi studenti'!$C$2:$C1001,MATCH(A67, 'Svi studenti'!$B$2:$B1001, 0))} -> Ранковић, Јован | P67: =sum(C67:O67) -> 0 | Q67: =if(P67 > 0, min(P67*5/10,5), 0) -> 0
A68: 169/2023 | B68: {=INDEX('Svi studenti'!$C$2:$C1001,MATCH(A68, 'Svi studenti'!$B$2:$B1001, 0))} -> Срећковић, Филип | F68: 1 | P68: =sum(C68:O68) -> 1 | Q68: =if(P68 > 0, min(P68*5/10,5), 0) -> 0.5
A69: 289/2021 | B69: {=INDEX('Svi studenti'!$C$2:$C1001,MATCH(A69, 'Svi studenti'!$B$2:$B1001, 0))} -> Станковић, Андреја | C69: 1 | D69: 1 | E69: 1 | F69: 1 | G69: 1 | H69: 1 | I69: 1 | J69: 1 | K69: 1 | L69: 1 | M69: 1 | N69: 1 | O69: 1 | P69: =sum(C69:O69) -> 13 | Q69: =if(P69 > 0, min(P69*5/10,5), 0) -> 5
A70: 22/2023 | B70: {=INDEX('Svi studenti'!$C$2:$C1001,MATCH(A70, 'Svi studenti'!$B$2:$B1001, 0))} -> Станковић, Анђела | D70: 1 | E70: 1 | F70: 1 | H70: 1 | J70: 1 | K70: 1 | L70: 1 | P70: =sum(C70:O70) -> 7 | Q70: =if(P70 > 0, min(P70*5/10,5), 0) -> 3.5
A71: 301/2020 | B71: {=INDEX('Svi studenti'!$C$2:$C1001,MATCH(A71, 'Svi studenti'!$B$2:$B1001, 0))} -> Стојадиновић, Немања | P71: =sum(C71:O71) -> 0 | Q71: =if(P71 > 0, min(P71*5/10,5), 0) -> 0
A72: 109/2021 | B72: {=INDEX('Svi studenti'!$C$2:$C1001,MATCH(A72, 'Svi studenti'!$B$2:$B1001, 0))} -> Стојановић, Дејан | C72: 0 | D72: 0 | E72: 0 | F72: 1 | G72: 0 | H72: 0 | I72: 0 | J72: 0 | K72: 0 | L72: 0 | M72: 0 | N72: 0 | O72: 0 | P72: =sum(C72:O72) -> 1 | Q72: =if(P72 > 0, min(P72*5/10,5), 0) -> 0.5
A73: 153/2023 | B73: {=INDEX('Svi studenti'!$C$2:$C1001,MATCH(A73, 'Svi studenti'!$B$2:$B1001, 0))} -> Танев, Игор | C73: 0 | D73: 0 | E73: 0 | F73: 1 | G73: 1 | H73: 0 | I73: 1 | J73: 0 | K73: 0 | L73: 0 | M73: 0 | N73: 0 | O73: 0 | P73: =sum(C73:O73) -> 3 | Q73: =if(P73 > 0, min(P73*5/10,5), 0) -> 1.5
A74: 70/2023 | B74: {=INDEX('Svi studenti'!$C$2:$C1001,MATCH(A74, 'Svi studenti'!$B$2:$B1001, 0))} -> Тасић, Михајло | C74: 1 | D74: 1 | G74: 1 | L74: 1 | P74: =sum(C74:O74) -> 4 | Q74: =if(P74 > 0, min(P74*5/10,5), 0) -> 2
A75: 54/2023 | B75: {=INDEX('Svi studenti'!$C$2:$C1001,MATCH(A75, 'Svi studenti'!$B$2:$B1001, 0))} -> Терзић, Војин | D75: 1 | E75: 1 | P75: =sum(C75:O75) -> 2 | Q75: =if(P75 > 0, min(P75*5/10,5), 0) -> 1
A76: 102/2022 | B76: {=INDEX('Svi studenti'!$C$2:$C1001,MATCH(A76, 'Svi studenti'!$B$2:$B1001, 0))} -> Тонић, Лука | F76: 1 | L76: 1 | P76: =sum(C76:O76) -> 2 | Q76: =if(P76 > 0, min(P76*5/10,5), 0) -> 1
A77: 41/2023 | B77: {=INDEX('Svi studenti'!$C$2:$C1001,MATCH(A77, 'Svi studenti'!$B$2:$B1001, 0))} -> Торбица, Милан | C77: 1 | P77: =sum(C77:O77) -> 1 | Q77: =if(P77 > 0, min(P77*5/10,5), 0) -> 0.5
A78: 206/2023 | B78: {=INDEX('Svi studenti'!$C$2:$C1001,MATCH(A78, 'Svi studenti'!$B$2:$B1001, 0))} -> Ћосић, Стефан | C78: 1 | E78: 1 | P78: =sum(C78:O78) -> 2 | Q78: =if(P78 > 0, min(P78*5/10,5), 0) -> 1
A79: 157/2022 | B79: {=INDEX('Svi studenti'!$C$2:$C1001,MATCH(A79, 'Svi studenti'!$B$2:$B1001, 0))} -> Црномарковић, Ана | C79: 1 | D79: 1 | E79: 1 | G79: 1 | H79: 1 | L79: 1 | M79: 1 | N79: 1 | P79: =sum(C79:O79) -> 8 | Q79: =if(P79 > 0, min(P79*5/10,5), 0) -> 4
A80: 178/2018 | B80: {=INDEX('Svi studenti'!$C$2:$C1001,MATCH(A80, 'Svi studenti'!$B$2:$B1001, 0))} -> Чабаркапа, Димитрије | P80: =sum(C80:O80) -> 0 | Q80: =if(P80 > 0, min(P80*5/10,5), 0) -> 0
A81: 134/2023 | B81: {=INDEX('Svi studenti'!$C$2:$C1001,MATCH(A81, 'Svi studenti'!$B$2:$B1001, 0))} -> Чомагић, Анђела | C81: 1 | D81: 1 | E81: 1 | F81: 1 | H81: 1 | I81: 1 | J81: 1 | K81: 1 | L81: 1 | M81: 1 | N81: 1 | P81: =sum(C81:O81) -> 11 | Q81: =if(P81 > 0, min(P81*5/10,5), 0) -> 5
A82: 77/2023 | B82: {=INDEX('Svi studenti'!$C$2:$C1001,MATCH(A82, 'Svi studenti'!$B$2:$B1001, 0))} -> Шимшић, Дивна | C82: 1 | D82: 1 | E82: 1 | F82: 1 | G82: 1 | H82: 1 | I82: 1 | J82: 1 | K82: 1 | L82: 0 | M82: 0 | N82: 1 | O82: 0 | P82: =sum(C82:O82) -> 10 | Q82: =if(P82 > 0, min(P82*5/10,5), 0) -> 5
A83: 135/2023 | B83: {=INDEX('Svi studenti'!$C$2:$C1001,MATCH(A83, 'Svi studenti'!$B$2:$B1001, 0))} -> Алановић, Дане | C83: 1 | D83: 1 | E83: 1 | F83: 1 | G83: 1 | P83: =sum(C83:O83) -> 5 | Q83: =if(P83 > 0, min(P83*5/10,5), 0) -> 2.5
A84: 84/2023 | B84: {=INDEX('Svi studenti'!$C$2:$C1001,MATCH(A84, 'Svi studenti'!$B$2:$B1001, 0))} -> Анђелковић, Борис | P84: =sum(C84:O84) -> 0 | Q84: =if(P84 > 0, min(P84*5/10,5), 0) -> 0
A85: 95/2023 | B85: {=INDEX('Svi studenti'!$C$2:$C1001,MATCH(A85, 'Svi studenti'!$B$2:$B1001, 0))} -> Арсеновић, Виктор | C85: 1 | L85: 1 | P85: =sum(C85:O85) -> 2 | Q85: =if(P85 > 0, min(P85*5/10,5), 0) -> 1
A86: 24/2023 | B86: {=INDEX('Svi studenti'!$C$2:$C1001,MATCH(A86, 'Svi studenti'!$B$2:$B1001, 0))} -> Бановић, Љубомир | C86: 1 | D86: 1 | E86: 1 | F86: 1 | G86: 1 | H86: 1 | I86: 1 | J86: 1 | K86: 1 | L86: 1 | M86: 1 | P86: =sum(C86:O86) -> 11 | Q86: =if(P86 > 0, min(P86*5/10,5), 0) -> 5
A87: 251/2019 | B87: {=INDEX('Svi studenti'!$C$2:$C1001,MATCH(A87, 'Svi studenti'!$B$2:$B1001, 0))} -> Бекчић, Драган | D87: 1 | G87: 1 | I87: 1 | K87: 1 | L87: 1 | P87: =sum(C87:O87) -> 5 | Q87: =if(P87 > 0, min(P87*5/10,5), 0) -> 2.5
A88: 159/2024 | B88: {=INDEX('Svi studenti'!$C$2:$C1001,MATCH(A88, 'Svi studenti'!$B$2:$B1001, 0))} -> Бикић, Андрија | P88: =sum(C88:O88) -> 0 | Q88: =if(P88 > 0, min(P88*5/10,5), 0) -> 0
A89: 171/2023 | B89: {=INDEX('Svi studenti'!$C$2:$C1001,MATCH(A89, 'Svi studenti'!$B$2:$B1001, 0))} -> Васиљевић, Василије | P89: =sum(C89:O89) -> 0 | Q89: =if(P89 > 0, min(P89*5/10,5), 0) -> 0
A90: 203/2021 | B90: {=INDEX('Svi studenti'!$C$2:$C1001,MATCH(A90, 'Svi studenti'!$B$2:$B1001, 0))} -> Величковић, Јелена | D90: 1 | P90: =sum(C90:O90) -> 1 | Q90: =if(P90 > 0, min(P90*5/10,5), 0) -> 0.5
A91: 36/2021 | B91: {=INDEX('Svi studenti'!$C$2:$C1001,MATCH(A91, 'Svi studenti'!$B$2:$B1001, 0))} -> Владисављевић, Никола | C91: 1 | P91: =sum(C91:O91) -> 1 | Q91: =if(P91 > 0, min(P91*5/10,5), 0) -> 0.5
A92: 196/2023 | B92: {=INDEX('Svi studenti'!$C$2:$C1001,MATCH(A92, 'Svi studenti'!$B$2:$B1001, 0))} -> Вујко, Димитрије | P92: =sum(C92:O92) -> 0 | Q92: =if(P92 > 0, min(P92*5/10,5), 0) -> 0
A93: 124/2022 | B93: {=INDEX('Svi studenti'!$C$2:$C1001,MATCH(A93, 'Svi studenti'!$B$2:$B1001, 0))} -> Вуковић, Јана | C93: 1 | E93: 1 | F93: 1 | H93: 1 | I93: 1 | K93: 1 | L93: 1 | M93: 1 | N93: 1 | P93: =sum(C93:O93) -> 9 | Q93: =if(P93 > 0, min(P93*5/10,5), 0) -> 4.5
A94: 439/2019 | B94: {=INDEX('Svi studenti'!$C$2:$C1001,MATCH(A94, 'Svi studenti'!$B$2:$B1001, 0))} -> Вучељић, Марко | E94: 1 | F94: 1 | G94: 1 | H94: 1 | I94: 1 | J94: 1 | K94: 1 | L94: 1 | M94: 1 | N94: 1 | P94: =sum(C94:O94) -> 10 | Q94: =if(P94 > 0, min(P94*5/10,5), 0) -> 5
A95: 328/2021 | B95: {=INDEX('Svi studenti'!$C$2:$C1001,MATCH(A95, 'Svi studenti'!$B$2:$B1001, 0))} -> Гагић, Јован | P95: =sum(C95:O95) -> 0 | Q95: =if(P95 > 0, min(P95*5/10,5), 0) -> 0
A96: 131/2022 | B96: {=INDEX('Svi studenti'!$C$2:$C1001,MATCH(A96, 'Svi studenti'!$B$2:$B1001, 0))} -> Гајић, Реља | P96: =sum(C96:O96) -> 0 | Q96: =if(P96 > 0, min(P96*5/10,5), 0) -> 0
A97: 56/2023 | B97: {=INDEX('Svi studenti'!$C$2:$C1001,MATCH(A97, 'Svi studenti'!$B$2:$B1001, 0))} -> Гајић, Стефан | C97: 1 | E97: 1 | F97: 1 | G97: 1 | H97: 1 | I97: 1 | J97: 1 | K97: 1 | L97: 1 | M97: 1 | N97: 1 | P97: =sum(C97:O97) -> 11 | Q97: =if(P97 > 0, min(P97*5/10,5), 0) -> 5
A98: 151/2018 | B98: {=INDEX('Svi studenti'!$C$2:$C1001,MATCH(A98, 'Svi studenti'!$B$2:$B1001, 0))} -> Глигић, Марко | P98: =sum(C98:O98) -> 0 | Q98: =if(P98 > 0, min(P98*5/10,5), 0) -> 0
A99: 40/2022 | B99: {=INDEX('Svi studenti'!$C$2:$C1001,MATCH(A99, 'Svi studenti'!$B$2:$B1001, 0))} -> Давидовић, Лука | P99: =sum(C99:O99) -> 0 | Q99: =if(P99 > 0, min(P99*5/10,5), 0) -> 0
A100: 279/2019 | B100: {=INDEX('Svi studenti'!$C$2:$C1001,MATCH(A100, 'Svi studenti'!$B$2:$B1001, 0))} -> Достанић, Урош | P100: =sum(C100:O100) -> 0 | Q100: =if(P100 > 0, min(P100*5/10,5), 0) -> 0
A101: 303/2023 | B101: {=INDEX('Svi studenti'!$C$2:$C1001,MATCH(A101, 'Svi studenti'!$B$2:$B1001, 0))} -> Драмићанин, Филип | P101: =sum(C101:O101) -> 0 | Q101: =if(P101 > 0, min(P101*5/10,5), 0) -> 0
...

Sheet Januar 1
A1: VK | B1: SM | C1: MK | E1: jag1 | F1: jag2 | G1: 718 | H1: 704 | I1: bim
A2: =countif(C5:C995,"=3и2а") + countif(C5:C995,"=3и1б") -> 18 | B2: =countif(C5:C995,"=3и1а") -> 10 | C2: =countif(C5:C995,"=3и2б") -> 10 | D2: Interaktivni parser (37p) | T2: Sintaksno stablo (14p) | AH2: Ukupno (55p)
D3: 1 (12p) | H3: 2 (6p) | K3: 3 (10p) | O3: 4 (4p) | Q3: opsti zahtevi (5p) | T3: 5 (14p) | AE3: Ostalo (4p)
A4: Indeks | B4: Ime i prezime | C4: Grupa Vezbi | D4: lekser (2p) | E4: gramatika (4p) | F4: definicija (4p) | G4: dodela (2p) | H4: gramatika (2p) | I4: print s (2p) | J4: print l (2p) | K4: gramatika (4p) | L4: prioritetit (2p) | M4: + (2p) | N4: * (2p) | O4: gramatika (2p) | P4: append (2p) | Q4: obrada gresaka (2p) | R4: curenje memorije (2p) | S4: Makefile (1p) | T4: niz naredbi (1p) | U4: deklaracija (1p) | V4: dodela (1p) | W4: ispis izraza (1p) | X4: ispis niske(1p) | Y4: append (1p) | Z4: sabiranje (1p) | AA4: mnozenje (1p) | AB4: lista (1p) | AC4: promenljiva (1p) | AD4: akcije (4p) | AE4: Makefile (1p) | AF4: Greske (1p) | AG4: Curenje mem (2p)
A5: 37/2023 | B5: {=iferror(iNDEX('Svi studenti'!$C$2:$C995,MATCH(A5, 'Svi studenti'!$B$2:$B995, 0)),"---")} -> Иваниан, Сергеи | C5: {=iferror(iNDEX('Svi studenti'!$G$2:$G995,MATCH(A5, 'Svi studenti'!$B$2:$B995, 0)),"---")} -> 3и1а | D5: 1.5 | E5: 4 | F5: 4 | G5: 2 | H5: 2 | I5: 2 | J5: 2 | K5: 4 | L5: 2 | M5: 2 | N5: 2 | O5: 2 | P5: 2 | Q5: 2 | R5: 2 | S5: 1 | T5: 0.5 | U5: 1 | V5: 1 | W5: 0.5 | X5: 0.5 | Y5: 1 | Z5: 1 | AA5: 1 | AB5: 0.5 | AC5: 1 | AD5: 2 | AE5: 1 | AF5: 1 | AG5: 2 | AH5: =sum(D5:AG5) -> 50.5
A6: 69/2023 | B6: {=iferror(iNDEX('Svi studenti'!$C$2:$C995,MATCH(A6, 'Svi studenti'!$B$2:$B995, 0)),"---")} -> Ђорђевић, Чедомир | C6: {=iferror(iNDEX('Svi studenti'!$G$2:$G995,MATCH(A6, 'Svi studenti'!$B$2:$B995, 0)),"---")} -> 3и1а | D6: 1.5 | E6: 3 | F6: 2 | G6: 1 | H6: 2 | I6: 2 | J6: 1 | K6: 4 | L6: 0 | M6: 1 | N6: 1 | O6: 2 | P6: 1 | Q6: 1 | R6: 0 | S6: 1 | T6: 0 | U6: 0 | V6: 0 | W6: 0 | X6: 0 | Y6: 0 | Z6: 0 | AA6: 0 | AB6: 0 | AC6: 0 | AD6: 0 | AE6: 0 | AF6: 0 | AG6: 0 | AH6: =sum(D6:AG6) -> 23.5
A7: 81/2023 | B7: {=iferror(iNDEX('Svi studenti'!$C$2:$C995,MATCH(A7, 'Svi studenti'!$B$2:$B995, 0)),"---")} -> Петковић, Урош | C7: {=iferror(iNDEX('Svi studenti'!$G$2:$G995,MATCH(A7, 'Svi studenti'!$B$2:$B995, 0)),"---")} -> 3и1а | D7: 2 | E7: 4 | F7: 4 | G7: 2 | H7: 2 | I7: 2 | J7: 2 | K7: 4 | L7: 2 | M7: 2 | N7: 2 | O7: 2 | P7: 2 | Q7: 2 | R7: 2 | S7: 1 | T7: 0 | U7: 0 | V7: 0 | W7: 0 | X7: 0 | Y7: 0 | Z7: 0 | AA7: 0 | AB7: 0 | AC7: 0 | AD7: 0 | AE7: 0 | AF7: 0 | AG7: 0 | AH7: =sum(D7:AG7) -> 37
A8: 109/2022 | B8: {=iferror(iNDEX('Svi studenti'!$C$2:$C995,MATCH(A8, 'Svi studenti'!$B$2:$B995, 0)),"---")} -> Јевремовић, Исидора | C8: {=iferror(iNDEX('Svi studenti'!$G$2:$G995,MATCH(A8, 'Svi studenti'!$B$2:$B995, 0)),"---")} -> 3и1а | D8: 1.5 | E8: 4 | F8: 4 | G8: 2 | H8: 2 | I8: 2 | J8: 0 | K8: 2 | L8: 2 | M8: 0 | N8: 0 | O8: 2 | P8: 0 | Q8: 2 | R8: 2 | S8: 1 | T8: 0 | U8: 0 | V8: 0 | W8: 0 | X8: 0 | Y8: 0 | Z8: 0 | AA8: 0 | AB8: 0 | AC8: 0 | AD8: 0 | AE8: 0 | AF8: 0 | AG8: 0 | AH8: =sum(D8:AG8) -> 26.5
A9: 65/2023 | B9: {=iferror(iNDEX('Svi studenti'!$C$2:$C995,MATCH(A9, 'Svi studenti'!$B$2:$B995, 0)),"---")} -> Марић, Душан | C9: {=iferror(iNDEX('Svi studenti'!$G$2:$G995,MATCH(A9, 'Svi studenti'!$B$2:$B995, 0)),"---")} -> 3и1а | D9: 2 | E9: 4 | F9: 4 | G9: 2 | H9: 2 | I9: 2 | J9: 2 | K9: 4 | L9: 2 | M9: 2 | N9: 2 | O9: 2 | P9: 2 | Q9: 2 | R9: 2 | S9: 1 | T9: 1 | U9: 1 | V9: 1 | W9: 1 | X9: 1 | Y9: 1 | Z9: 1 | AA9: 1 | AB9: 1 | AC9: 1 | AD9: 4 | AE9: 1 | AF9: 1 | AG9: 2 | AH9: =sum(D9:AG9) -> 55
A10: 41/2023 | B10: {=iferror(iNDEX('Svi studenti'!$C$2:$C995,MATCH(A10, 'Svi studenti'!$B$2:$B995, 0)),"---")} -> Торбица, Милан | C10: {=iferror(iNDEX('Svi studenti'!$G$2:$G995,MATCH(A10, 'Svi studenti'!$B$2:$B995, 0)),"---")} -> 3и1а | D10: 2 | E10: 2 | F10: 4 | G10: 2 | H10: 2 | I10: 2 | J10: 2 | K10: 4 | L10: 2 | M10: 2 | N10: 0 | O10: 2 | P10: 2 | Q10: 2 | R10: 2 | S10: 1 | T10: 0 | U10: 0 | V10: 0 | W10: 0 | X10: 0 | Y10: 0 | Z10: 0 | AA10: 0 | AB10: 0 | AC10: 0 | AD10: 0 | AE10: 0 | AF10: 0 | AG10: 0 | AH10: =sum(D10:AG10) -> 33
A11: 49/2022 | B11: {=iferror(iNDEX('Svi studenti'!$C$2:$C995,MATCH(A11, 'Svi studenti'!$B$2:$B995, 0)),"---")} -> Пејчић, Богдан | C11: {=iferror(iNDEX('Svi studenti'!$G$2:$G995,MATCH(A11, 'Svi studenti'!$B$2:$B995, 0)),"---")} -> 3и1а | D11: 2 | E11: 4 | F11: 4 | G11: 2 | H11: 2 | I11: 2 | J11: 2 | K11: 4 | L11: 2 | M11: 2 | N11: 0 | O11: 2 | P11: 2 | Q11: 2 | R11: 1.5 | S11: 1 | T11: 0 | U11: 0 | V11: 0 | W11: 0 | X11: 0 | Y11: 0 | Z11: 0 | AA11: 0 | AB11: 0 | AC11: 0 | AD11: 0 | AE11: 0 | AF11: 0 | AG11: 0 | AH11: =sum(D11:AG11) -> 34.5
A12: 61/2023 | B12: {=iferror(iNDEX('Svi studenti'!$C$2:$C995,MATCH(A12, 'Svi studenti'!$B$2:$B995, 0)),"---")} -> Грбовић, Теодора | C12: {=iferror(iNDEX('Svi studenti'!$G$2:$G995,MATCH(A12, 'Svi studenti'!$B$2:$B995, 0)),"---")} -> 3и1а | D12: 1.5 | E12: 4 | F12: 3 | G12: 2 | H12: 1 | I12: 2 | J12: 2 | K12: 4 | L12: 2 | M12: 2 | N12: 2 | O12: 2 | P12: 2 | Q12: 2 | R12: 0.5 | S12: 1 | T12: 0 | U12: 0 | V12: 0 | W12: 0 | X12: 0 | Y12: 0 | Z12: 0 | AA12: 0 | AB12: 0 | AC12: 0 | AD12: 0 | AE12: 0 | AF12: 0 | AG12: 0 | AH12: =sum(D12:AG12) -> 33
A13: 133/2023 | B13: {=iferror(iNDEX('Svi studenti'!$C$2:$C995,MATCH(A13, 'Svi studenti'!$B$2:$B995, 0)),"---")} -> Радовић, Андрија | C13: {=iferror(iNDEX('Svi studenti'!$G$2:$G995,MATCH(A13, 'Svi studenti'!$B$2:$B995, 0)),"---")} -> 3и1а | D13: 1.5 | E13: 4 | F13: 3 | G13: 2 | H13: 2 | I13: 2 | J13: 1 | K13: 4 | L13: 2 | M13: 2 | N13: 2 | O13: 2 | P13: 2 | Q13: 2 | R13: 0.5 | S13: 1 | T13: 1 | U13: 0 | V13: 0 | W13: 1 | X13: 1 | Y13: 0 | Z13: 1 | AA13: 1 | AB13: 0 | AC13: 1 | AD13: 2 | AE13: 1 | AF13: 1 | AG13: 2 | AH13: =sum(D13:AG13) -> 45
A14: 221/2021 | B14: {=iferror(iNDEX('Svi studenti'!$C$2:$C995,MATCH(A14, 'Svi studenti'!$B$2:$B995, 0)),"---")} -> Костић, Нађа | C14: {=iferror(iNDEX('Svi studenti'!$G$2:$G995,MATCH(A14, 'Svi studenti'!$B$2:$B995, 0)),"---")} -> 3и1а | D14: 1 | E14: 2 | F14: 2 | G14: 1 | H14: 1 | I14: 2 | J14: 0.5 | K14: 4 | L14: 2 | M14: 0 | N14: 0 | O14: 2 | P14: 1 | Q14: 2 | R14: 0.5 | S14: 1 | T14: 0 | U14: 0 | V14: 0 | W14: 0 | X14: 0 | Y14: 0 | Z14: 0 | AA14: 0 | AB14: 0 | AC14: 0 | AD14: 0 | AE14: 0 | AF14: 0 | AG14: 0 | AH14: =sum(D14:AG14) -> 22
A15: 34/2023 | B15: {=iferror(iNDEX('Svi studenti'!$C$2:$C995,MATCH(A15, 'Svi studenti'!$B$2:$B995, 0)),"---")} -> Јовановић, Лазар | C15: {=iferror(iNDEX('Svi studenti'!$G$2:$G995,MATCH(A15, 'Svi studenti'!$B$2:$B995, 0)),"---")} -> 3и1б | D15: 2 | E15: 4 | F15: 4 | G15: 2 | H15: 2 | I15: 2 | J15: 2 | K15: 4 | L15: 2 | M15: 2 | N15: 2 | O15: 2 | P15: 2 | Q15: 2 | R15: 2 | S15: 1 | T15: 1 | U15: 1 | V15: 1 | W15: 1 | X15: 1 | Y15: 1 | Z15: 1 | AA15: 1 | AB15: 1 | AC15: 1 | AD15: 4 | AE15: 1 | AF15: 1 | AG15: 2 | AH15: =sum(D15:AG15) -> 55
A16: 26/2023 | B16: {=iferror(iNDEX('Svi studenti'!$C$2:$C995,MATCH(A16, 'Svi studenti'!$B$2:$B995, 0)),"---")} -> Вуковић, Лола | C16: {=iferror(iNDEX('Svi studenti'!$G$2:$G995,MATCH(A16, 'Svi studenti'!$B$2:$B995, 0)),"---")} -> 3и1б | D16: 2 | E16: 4 | F16: 1 | G16: 0.5 | H16: 4 | I16: 0.5 | J16: 0.5 | K16: 4 | L16: 2 | M16: 0.5 | N16: 0.5 | O16: 2 | P16: 1 | Q16: 1 | R16: 1 | S16: 1 | T16: 0.5 | U16: 0.5 | V16: 0.5 | W16: 0.5 | X16: 0.5 | Y16: 0.5 | Z16: 0.5 | AA16: 0.5 | AB16: 0.5 | AC16: 0.5 | AD16: 1 | AE16: 1 | AF16: 1 | AG16: 1 | AH16: =sum(D16:AG16) -> 34.5
A17: 42/2023 | B17: {=iferror(iNDEX('Svi studenti'!$C$2:$C995,MATCH(A17, 'Svi studenti'!$B$2:$B995, 0)),"---")} -> Ивановић, Никола | C17: {=iferror(iNDEX('Svi studenti'!$G$2:$G995,MATCH(A17, 'Svi studenti'!$B$2:$B995, 0)),"---")} -> 3и1б | D17: 2 | E17: 4 | F17: 1 | G17: 0.5 | H17: 2 | I17: 2 | J17: 2 | K17: 2 | L17: 2 | M17: 0.5 | N17: 0.5 | O17: 2 | P17: 0.5 | Q17: 2 | R17: 2 | S17: 1 | T17: 0.5 | U17: 0 | V17: 0 | W17: 0 | X17: 0 | Y17: 0 | Z17: 0.5 | AA17: 0.5 | AB17: 0 | AC17: 0 | AD17: 0 | AE17: 1 | AF17: 0 | AG17: 0 | AH17: =sum(D17:AG17) -> 28.5
A18: 46/2023 | B18: {=iferror(iNDEX('Svi studenti'!$C$2:$C995,MATCH(A18, 'Svi studenti'!$B$2:$B995, 0)),"---")} -> Матић, Тадија | C18: {=iferror(iNDEX('Svi studenti'!$G$2:$G995,MATCH(A18, 'Svi studenti'!$B$2:$B995, 0)),"---")} -> 3и1б | D18: 2 | E18: 4 | F18: 4 | G18: 2 | H18: 2 | I18: 2 | J18: 2 | K18: 4 | L18: 2 | M18: 2 | N18: 2 | O18: 2 | P18: 2 | Q18: 2 | R18: 2 | S18: 1 | T18: 1 | U18: 1 | V18: 1 | W18: 1 | X18: 1 | Y18: 1 | Z18: 1 | AA18: 1 | AB18: 1 | AC18: 1 | AD18: 4 | AE18: 1 | AF18: 1 | AG18: 2 | AH18: =sum(D18:AG18) -> 55
A19: 122/2023 | B19: {=iferror(iNDEX('Svi studenti'!$C$2:$C995,MATCH(A19, 'Svi studenti'!$B$2:$B995, 0)),"---")} -> Димитријевић, Никола | C19: {=iferror(iNDEX('Svi studenti'!$G$2:$G995,MATCH(A19, 'Svi studenti'!$B$2:$B995, 0)),"---")} -> 3и1б | D19: 2 | E19: 4 | F19: 4 | G19: 2 | H19: 2 | I19: 2 | J19: 2 | K19: 4 | L19: 2 | M19: 2 | N19: 2 | O19: 2 | P19: 2 | Q19: 2 | R19: 2 | S19: 1 | T19: 0 | U19: 0 | V19: 0 | W19: 0 | X19: 0 | Y19: 0 | Z19: 0 | AA19: 0 | AB19: 0.7 | AC19: 1 | AD19: 3 | AE19: 0 | AF19: 0 | AG19: 0 | AH19: =sum(D19:AG19) -> 41.7
A20: 62/2021 | B20: {=iferror(iNDEX('Svi studenti'!$C$2:$C995,MATCH(A20, 'Svi studenti'!$B$2:$B995, 0)),"---")} -> Ранковић, Јован | C20: {=iferror(iNDEX('Svi studenti'!$G$2:$G995,MATCH(A20, 'Svi studenti'!$B$2:$B995, 0)),"---")} -> 3и1б | D20: 1 | E20: 4 | F20: 0 | G20: 0 | H20: 2 | I20: 0 | J20: 0 | K20: 4 | L20: 2 | M20: 0 | N20: 0 | O20: 0 | P20: 0 | Q20: 0 | R20: 0 | S20: 1 | T20: 0 | U20: 0 | V20: 0 | W20: 0 | X20: 0 | Y20: 0 | Z20: 0 | AA20: 0 | AB20: 0 | AC20: 0 | AD20: 0 | AE20: 0 | AF20: 0 | AG20: 0 | AH20: =sum(D20:AG20) -> 14
A21: 98/2023 | B21: {=iferror(iNDEX('Svi studenti'!$C$2:$C995,MATCH(A21, 'Svi studenti'!$B$2:$B995, 0)),"---")} -> Димитријевић, Младен | C21: {=iferror(iNDEX('Svi studenti'!$G$2:$G995,MATCH(A21, 'Svi studenti'!$B$2:$B995, 0)),"---")} -> 3и1б | D21: 2 | E21: 4 | F21: 4 | G21: 2 | H21: 2 | I21: 2 | J21: 2 | K21: 4 | L21: 2 | M21: 2 | N21: 2 | O21: 2 | P21: 2 | Q21: 2 | R21: 2 | S21: 1 | T21: 1 | U21: 1 | V21: 1 | W21: 1 | X21: 1 | Y21: 1 | Z21: 1 | AA21: 1 | AB21: 1 | AC21: 1 | AD21: 4 | AE21: 1 | AF21: 1 | AG21: 2 | AH21: =sum(D21:AG21) -> 55
A22: 266/2021 | B22: {=iferror(iNDEX('Svi studenti'!$C$2:$C995,MATCH(A22, 'Svi studenti'!$B$2:$B995, 0)),"---")} -> Влаховић, Иван | C22: {=iferror(iNDEX('Svi studenti'!$G$2:$G995,MATCH(A22, 'Svi studenti'!$B$2:$B995, 0)),"---")} -> 3и1б | D22: 2 | E22: 4 | F22: 4 | G22: 2 | H22: 2 | I22: 2 | J22: 2 | K22: 4 | L22: 2 | M22: 2 | N22: 2 | O22: 2 | P22: 2 | Q22: 2 | R22: 2 | S22: 1 | T22: 0 | U22: 0 | V22: 0 | W22: 0 | X22: 0 | Y22: 0 | Z22: 0 | AA22: 0 | AB22: 0 | AC22: 0 | AD22: 0 | AE22: 0 | AF22: 0 | AG22: 0 | AH22: =sum(D22:AG22) -> 37
A23: 102/2023 | B23: {=iferror(iNDEX('Svi studenti'!$C$2:$C995,MATCH(A23, 'Svi studenti'!$B$2:$B995, 0)),"---")} -> Минић, Милан | C23: {=iferror(iNDEX('Svi studenti'!$G$2:$G995,MATCH(A23, 'Svi studenti'!$B$2:$B995, 0)),"---")} -> 3и1б | D23: 1 | E23: 4 | F23: 4 | G23: 2 | H23: 2 | I23: 2 | J23: 2 | K23: 4 | L23: 0 | M23: 2 | N23: 2 | O23: 2 | P23: 2 | Q23: 2 | R23: 2 | S23: 1 | T23: 0 | U23: 0 | V23: 0 | W23: 0 | X23: 0 | Y23: 0 | Z23: 0 | AA23: 0 | AB23: 0 | AC23: 0 | AD23: 0 | AE23: 0 | AF23: 0 | AG23: 0 | AH23: =sum(D23:AG23) -> 34
A24: 39/2020 | B24: {=iferror(iNDEX('Svi studenti'!$C$2:$C995,MATCH(A24, 'Svi studenti'!$B$2:$B995, 0)),"---")} -> Тртовић, Зарија | C24: {=iferror(iNDEX('Svi studenti'!$G$2:$G995,MATCH(A24, 'Svi studenti'!$B$2:$B995, 0)),"---")} -> 3и2а | D24: 1.5 | E24: 2 | F24: 3 | G24: 2 | H24: 2 | I24: 2 | J24: 2 | K24: 4 | L24: 2 | M24: 2 | N24: 2 | O24: 0 | P24: 0 | Q24: 2 | R24: 2 | S24: 1 | T24: 0 | U24: 0 | V24: 0 | W24: 0 | X24: 0 | Y24: 0 | Z24: 0 | AA24: 0 | AB24: 0 | AC24: 0 | AD24: 0 | AE24: 0 | AF24: 0 | AG24: 0 | AH24: =sum(D24:AG24) -> 29.5
A25: 171/2023 | B25: {=iferror(iNDEX('Svi studenti'!$C$2:$C995,MATCH(A25, 'Svi studenti'!$B$2:$B995, 0)),"---")} -> Васиљевић, Василије | C25: {=iferror(iNDEX('Svi studenti'!$G$2:$G995,MATCH(A25, 'Svi studenti'!$B$2:$B995, 0)),"---")} -> 3и2а | D25: 1.5 | E25: 4 | F25: 0 | G25: 0 | H25: 2 | I25: 0 | J25: 0 | K25: 4 | L25: 2 | M25: 0 | N25: 0 | O25: 2 | P25: 0 | Q25: 0 | R25: 0 | S25: 1 | T25: 0 | U25: 0 | V25: 0 | W25: 0 | X25: 0 | Y25: 0 | Z25: 0 | AA25: 0 | AB25: 0 | AC25: 0 | AD25: 0 | AE25: 0 | AF25: 0 | AG25: 0 | AH25: =sum(D25:AG25) -> 16.5
A26: 103/2023 | B26: {=iferror(iNDEX('Svi studenti'!$C$2:$C995,MATCH(A26, 'Svi studenti'!$B$2:$B995, 0)),"---")} -> Рајковић, Анђела | C26: {=iferror(iNDEX('Svi studenti'!$G$2:$G995,MATCH(A26, 'Svi studenti'!$B$2:$B995, 0)),"---")} -> 3и2а | D26: 2 | E26: 4 | F26: 4 | G26: 2 | H26: 2 | I26: 2 | J26: 2 | K26: 4 | L26: 2 | M26: 1 | N26: 1 | O26: 2 | P26: 2 | Q26: 2 | R26: 2 | S26: 1 | T26: 0 | U26: 0 | V26: 0 | W26: 0.5 | X26: 0.5 | Y26: 0 | Z26: 0 | AA26: 0 | AB26: 0 | AC26: 0 | AD26: 0 | AE26: 1 | AF26: 0 | AG26: 0 | AH26: =sum(D26:AG26) -> 37
A27: 71/2023 | B27: {=iferror(iNDEX('Svi studenti'!$C$2:$C995,MATCH(A27, 'Svi studenti'!$B$2:$B995, 0)),"---")} -> Јовановић, Матија | C27: {=iferror(iNDEX('Svi studenti'!$G$2:$G995,MATCH(A27, 'Svi studenti'!$B$2:$B995, 0)),"---")} -> 3и2а | D27: 2 | E27: 4 | F27: 4 | G27: 2 | H27: 2 | I27: 2 | J27: 2 | K27: 4 | L27: 2 | M27: 2 | N27: 2 | O27: 2 | P27: 2 | Q27: 2 | R27: 2 | S27: 1 | T27: 0 | U27: 0 | V27: 0 | W27: 0 | X27: 0 | Y27: 0 | Z27: 0 | AA27: 0 | AB27: 0 | AC27: 0 | AD27: 0 | AE27: 0 | AF27: 0 | AG27: 0 | AH27: =sum(D27:AG27) -> 37
A28: 135/2021 | B28: {=iferror(iNDEX('Svi studenti'!$C$2:$C995,MATCH(A28, 'Svi studenti'!$B$2:$B995, 0)),"---")} -> Митровић, Александар | C28: {=iferror(iNDEX('Svi studenti'!$G$2:$G995,MATCH(A28, 'Svi studenti'!$B$2:$B995, 0)),"---")} -> 3и2а | D28: 2 | E28: 4 | F28: 4 | G28: 2 | H28: 1 | I28: 2 | J28: 2 | K28: 4 | L28: 2 | M28: 2 | N28: 2 | O28: 2 | P28: 2 | Q28: 2 | R28: 2 | S28: 1 | T28: 0 | U28: 0 | V28: 0 | W28: 0 | X28: 0 | Y28: 0 | Z28: 0 | AA28: 0 | AB28: 0 | AC28: 0 | AD28: 0 | AE28: 0 | AF28: 0 | AG28: 0 | AH28: =sum(D28:AG28) -> 36
A29: 255/2021 | B29: {=iferror(iNDEX('Svi studenti'!$C$2:$C995,MATCH(A29, 'Svi studenti'!$B$2:$B995, 0)),"---")} -> Шапоњић, Ана | C29: {=iferror(iNDEX('Svi studenti'!$G$2:$G995,MATCH(A29, 'Svi studenti'!$B$2:$B995, 0)),"---")} -> 3и2а | D29: 0 | E29: 4 | F29: 0 | G29: 0 | H29: 1 | I29: 0 | J29: 0 | K29: 2 | L29: 2 | M29: 0 | N29: 0 | O29: 0 | P29: 0 | Q29: 0 | R29: 0 | S29: 1 | T29: 0 | U29: 0 | V29: 0 | W29: 0 | X29: 0 | Y29: 0 | Z29: 0 | AA29: 0 | AB29: 0 | AC29: 0 | AD29: 0 | AE29: 0 | AF29: 0 | AG29: 0 | AH29: =sum(D29:AG29) -> 10
A30: 239/2023 | B30: {=iferror(iNDEX('Svi studenti'!$C$2:$C995,MATCH(A30, 'Svi studenti'!$B$2:$B995, 0)),"---")} -> Молчанов, Николај | C30: {=iferror(iNDEX('Svi studenti'!$G$2:$G995,MATCH(A30, 'Svi studenti'!$B$2:$B995, 0)),"---")} -> 3и2а | D30: 2 | E30: 4 | F30: 4 | G30: 2 | H30: 2 | I30: 2 | J30: 2 | K30: 4 | L30: 2 | M30: 2 | N30: 2 | O30: 2 | P30: 2 | Q30: 2 | R30: 2 | S30: 1 | T30: 1 | U30: 1 | V30: 1 | W30: 1 | X30: 0 | Y30: 0 | Z30: 0 | AA30: 0 | AB30: 0 | AC30: 0 | AD30: 2 | AE30: 1 | AF30: 1 | AG30: 2 | AH30: =sum(D30:AG30) -> 47
A31: 243/2022 | B31: {=iferror(iNDEX('Svi studenti'!$C$2:$C995,MATCH(A31, 'Svi studenti'!$B$2:$B995, 0)),"---")} -> Степановић, Страхиња | C31: {=iferror(iNDEX('Svi studenti'!$G$2:$G995,MATCH(A31, 'Svi studenti'!$B$2:$B995, 0)),"---")} -> 3и2а | D31: 2 | E31: 4 | F31: 0 | G31: 0 | H31: 2 | I31: 0 | J31: 0 | K31: 0 | L31: 0 | M31: 0 | N31: 0 | O31: 0 | P31: 0 | Q31: 0 | R31: 0 | S31: 1 | T31: 0 | U31: 0 | V31: 0 | W31: 0 | X31: 0 | Y31: 0 | Z31: 0 | AA31: 0 | AB31: 0 | AC31: 0 | AD31: 0 | AE31: 0 | AF31: 0 | AG31: 0 | AH31: =sum(D31:AG31) -> 9
A32: 55/2023 | B32: {=iferror(iNDEX('Svi studenti'!$C$2:$C995,MATCH(A32, 'Svi studenti'!$B$2:$B995, 0)),"---")} -> Петровић, Софија | C32: {=iferror(iNDEX('Svi studenti'!$G$2:$G995,MATCH(A32, 'Svi studenti'!$B$2:$B995, 0)),"---")} -> 3и2а | D32: 2 | E32: 4 | F32: 4 | G32: 2 | H32: 2 | I32: 2 | J32: 2 | K32: 4 | L32: 2 | M32: 2 | N32: 2 | O32: 2 | P32: 2 | Q32: 2 | R32: 1 | S32: 1 | T32: 1 | U32: 0 | V32: 0 | W32: 0 | X32: 0 | Y32: 0 | Z32: 1 | AA32: 1 | AB32: 1 | AC32: 1 | AD32: 0 | AE32: 1 | AF32: 1 | AG32: 2 | AH32: =sum(D32:AG32) -> 45
A33: 48/2023 | B33: {=iferror(iNDEX('Svi studenti'!$C$2:$C995,MATCH(A33, 'Svi studenti'!$B$2:$B995, 0)),"---")} -> Пешић, Петар | C33: {=iferror(iNDEX('Svi studenti'!$G$2:$G995,MATCH(A33, 'Svi studenti'!$B$2:$B995, 0)),"---")} -> 3и2б | D33: 1.5 | E33: 4 | F33: 4 | G33: 2 | H33: 2 | I33: 1.5 | J33: 2 | K33: 4 | L33: 2 | M33: 2 | N33: 2 | O33: 2 | P33: 2 | Q33: 2 | R33: 2 | S33: 1 | T33: 0 | U33: 0 | V33: 0 | W33: 0 | X33: 0 | Y33: 0 | Z33: 0 | AA33: 0 | AB33: 0 | AC33: 0 | AD33: 0 | AE33: 0 | AF33: 0 | AG33: 0 | AH33: =sum(D33:AG33) -> 36
A34: 200/2021 | B34: {=iferror(iNDEX('Svi studenti'!$C$2:$C995,MATCH(A34, 'Svi studenti'!$B$2:$B995, 0)),"---")} -> Илић, Никола | C34: {=iferror(iNDEX('Svi studenti'!$G$2:$G995,MATCH(A34, 'Svi studenti'!$B$2:$B995, 0)),"---")} -> 3и2б | D34: 2 | E34: 4 | F34: 0 | G34: 0 | H34: 2 | I34: 0 | J34: 0 | K34: 4 | L34: 2 | M34: 0 | N34: 0 | O34: 2 | P34: 0 | Q34: 0 | R34: 0 | S34: 1 | T34: 0 | U34: 0 | V34: 0 | W34: 0 | X34: 0 | Y34: 0 | Z34: 0 | AA34: 0 | AB34: 0 | AC34: 0 | AD34: 0 | AE34: 0 | AF34: 0 | AG34: 0 | AH34: =sum(D34:AG34) -> 17
A35: 100/2022 | B35: {=iferror(iNDEX('Svi studenti'!$C$2:$C995,MATCH(A35, 'Svi studenti'!$B$2:$B995, 0)),"---")} -> Мијаиловић, Лука | C35: {=iferror(iNDEX('Svi studenti'!$G$2:$G995,MATCH(A35, 'Svi studenti'!$B$2:$B995, 0)),"---")} -> 3и2б | D35: 2 | E35: 4 | F35: 2 | G35: 1 | H35: 1 | I35: 0 | J35: 0 | K35: 4 | L35: 2 | M35: 0 | N35: 0 | O35: 0 | P35: 0 | Q35: 0 | R35: 0 | S35: 1 | T35: 0 | U35: 0 | V35: 0 | W35: 0 | X35: 0 | Y35: 0 | Z35: 0 | AA35: 0 | AB35: 0 | AC35: 0 | AD35: 0 | AE35: 0 | AF35: 0 | AG35: 0 | AH35: =sum(D35:AG35) -> 17
A36: 24/2023 | B36: {=iferror(iNDEX('Svi studenti'!$C$2:$C995,MATCH(A36, 'Svi studenti'!$B$2:$B995, 0)),"---")} -> Бановић, Љубомир | C36: {=iferror(iNDEX('Svi studenti'!$G$2:$G995,MATCH(A36, 'Svi studenti'!$B$2:$B995, 0)),"---")} -> 3и2б | D36: 2 | E36: 4 | F36: 4 | G36: 2 | H36: 2 | I36: 2 | J36: 2 | K36: 4 | L36: 2 | M36: 2 | N36: 2 | O36: 2 | P36: 2 | Q36: 2 | R36: 2 | S36: 1 | T36: 0.9 | U36: 0.9 | V36: 1 | W36: 1 | X36: 1 | Y36: 1 | Z36: 1 | AA36: 1 | AB36: 1 | AC36: 1 | AD36: 4 | AE36: 1 | AF36: 1 | AG36: 2 | AH36: =sum(D36:AG36) -> 54.8
A37: 124/2023 | B37: {=iferror(iNDEX('Svi studenti'!$C$2:$C995,MATCH(A37, 'Svi studenti'!$B$2:$B995, 0)),"---")} -> Николић, Жељко | C37: {=iferror(iNDEX('Svi studenti'!$G$2:$G995,MATCH(A37, 'Svi studenti'!$B$2:$B995, 0)),"---")} -> 3и2б | D37: 2 | E37: 3 | F37: 2 | G37: 2 | H37: 1 | I37: 1.5 | J37: 1 | K37: 0 | L37: 0 | M37: 0 | N37: 0 | O37: 0 | P37: 0 | Q37: 1 | R37: 1 | S37: 1 | T37: 0 | U37: 0 | V37: 0 | W37: 0 | X37: 0 | Y37: 0 | Z37: 0 | AA37: 0 | AB37: 0 | AC37: 0 | AD37: 0 | AE37: 0 | AF37: 0 | AG37: 0 | AH37: =sum(D37:AG37) -> 15.5
A38: 80/2022 | B38: {=iferror(iNDEX('Svi studenti'!$C$2:$C995,MATCH(A38, 'Svi studenti'!$B$2:$B995, 0)),"---")} -> Протић, Мина | C38: {=iferror(iNDEX('Svi studenti'!$G$2:$G995,MATCH(A38, 'Svi studenti'!$B$2:$B995, 0)),"---")} -> 3и2б | D38: 0 | E38: 0 | F38: 0 | G38: 0 | H38: 0 | I38: 0 | J38: 0 | K38: 0 | L38: 0 | M38: 0 | N38: 0 | O38: 0 | P38: 0 | Q38: 0 | R38: 0 | S38: 0 | T38: 0 | U38: 0 | V38: 0 | W38: 0 | X38: 0 | Y38: 0 | Z38: 0 | AA38: 0 | AB38: 0 | AC38: 0 | AD38: 0 | AE38: 0 | AF38: 0 | AG38: 0 | AH38: =sum(D38:AG38) -> 0
A39: 164/2023 | B39: {=iferror(iNDEX('Svi studenti'!$C$2:$C995,MATCH(A39, 'Svi studenti'!$B$2:$B995, 0)),"---")} -> Ташић, Владимир | C39: {=iferror(iNDEX('Svi studenti'!$G$2:$G995,MATCH(A39, 'Svi studenti'!$B$2:$B995, 0)),"---")} -> 3и2б | D39: 2 | E39: 3 | F39: 2 | G39: 1 | H39: 1.5 | I39: 1.5 | J39: 1.5 | K39: 2 | L39: 2 | M39: 1 | N39: 1 | O39: 2 | P39: 2 | Q39: 2 | R39: 2 | S39: 1 | T39: 0 | U39: 0 | V39: 0 | W39: 0 | X39: 0 | Y39: 0 | Z39: 0 | AA39: 0 | AB39: 0 | AC39: 0 | AD39: 0 | AE39: 0 | AF39: 0 | AG39: 0 | AH39: =sum(D39:AG39) -> 27.5
A40: 120/2021 | B40: {=iferror(iNDEX('Svi studenti'!$C$2:$C995,MATCH(A40, 'Svi studenti'!$B$2:$B995, 0)),"---")} -> Стублинчевић, Александра | C40: {=iferror(iNDEX('Svi studenti'!$G$2:$G995,MATCH(A40, 'Svi studenti'!$B$2:$B995, 0)),"---")} -> 3и2б | D40: 2 | E40: 0 | F40: 0 | G40: 0 | H40: 0 | I40: 0 | J40: 0 | K40: 0 | L40: 0 | M40: 0 | N40: 0 | O40: 0 | P40: 0 | Q40: 0 | R40: 0 | S40: 1 | T40: 0 | U40: 0 | V40: 0 | W40: 0 | X40: 0 | Y40: 0 | Z40: 0 | AA40: 0 | AB40: 0 | AC40: 0 | AD40: 0 | AE40: 0 | AF40: 0 | AG40: 0 | AH40: =sum(D40:AG40) -> 3
A41: 100/2023 | B41: {=iferror(iNDEX('Svi studenti'!$C$2:$C995,MATCH(A41, 'Svi studenti'!$B$2:$B995, 0)),"---")} -> Опачић, Никола | C41: {=iferror(iNDEX('Svi studenti'!$G$2:$G995,MATCH(A41, 'Svi studenti'!$B$2:$B995, 0)),"---")} -> 3и2б | D41: 2 | E41: 4 | F41: 4 | G41: 2 | H41: 2 | I41: 2 | J41: 2 | K41: 4 | L41: 2 | M41: 2 | N41: 2 | O41: 2 | P41: 2 | Q41: 2 | R41: 2 | S41: 1 | T41: 0 | U41: 0 | V41: 0 | W41: 0 | X41: 0 | Y41: 0 | Z41: 0 | AA41: 0 | AB41: 0 | AC41: 0 | AD41: 0 | AE41: 0 | AF41: 0 | AG41: 0 | AH41: =sum(D41:AG41) -> 37
A42: 240/2022 | B42: {=iferror(iNDEX('Svi studenti'!$C$2:$C995,MATCH(A42, 'Svi studenti'!$B$2:$B995, 0)),"---")} -> Мандић, Анастасија | C42: {=iferror(iNDEX('Svi studenti'!$G$2:$G995,MATCH(A42, 'Svi studenti'!$B$2:$B995, 0)),"---")} -> 3и2б | D42: 2 | E42: 4 | F42: 0 | G42: 0 | H42: 1 | I42: 0 | J42: 0 | K42: 2 | L42: 0 | M42: 0 | N42: 0 | O42: 2 | P42: 0 | Q42: 0 | R42: 0 | S42: 0.5 | T42: 0 | U42: 0 | V42: 0 | W42: 0 | X42: 0 | Y42: 0 | Z42: 0 | AA42: 0 | AB42: 0 | AC42: 0 | AD42: 0 | AE42: 0 | AF42: 0 | AG42: 0 | AH42: =sum(D42:AG42) -> 11.5

Sheet Januar 2
A1: VK | B1: SM | C1: MK | E1: jag | F1: bim
A2: =countif(C5:C1000,"=3и2а") + countif(C5:C1000,"=3и1б") -> 19 | B2: =countif(C5:C1000,"=3и1а") -> 5 | C2: =countif(C5:C1000,"=3и2б") -> 10 | D2: Interaktivni parser (35p) | W2: Sintaksno stablo (20p) | AM2: Ukupno (55p)
D3: 1 (14p) | J3: 2 (8p) | M3: 3 (4p) | P3: 4 (5p) | T3: Opste (4p) | W3: 5 (16p) | AJ3: Opste (4p)
A4: Indeks | B4: Ime i prezime | C4: Grupa Vezbi | D4: lexer (2p) | E4: gramatika (6p) | F4: struktura (2p) | G4: def (1p) | H4: dodela (1p) | I4: niz parova (2p) | J4: gramatika (4p) | K4: ispis mape (2p) | L4: ispis vrednosti (2p) | M4: gramatika (2p) | N4: prioriteti (1p) | O4: + (1p) | P4: gramatika (2p) | Q4: contains (1p) | R4: keys (1p) | S4: values (1p) | T4: Makefile (1p) | U4: Obrada gresaka (1p) | V4: Curenje memorije (2p) | W4: deklaracija (1p) | X4: definicija (1p) | Y4: dodela(1p) | Z4: ispis mape (1p) | AA4: ispis vrednosti (1p) | AB4: + (1p) | AC4: contains (1p) | AD4: keys (1p) | AE4: values(1p) | AF4: niz parova (1p) | AG4: promenljiva (1p) | AH4: niz naredbi (1p) | AI4: akcije (4p) | AJ4: Makefile (1p) | AK4: Obrada gresaka (1p) | AL4: Curenje memorije (2p)
A5: 77/2023 | B5: {=iferror(iNDEX('Svi studenti'!$C$2:$C1000,MATCH(A5, 'Svi studenti'!$B$2:$B1000, 0)),"---")} -> Шимшић, Дивна | C5: {=iferror(iNDEX('Svi studenti'!$G$2:$G1000,MATCH(A5, 'Svi studenti'!$B$2:$B1000, 0)),"---")} -> 3и1а | D5: 1.5 | E5: 6 | F5: 1.5 | G5: 1 | H5: 1 | I5: 1 | J5: 2 | K5: 1 | L5: 0 | M5: 2 | N5: 1 | O5: 0.5 | P5: 1 | Q5: 1 | R5: 0.25 | S5: 0.25 | T5: 1 | U5: 1 | V5: 1.5 | W5: 0 | X5: 0 | Y5: 0 | Z5: 0 | AA5: 0 | AB5: 0 | AC5: 0 | AD5: 0 | AE5: 0 | AF5: 0 | AG5: 0 | AH5: 0 | AI5: 0 | AJ5: 0 | AK5: 0 | AL5: 0 | AM5: =sum(D5:AL5) -> 24.5
A6: 109/2023 | B6: {=iferror(iNDEX('Svi studenti'!$C$2:$C1000,MATCH(A6, 'Svi studenti'!$B$2:$B1000, 0)),"---")} -> Молнар, Линда | C6: {=iferror(iNDEX('Svi studenti'!$G$2:$G1000,MATCH(A6, 'Svi studenti'!$B$2:$B1000, 0)),"---")} -> 3и1а | D6: 1.5 | E6: 5 | F6: 2 | G6: 1 | H6: 1 | I6: 1.5 | J6: 2 | K6: 1 | L6: 0 | M6: 2 | N6: 0 | O6: 1 | P6: 2 | Q6: 1 | R6: 1 | S6: 1 | T6: 1 | U6: 1 | V6: 2 | W6: 0 | X6: 0 | Y6: 0 | Z6: 0 | AA6: 0 | AB6: 0 | AC6: 0 | AD6: 0 | AE6: 0 | AF6: 0 | AG6: 0 | AH6: 0 | AI6: 0 | AJ6: 0 | AK6: 0 | AL6: 0 | AM6: =sum(D6:AL6) -> 27
A7: 61/2023 | B7: {=iferror(iNDEX('Svi studenti'!$C$2:$C1000,MATCH(A7, 'Svi studenti'!$B$2:$B1000, 0)),"---")} -> Грбовић, Теодора | C7: {=iferror(iNDEX('Svi studenti'!$G$2:$G1000,MATCH(A7, 'Svi studenti'!$B$2:$B1000, 0)),"---")} -> 3и1а | D7: 2 | E7: 6 | F7: 2 | G7: 1 | H7: 0.5 | I7: 1.5 | J7: 4 | K7: 2 | L7: 2 | M7: 2 | N7: 1 | O7: 1 | P7: 1.5 | Q7: 1 | R7: 1 | S7: 1 | T7: 1 | U7: 1 | V7: 1 | W7: 0.5 | X7: 0 | Y7: 0.5 | Z7: 0 | AA7: 0 | AB7: 0 | AC7: 0 | AD7: 0 | AE7: 0 | AF7: 0 | AG7: 1 | AH7: 0 | AI7: 0 | AJ7: 1 | AK7: 0 | AL7: 0.5 | AM7: =sum(D7:AL7) -> 36
A8: 301/2020 | B8: {=iferror(iNDEX('Svi studenti'!$C$2:$C1000,MATCH(A8, 'Svi studenti'!$B$2:$B1000, 0)),"---")} -> Стојадиновић, Немања | C8: {=iferror(iNDEX('Svi studenti'!$G$2:$G1000,MATCH(A8, 'Svi studenti'!$B$2:$B1000, 0)),"---")} -> 3и1а | D8: 1.5 | E8: 5 | F8: 0.5 | G8: 0 | H8: 0 | I8: 0 | J8: 4 | K8: 0 | L8: 0 | M8: 2 | N8: 1 | O8: 0 | P8: 1 | Q8: 0 | R8: 0 | S8: 0 | T8: 1 | U8: 1 | V8: 0 | W8: 0 | X8: 0 | Y8: 0.5 | Z8: 0 | AA8: 0 | AB8: 0 | AC8: 0 | AD8: 0 | AE8: 0 | AF8: 0 | AG8: 0 | AH8: 0.5 | AI8: 0 | AJ8: 0 | AK8: 0 | AL8: 0 | AM8: =sum(D8:AL8) -> 18
A9: 157/2022 | B9: {=iferror(iNDEX('Svi studenti'!$C$2:$C1000,MATCH(A9, 'Svi studenti'!$B$2:$B1000, 0)),"---")} -> Црномарковић, Ана | C9: {=iferror(iNDEX('Svi studenti'!$G$2:$G1000,MATCH(A9, 'Svi studenti'!$B$2:$B1000, 0)),"---")} -> 3и1а | D9: 2 | E9: 5.5 | F9: 2 | G9: 1 | H9: 1 | I9: 0 | J9: 2 | K9: 2 | L9: 0 | M9: 2 | N9: 1 | O9: 1 | P9: 2 | Q9: 1 | R9: 1 | S9: 1 | T9: 1 | U9: 1 | V9: 2 | W9: 0 | X9: 0 | Y9: 0 | Z9: 0 | AA9: 0 | AB9: 0 | AC9: 0 | AD9: 0 | AE9: 0 | AF9: 0 | AG9: 0 | AH9: 0 | AI9: 0 | AJ9: 0 | AK9: 0 | AL9: 0 | AM9: =sum(D9:AL9) -> 28.5
A10: 190/2022 | B10: {=iferror(iNDEX('Svi studenti'!$C$2:$C1000,MATCH(A10, 'Svi studenti'!$B$2:$B1000, 0)),"---")} -> Манчић, Филип | C10: {=iferror(iNDEX('Svi studenti'!$G$2:$G1000,MATCH(A10, 'Svi studenti'!$B$2:$B1000, 0)),"---")} -> 3и1б | D10: 1 | E10: 3 | F10: 2 | G10: 0 | H10: 0 | I10: 0 | J10: 0 | K10: 0 | L10: 0 | M10: 0 | N10: 0 | O10: 0 | P10: 0 | Q10: 0 | R10: 0 | S10: 0 | T10: 0 | U10: 0 | V10: 0 | W10: 0 | X10: 0 | Y10: 0 | Z10: 0 | AA10: 0 | AB10: 0 | AC10: 0 | AD10: 0 | AE10: 0 | AF10: 0 | AG10: 0 | AH10: 0 | AI10: 0 | AJ10: 0 | AK10: 0 | AL10: 0 | AM10: =sum(D10:AL10) -> 6
A11: 174/2021 | B11: {=iferror(iNDEX('Svi studenti'!$C$2:$C1000,MATCH(A11, 'Svi studenti'!$B$2:$B1000, 0)),"---")} -> Јовановић, Ана | C11: {=iferror(iNDEX('Svi studenti'!$G$2:$G1000,MATCH(A11, 'Svi studenti'!$B$2:$B1000, 0)),"---")} -> 3и1б | D11: 1.5 | E11: 3 | F11: 0 | G11: 0 | H11: 0 | I11: 0 | J11: 0 | K11: 0 | L11: 0 | M11: 0 | N11: 0 | O11: 0 | P11: 0 | Q11: 0 | R11: 0 | S11: 0 | T11: 1 | U11: 0 | V11: 0 | W11: 0 | X11: 0 | Y11: 0 | Z11: 0 | AA11: 0 | AB11: 0 | AC11: 0 | AD11: 0 | AE11: 0 | AF11: 0 | AG11: 0 | AH11: 0 | AI11: 0 | AJ11: 0 | AK11: 0 | AL11: 0 | AM11: =sum(D11:AL11) -> 5.5
A12: 62/2021 | B12: {=iferror(iNDEX('Svi studenti'!$C$2:$C1000,MATCH(A12, 'Svi studenti'!$B$2:$B1000, 0)),"---")} -> Ранковић, Јован | C12: {=iferror(iNDEX('Svi studenti'!$G$2:$G1000,MATCH(A12, 'Svi studenti'!$B$2:$B1000, 0)),"---")} -> 3и1б | D12: 2 | E12: 6 | F12: 0 | G12: 0 | H12: 0 | I12: 0 | J12: 4 | K12: 0 | L12: 0 | M12: 2 | N12: 1 | O12: 0 | P12: 2 | Q12: 0 | R12: 0 | S12: 0 | T12: 1 | U12: 0 | V12: 0 | W12: 0 | X12: 0 | Y12: 0 | Z12: 0 | AA12: 0 | AB12: 0 | AC12: 0 | AD12: 0 | AE12: 0 | AF12: 0 | AG12: 0 | AH12: 0 | AI12: 0 | AJ12: 0 | AK12: 0 | AL12: 0 | AM12: =sum(D12:AL12) -> 18
A13: 50/2023 | B13: {=iferror(iNDEX('Svi studenti'!$C$2:$C1000,MATCH(A13, 'Svi studenti'!$B$2:$B1000, 0)),"---")} -> Јовановић, Ђорђе | C13: {=iferror(iNDEX('Svi studenti'!$G$2:$G1000,MATCH(A13, 'Svi studenti'!$B$2:$B1000, 0)),"---")} -> 3и1б | D13: 2 | E13: 6 | F13: 2 | G13: 0 | H13: 0 | I13: 0 | J13: 4 | K13: 0 | L13: 0 | M13: 2 | N13: 1 | O13: 0 | P13: 2 | Q13: 0 | R13: 0 | S13: 0 | T13: 1 | U13: 1 | V13: 2 | W13: 0 | X13: 0 | Y13: 0 | Z13: 0 | AA13: 0 | AB13: 0 | AC13: 0 | AD13: 0 | AE13: 0 | AF13: 0 | AG13: 0 | AH13: 0 | AI13: 0 | AJ13: 0 | AK13: 0 | AL13: 0 | AM13: =sum(D13:AL13) -> 23
A14: 142/2023 | B14: {=iferror(iNDEX('Svi studenti'!$C$2:$C1000,MATCH(A14, 'Svi studenti'!$B$2:$B1000, 0)),"---")} -> Павловић, Душан | C14: {=iferror(iNDEX('Svi studenti'!$G$2:$G1000,MATCH(A14, 'Svi studenti'!$B$2:$B1000, 0)),"---")} -> 3и1б | D14: 2 | E14: 6 | F14: 2 | G14: 0 | H14: 0 | I14: 0 | J14: 4 | K14: 0 | L14: 0 | M14: 2 | N14: 1 | O14: 0 | P14: 2 | Q14: 0 | R14: 0 | S14: 0 | T14: 1 | U14: 1 | V14: 2 | W14: 0 | X14: 0 | Y14: 0 | Z14: 0 | AA14: 0 | AB14: 0 | AC14: 0 | AD14: 0 | AE14: 0 | AF14: 0 | AG14: 0 | AH14: 0 | AI14: 0 | AJ14: 0 | AK14: 0 | AL14: 0 | AM14: =sum(D14:AL14) -> 23
A15: 214/2021 | B15: {=iferror(iNDEX('Svi studenti'!$C$2:$C1000,MATCH(A15, 'Svi studenti'!$B$2:$B1000, 0)),"---")} -> Марчетић, Катарина | C15: {=iferror(iNDEX('Svi studenti'!$G$2:$G1000,MATCH(A15, 'Svi studenti'!$B$2:$B1000, 0)),"---")} -> 3и1б | D15: 2 | E15: 6 | F15: 2 | G15: 0 | H15: 0 | I15: 0 | J15: 4 | K15: 0 | L15: 0 | M15: 2 | N15: 1 | O15: 0 | P15: 2 | Q15: 0 | R15: 0 | S15: 0 | T15: 1 | U15: 1 | V15: 2 | W15: 0 | X15: 0 | Y15: 0 | Z15: 0 | AA15: 0 | AB15: 0 | AC15: 0 | AD15: 0 | AE15: 0 | AF15: 0 | AG15: 0 | AH15: 0 | AI15: 0 | AJ15: 0 | AK15: 0 | AL15: 0 | AM15: =sum(D15:AL15) -> 23
A16: 206/2022 | B16: {=iferror(iNDEX('Svi studenti'!$C$2:$C1000,MATCH(A16, 'Svi studenti'!$B$2:$B1000, 0)),"---")} -> Дивјак, Анастасија | C16: {=iferror(iNDEX('Svi studenti'!$G$2:$G1000,MATCH(A16, 'Svi studenti'!$B$2:$B1000, 0)),"---")} -> 3и1б | D16: 1 | E16: 6 | F16: 2 | G16: 0 | H16: 0 | I16: 0 | J16: 4 | K16: 0 | L16: 0 | M16: 2 | N16: 1 | O16: 0 | P16: 2 | Q16: 0 | R16: 0 | S16: 0 | T16: 1 | U16: 1 | V16: 2 | W16: 0 | X16: 0 | Y16: 0 | Z16: 0 | AA16: 0 | AB16: 0 | AC16: 0 | AD16: 0 | AE16: 0 | AF16: 0 | AG16: 0 | AH16: 0 | AI16: 0 | AJ16: 0 | AK16: 0 | AL16: 0 | AM16: =sum(D16:AL16) -> 22
A17: 86/2015 | B17: {=iferror(iNDEX('Svi studenti'!$C$2:$C1000,MATCH(A17, 'Svi studenti'!$B$2:$B1000, 0)),"---")} -> Каракаш, Линда Анђела | C17: {=iferror(iNDEX('Svi studenti'!$G$2:$G1000,MATCH(A17, 'Svi studenti'!$B$2:$B1000, 0)),"---")} -> 3и1б | D17: 2 | E17: 6 | F17: 2 | G17: 1 | H17: 1 | I17: 1 | J17: 4 | K17: 1 | L17: 1 | M17: 0 | N17: 0 | O17: 0 | P17: 0 | Q17: 0 | R17: 0 | S17: 0 | T17: 1 | U17: 1 | V17: 2 | W17: 0 | X17: 0 | Y17: 0 | Z17: 0 | AA17: 0 | AB17: 0 | AC17: 0 | AD17: 0 | AE17: 0 | AF17: 0 | AG17: 0 | AH17: 0 | AI17: 0 | AJ17: 0 | AK17: 0 | AL17: 0 | AM17: =sum(D17:AL17) -> 23
A18: 106/2023 | B18: {=iferror(iNDEX('Svi studenti'!$C$2:$C1000,MATCH(A18, 'Svi studenti'!$B$2:$B1000, 0)),"---")} -> Ненић, Јана | C18: {=iferror(iNDEX('Svi studenti'!$G$2:$G1000,MATCH(A18, 'Svi studenti'!$B$2:$B1000, 0)),"---")} -> 3и1б | D18: 2 | E18: 6 | F18: 2 | G18: 0 | H18: 0 | I18: 0 | J18: 4 | K18: 0 | L18: 0 | M18: 2 | N18: 1 | O18: 0 | P18: 2 | Q18: 0 | R18: 0 | S18: 0 | T18: 1 | U18: 1 | V18: 2 | W18: 0 | X18: 0 | Y18: 0 | Z18: 0 | AA18: 0 | AB18: 0 | AC18: 0 | AD18: 0 | AE18: 0 | AF18: 0 | AG18: 0 | AH18: 0 | AI18: 0 | AJ18: 0 | AK18: 0 | AL18: 0 | AM18: =sum(D18:AL18) -> 23
A19: 159/2022 | B19: {=iferror(iNDEX('Svi studenti'!$C$2:$C1000,MATCH(A19, 'Svi studenti'!$B$2:$B1000, 0)),"---")} -> Стојановић, Игор | C19: {=iferror(iNDEX('Svi studenti'!$G$2:$G1000,MATCH(A19, 'Svi studenti'!$B$2:$B1000, 0)),"---")} -> 3и2а | D19: 2 | E19: 6 | F19: 2 | G19: 0 | H19: 0 | I19: 0 | J19: 4 | K19: 0 | L19: 0 | M19: 2 | N19: 1 | O19: 0 | P19: 2 | Q19: 0 | R19: 0 | S19: 0 | T19: 1 | U19: 1 | V19: 2 | W19: 0 | X19: 0 | Y19: 0 | Z19: 0 | AA19: 0 | AB19: 0 | AC19: 0 | AD19: 0 | AE19: 0 | AF19: 0 | AG19: 0 | AH19: 0 | AI19: 0 | AJ19: 0 | AK19: 0 | AL19: 0 | AM19: =sum(D19:AL19) -> 23
A20: 251/2019 | B20: {=iferror(iNDEX('Svi studenti'!$C$2:$C1000,MATCH(A20, 'Svi studenti'!$B$2:$B1000, 0)),"---")} -> Бекчић, Драган | C20: {=iferror(iNDEX('Svi studenti'!$G$2:$G1000,MATCH(A20, 'Svi studenti'!$B$2:$B1000, 0)),"---")} -> 3и2а | D20: 1 | E20: 3 | F20: 0 | G20: 0 | H20: 0 | I20: 0 | J20: 2 | K20: 0 | L20: 0 | M20: 0.5 | N20: 0 | O20: 0 | P20: 2 | Q20: 0 | R20: 0 | S20: 0 | T20: 1 | U20: 0 | V20: 0 | W20: 0 | X20: 0 | Y20: 0 | Z20: 0 | AA20: 0 | AB20: 0 | AC20: 0 | AD20: 0 | AE20: 0 | AF20: 0 | AG20: 0 | AH20: 0 | AI20: 0 | AJ20: 0 | AK20: 0 | AL20: 0 | AM20: =sum(D20:AL20) -> 9.5
A21: 247/2023 | B21: {=iferror(iNDEX('Svi studenti'!$C$2:$C1000,MATCH(A21, 'Svi studenti'!$B$2:$B1000, 0)),"---")} -> Рамадани, Тарик | C21: {=iferror(iNDEX('Svi studenti'!$G$2:$G1000,MATCH(A21, 'Svi studenti'!$B$2:$B1000, 0)),"---")} -> 3и2а | D21: 2 | E21: 6 | F21: 0 | G21: 0 | H21: 0 | I21: 0 | J21: 2 | K21: 0 | L21: 0 | M21: 2 | N21: 1 | O21: 0 | P21: 2 | Q21: 0 | R21: 0 | S21: 0 | T21: 1 | U21: 0 | V21: 0 | W21: 0 | X21: 0 | Y21: 0 | Z21: 0 | AA21: 0 | AB21: 0 | AC21: 0 | AD21: 0 | AE21: 0 | AF21: 0 | AG21: 0 | AH21: 0 | AI21: 0 | AJ21: 0 | AK21: 0 | AL21: 0 | AM21: =sum(D21:AL21) -> 16
A22: 363/2022 | B22: {=iferror(iNDEX('Svi studenti'!$C$2:$C1000,MATCH(A22, 'Svi studenti'!$B$2:$B1000, 0)),"---")} -> Костић, Филип | C22: {=iferror(iNDEX('Svi studenti'!$G$2:$G1000,MATCH(A22, 'Svi studenti'!$B$2:$B1000, 0)),"---")} -> 3и2а | D22: 2 | E22: 6 | F22: 2 | G22: 0 | H22: 0 | I22: 0 | J22: 4 | K22: 0 | L22: 0 | M22: 2 | N22: 1 | O22: 0 | P22: 2 | Q22: 0 | R22: 0 | S22: 0 | T22: 1 | U22: 1 | V22: 2 | W22: 0 | X22: 0 | Y22: 0 | Z22: 0 | AA22: 0 | AB22: 0 | AC22: 0 | AD22: 0 | AE22: 0 | AF22: 0 | AG22: 0 | AH22: 0 | AI22: 0 | AJ22: 0 | AK22: 0 | AL22: 0 | AM22: =sum(D22:AL22) -> 23
A23: 439/2019 | B23: {=iferror(iNDEX('Svi studenti'!$C$2:$C1000,MATCH(A23, 'Svi studenti'!$B$2:$B1000, 0)),"---")} -> Вучељић, Марко | C23: {=iferror(iNDEX('Svi studenti'!$G$2:$G1000,MATCH(A23, 'Svi studenti'!$B$2:$B1000, 0)),"---")} -> 3и2а | D23: 2 | E23: 6 | F23: 2 | G23: 1 | H23: 1 | I23: 2 | J23: 4 | K23: 2 | L23: 2 | M23: 2 | N23: 1 | O23: 1 | P23: 2 | Q23: 1 | R23: 1 | S23: 1 | T23: 1 | U23: 1 | V23: 2 | W23: 0 | X23: 0 | Y23: 0 | Z23: 0 | AA23: 0 | AB23: 0 | AC23: 0 | AD23: 0 | AE23: 0 | AF23: 0 | AG23: 0 | AH23: 0 | AI23: 0 | AJ23: 0 | AK23: 0 | AL23: 0 | AM23: =sum(D23:AL23) -> 35
A24: 131/2023 | B24: {=iferror(iNDEX('Svi studenti'!$C$2:$C1000,MATCH(A24, 'Svi studenti'!$B$2:$B1000, 0)),"---")} -> Николић, Никола | C24: {=iferror(iNDEX('Svi studenti'!$G$2:$G1000,MATCH(A24, 'Svi studenti'!$B$2:$B1000, 0)),"---")} -> 3и2а | D24: 2 | E24: 6 | F24: 2 | G24: 0 | H24: 0 | I24: 0 | J24: 4 | K24: 0 | L24: 0 | M24: 2 | N24: 1 | O24: 0 | P24: 2 | Q24: 0 | R24: 0 | S24: 0 | T24: 1 | U24: 1 | V24: 2 | W24: 0 | X24: 0 | Y24: 0 | Z24: 0 | AA24: 0 | AB24: 0 | AC24: 0 | AD24: 0 | AE24: 0 | AF24: 0 | AG24: 0 | AH24: 0 | AI24: 0 | AJ24: 0 | AK24: 0 | AL24: 0 | AM24: =sum(D24:AL24) -> 23
A25: 35/2023 | B25: {=iferror(iNDEX('Svi studenti'!$C$2:$C1000,MATCH(A25, 'Svi studenti'!$B$2:$B1000, 0)),"---")} -> Џодић, Милош | C25: {=iferror(iNDEX('Svi studenti'!$G$2:$G1000,MATCH(A25, 'Svi studenti'!$B$2:$B1000, 0)),"---")} -> 3и2а | D25: 2 | E25: 6 | F25: 2 | G25: 1 | H25: 1 | I25: 2 | J25: 4 | K25: 2 | L25: 2 | M25: 2 | N25: 1 | O25: 1 | P25: 2 | Q25: 1 | R25: 1 | S25: 1 | T25: 1 | U25: 1 | V25: 2 | W25: 0 | X25: 0 | Y25: 0 | Z25: 0 | AA25: 0 | AB25: 0 | AC25: 0 | AD25: 0 | AE25: 0 | AF25: 0 | AG25: 0 | AH25: 0 | AI25: 0 | AJ25: 0 | AK25: 0 | AL25: 0 | AM25: =sum(D25:AL25) -> 35
A26: 123/2022 | B26: {=iferror(iNDEX('Svi studenti'!$C$2:$C1000,MATCH(A26, 'Svi studenti'!$B$2:$B1000, 0)),"---")} -> Марковић, Михаило | C26: {=iferror(iNDEX('Svi studenti'!$G$2:$G1000,MATCH(A26, 'Svi studenti'!$B$2:$B1000, 0)),"---")} -> 3и2а | D26: 2 | E26: 6 | F26: 2 | G26: 1 | H26: 1 | I26: 2 | J26: 4 | K26: 2 | L26: 2 | M26: 2 | N26: 1 | O26: 1 | P26: 2 | Q26: 1 | R26: 1 | S26: 1 | T26: 1 | U26: 1 | V26: 2 | W26: 0 | X26: 0 | Y26: 0 | Z26: 0 | AA26: 0 | AB26: 0 | AC26: 0 | AD26: 0 | AE26: 0 | AF26: 0 | AG26: 0 | AH26: 0 | AI26: 0 | AJ26: 0 | AK26: 0 | AL26: 0 | AM26: =sum(D26:AL26) -> 35
A27: 83/2022 | B27: {=iferror(iNDEX('Svi studenti'!$C$2:$C1000,MATCH(A27, 'Svi studenti'!$B$2:$B1000, 0)),"---")} -> Маринковић, Огњен | C27: {=iferror(iNDEX('Svi studenti'!$G$2:$G1000,MATCH(A27, 'Svi studenti'!$B$2:$B1000, 0)),"---")} -> 3и2а | D27: 2 | E27: 6 | F27: 0 | G27: 0 | H27: 0 | I27: 0 | J27: 4 | K27: 0 | L27: 0 | M27: 2 | N27: 1 | O27: 0 | P27: 2 | Q27: 0 | R27: 0 | S27: 0 | T27: 1 | U27: 0 | V27: 0 | W27: 0 | X27: 0 | Y27: 0 | Z27: 0 | AA27: 0 | AB27: 0 | AC27: 0 | AD27: 0 | AE27: 0 | AF27: 0 | AG27: 0 | AH27: 0 | AI27: 0 | AJ27: 0 | AK27: 0 | AL27: 0 | AM27: =sum(D27:AL27) -> 18
A28: 243/2022 | B28: {=iferror(iNDEX('Svi studenti'!$C$2:$C1000,MATCH(A28, 'Svi studenti'!$B$2:$B1000, 0)),"---")} -> Степановић, Страхиња | C28: {=iferror(iNDEX('Svi studenti'!$G$2:$G1000,MATCH(A28, 'Svi studenti'!$B$2:$B1000, 0)),"---")} -> 3и2а | D28: 1 | E28: 6 | F28: 2 | G28: 0 | H28: 0 | I28: 0 | J28: 4 | K28: 0 | L28: 0 | M28: 2 | N28: 1 | O28: 0 | P28: 2 | Q28: 0 | R28: 0 | S28: 0 | T28: 1 | U28: 1 | V28: 2 | W28: 0 | X28: 0 | Y28: 0 | Z28: 0 | AA28: 0 | AB28: 0 | AC28: 0 | AD28: 0 | AE28: 0 | AF28: 0 | AG28: 0 | AH28: 0 | AI28: 0 | AJ28: 0 | AK28: 0 | AL28: 0 | AM28: =sum(D28:AL28) -> 22
A29: 240/2022 | B29: {=iferror(iNDEX('Svi studenti'!$C$2:$C1000,MATCH(A29, 'Svi studenti'!$B$2:$B1000, 0)),"---")} -> Мандић, Анастасија | C29: {=iferror(iNDEX('Svi studenti'!$G$2:$G1000,MATCH(A29, 'Svi studenti'!$B$2:$B1000, 0)),"---")} -> 3и2б | D29: 2 | E29: 6 | F29: 2 | G29: 1 | H29: 1 | I29: 1 | J29: 4 | K29: 2 | L29: 0 | M29: 2 | N29: 1 | O29: 1 | P29: 2 | Q29: 1 | R29: 1 | S29: 1 | T29: 1 | U29: 1 | V29: 2 | W29: 0 | X29: 0 | Y29: 0 | Z29: 0 | AA29: 0 | AB29: 0 | AC29: 0 | AD29: 0 | AE29: 0 | AF29: 0 | AG29: 0 | AH29: 0 | AI29: 3 | AJ29: 1 | AK29: 0 | AL29: 2 | AM29: =sum(D29:AL29) -> 38
A30: 168/2023 | B30: {=iferror(iNDEX('Svi studenti'!$C$2:$C1000,MATCH(A30, 'Svi studenti'!$B$2:$B1000, 0)),"---")} -> Стефановић, Алекса | C30: {=iferror(iNDEX('Svi studenti'!$G$2:$G1000,MATCH(A30, 'Svi studenti'!$B$2:$B1000, 0)),"---")} -> 3и2б | D30: 2 | E30: 6 | F30: 2 | G30: 1 | H30: 1 | I30: 1 | J30: 4 | K30: 2 | L30: 2 | M30: 2 | N30: 1 | O30: 1 | P30: 2 | Q30: 1 | R30: 1 | S30: 1 | T30: 1 | U30: 1 | V30: 1 | W30: 1 | X30: 0 | Y30: 0 | Z30: 1 | AA30: 0 | AB30: 1 | AC30: 1 | AD30: 1 | AE30: 1 | AF30: 0 | AG30: 1 | AH30: 0 | AI30: 1 | AJ30: 1 | AK30: 1 | AL30: 0 | AM30: =sum(D30:AL30) -> 43
A31: 124/2022 | B31: {=iferror(iNDEX('Svi studenti'!$C$2:$C1000,MATCH(A31, 'Svi studenti'!$B$2:$B1000, 0)),"---")} -> Вуковић, Јана | C31: {=iferror(iNDEX('Svi studenti'!$G$2:$G1000,MATCH(A31, 'Svi studenti'!$B$2:$B1000, 0)),"---")} -> 3и2б | D31: 2 | E31: 5 | F31: 2 | G31: 1 | H31: 1 | I31: 2 | J31: 2 | K31: 1 | L31: 0 | M31: 2 | N31: 1 | O31: 1 | P31: 2 | Q31: 1 | R31: 1 | S31: 1 | T31: 1 | U31: 1 | V31: 2 | W31: 0 | X31: 0 | Y31: 0 | Z31: 0 | AA31: 0 | AB31: 0 | AC31: 0 | AD31: 0 | AE31: 0 | AF31: 0 | AG31: 0 | AH31: 0 | AI31: 1 | AJ31: 1 | AK31: 0 | AL31: 0 | AM31: =sum(D31:AL31) -> 31
A32: 36/2023 | B32: {=iferror(iNDEX('Svi studenti'!$C$2:$C1000,MATCH(A32, 'Svi studenti'!$B$2:$B1000, 0)),"---")} -> Јевтовић, Филип | C32: {=iferror(iNDEX('Svi studenti'!$G$2:$G1000,MATCH(A32, 'Svi studenti'!$B$2:$B1000, 0)),"---")} -> 3и2б | D32: 2 | E32: 6 | F32: 2 | G32: 1 | H32: 1 | I32: 1.5 | J32: 4 | K32: 2 | L32: 2 | M32: 2 | N32: 1 | O32: 1 | P32: 2 | Q32: 1 | R32: 1 | S32: 1 | T32: 1 | U32: 1 | V32: 2 | W32: 1 | X32: 1 | Y32: 1 | Z32: 1 | AA32: 0.9 | AB32: 0.9 | AC32: 1 | AD32: 1 | AE32: 1 | AF32: 1 | AG32: 1 | AH32: 1 | AI32: 3 | AJ32: 1 | AK32: 1 | AL32: 1.5 | AM32: =sum(D32:AL32) -> 52.8
A33: 200/2021 | B33: {=iferror(iNDEX('Svi studenti'!$C$2:$C1000,MATCH(A33, 'Svi studenti'!$B$2:$B1000, 0)),"---")} -> Илић, Никола | C33: {=iferror(iNDEX('Svi studenti'!$G$2:$G1000,MATCH(A33, 'Svi studenti'!$B$2:$B1000, 0)),"---")} -> 3и2б | D33: 2 | E33: 6 | F33: 2 | G33: 1 | H33: 1 | I33: 2 | J33: 4 | K33: 0 | L33: 0 | M33: 2 | N33: 1 | O33: 0 | P33: 2 | Q33: 0 | R33: 0 | S33: 0 | T33: 1 | U33: 1 | V33: 1 | W33: 0 | X33: 0 | Y33: 0 | Z33: 0 | AA33: 0 | AB33: 0 | AC33: 0 | AD33: 0 | AE33: 0 | AF33: 0 | AG33: 0 | AH33: 0 | AI33: 0 | AJ33: 0 | AK33: 0 | AL33: 0 | AM33: =sum(D33:AL33) -> 26
A34: 124/2023 | B34: {=iferror(iNDEX('Svi studenti'!$C$2:$C1000,MATCH(A34, 'Svi studenti'!$B$2:$B1000, 0)),"---")} -> Николић, Жељко | C34: {=iferror(iNDEX('Svi studenti'!$G$2:$G1000,MATCH(A34, 'Svi studenti'!$B$2:$B1000, 0)),"---")} -> 3и2б | D34: 2 | E34: 6 | F34: 2 | G34: 1 | H34: 1 | I34: 1 | J34: 4 | K34: 2 | L34: 2 | M34: 2 | N34: 1 | O34: 1 | P34: 2 | Q34: 1 | R34: 1 | S34: 1 | T34: 1 | U34: 1 | V34: 2 | W34: 0 | X34: 0 | Y34: 0 | Z34: 0 | AA34: 0 | AB34: 0 | AC34: 0 | AD34: 0 | AE34: 0 | AF34: 0 | AG34: 0 | AH34: 0 | AI34: 0 | AJ34: 0 | AK34: 0 | AL34: 0 | AM34: =sum(D34:AL34) -> 34
A35: 292/2021 | B35: {=iferror(iNDEX('Svi studenti'!$C$2:$C1000,MATCH(A35, 'Svi studenti'!$B$2:$B1000, 0)),"---")} -> Јовановић, Урош | C35: {=iferror(iNDEX('Svi studenti'!$G$2:$G1000,MATCH(A35, 'Svi studenti'!$B$2:$B1000, 0)),"---")} -> 3и2б | D35: 2 | E35: 6 | F35: 2 | G35: 1 | H35: 1 | I35: 2 | J35: 4 | K35: 2 | L35: 0 | M35: 2 | N35: 1 | O35: 0 | P35: 2 | Q35: 0.5 | R35: 0.5 | S35: 0.5 | T35: 1 | U35: 1 | V35: 1 | W35: 0 | X35: 0 | Y35: 0 | Z35: 0 | AA35: 0 | AB35: 0 | AC35: 0 | AD35: 0 | AE35: 0 | AF35: 0 | AG35: 0 | AH35: 0 | AI35: 0 | AJ35: 0 | AK35: 0 | AL35: 0 | AM35: =sum(D35:AL35) -> 29.5
A36: 212/2022 | B36: {=iferror(iNDEX('Svi studenti'!$C$2:$C1000,MATCH(A36, 'Svi studenti'!$B$2:$B1000, 0)),"---")} -> Огрењац, Марко | C36: {=iferror(iNDEX('Svi studenti'!$G$2:$G1000,MATCH(A36, 'Svi studenti'!$B$2:$B1000, 0)),"---")} -> 3и2б | D36: 2 | E36: 6 | F36: 2 | G36: 1 | H36: 1 | I36: 1 | J36: 4 | K36: 2 | L36: 2 | M36: 2 | N36: 1 | O36: 0.8 | P36: 2 | Q36: 0 | R36: 0 | S36: 0 | T36: 1 | U36: 1 | V36: 1 | W36: 0 | X36: 0 | Y36: 0 | Z36: 0 | AA36: 0 | AB36: 0 | AC36: 0 | AD36: 0 | AE36: 0 | AF36: 0 | AG36: 0 | AH36: 0 | AI36: 0 | AJ36: 0 | AK36: 0 | AL36: 0 | AM36: =sum(D36:AL36) -> 29.8
A37: 100/2022 | B37: {=iferror(iNDEX('Svi studenti'!$C$2:$C1000,MATCH(A37, 'Svi studenti'!$B$2:$B1000, 0)),"---")} -> Мијаиловић, Лука | C37: {=iferror(iNDEX('Svi studenti'!$G$2:$G1000,MATCH(A37, 'Svi studenti'!$B$2:$B1000, 0)),"---")} -> 3и2б | D37: 2 | E37: 6 | F37: 1 | G37: 0 | H37: 0 | I37: 0 | J37: 4 | K37: 0 | L37: 0 | M37: 2 | N37: 0 | O37: 0 | P37: 2 | Q37: 0 | R37: 0 | S37: 0 | T37: 1 | U37: 0 | V37: 0 | W37: 0 | X37: 0 | Y37: 0 | Z37: 0 | AA37: 0 | AB37: 0 | AC37: 0 | AD37: 0 | AE37: 0 | AF37: 0 | AG37: 0 | AH37: 0 | AI37: 0 | AJ37: 0 | AK37: 0 | AL37: 0 | AM37: =sum(D37:AL37) -> 18
A38: 120/2021 | B38: {=iferror(iNDEX('Svi studenti'!$C$2:$C1000,MATCH(A38, 'Svi studenti'!$B$2:$B1000, 0)),"---")} -> Стублинчевић, Александра | C38: {=iferror(iNDEX('Svi studenti'!$G$2:$G1000,MATCH(A38, 'Svi studenti'!$B$2:$B1000, 0)),"---")} -> 3и2б | D38: 1.5 | E38: 1 | F38: 0 | G38: 0 | H38: 0 | I38: 0 | J38: 0 | K38: 0 | L38: 0 | M38: 0 | N38: 0 | O38: 0 | P38: 0 | Q38: 0.5 | R38: 0.5 | S38: 0.5 | T38: 1 | U38: 0 | V38: 0 | W38: 0 | X38: 0 | Y38: 0 | Z38: 0 | AA38: 0 | AB38: 0 | AC38: 0 | AD38: 0 | AE38: 0 | AF38: 0 | AG38: 0 | AH38: 0 | AI38: 0 | AJ38: 0 | AK38: 0 | AL38: 0 | AM38: =sum(D38:AL38) -> 5

Sheet Jun1
A1: VK | B1: SM | C1: MK | E1: bim | F1: 718
A2: =countif(C6:C985,"=3и2а") + countif(C6:C985,"=3и1б") -> 12 | B2: =countif(C5:C985,"=3и1а") -> 2 | C2: =+ countif(C5:C985,"=3и2б") -> 4
D3: Interaktivni parser (34.5p) | AC3: Sintaksna analiza na nize (17p) | AF3: Opste (3.5p) | AI3: Ukupno (55p)
D4: 1 (13p) | I4: 2 (8p) | Q4: 3 (5.5p) | V4: 4 (5p) | Z4: 5 (3p) | AC4: Gramatika (10p) | AE4: Parser (7p)
A5: Indeks | B5: Ime i prezime | C5: Grupa Vezbi | D5: Lekser (2p) | E5: Gramatika (5p) | F5: struktura (3p) | G5: def (2p) | H5: print (1p) | I5: Gramatika (3p) | J5: Prioriteti (2p) | K5: + (0.5p) | L5: - (0.5p) | M5: uminus (0.5p) | N5: * skalar (0.5p) | O5: . (0.5p) | P5: redef (0.5p) | Q5: Gramatika (3p) | R5: Prioriteti (1p) | S5: * Hamilton (0.5p) | T5: ' (0.5p) | U5: ~ (0.5p) | V5: Gramatika (3p) | W5: Prioriteti (1p) | X5: | | (0.5p) | Y5: [ ] (0.5p) | Z5: Gramatika (2p) | AA5: == (0.5p) | AB5: != (0.5p) | AC5: Gramatika (5p) | AD5: Skupovi izbora (5p) | AF5: Makefile (0.5p) | AG5: Obrada gresaka (1p) | AH5: Curenje memorije (2p)
A6: 217/2023 | B6: {=INDEX('Svi studenti'!$C$2:$C985,MATCH(A6, 'Svi studenti'!$B$2:$B985, 0))} -> Аћимовић, Љубомир | C6: {=iferror(iNDEX('Svi studenti'!$G$2:$G985,MATCH(A6, 'Svi studenti'!$B$2:$B985, 0)),"---")} -> 3и1а | D6: 2 | E6: 4 | F6: 2 | G6: 0 | H6: 0 | I6: 3 | J6: 2 | K6: 0 | L6: 0 | M6: 0 | N6: 0 | O6: 0 | P6: 0 | Q6: 3 | R6: 1 | S6: 0 | T6: 0 | U6: 0 | V6: 2 | W6: 1 | X6: 0 | Y6: 0 | Z6: 2 | AA6: 0 | AB6: 0 | AC6: 2 | AD6: 0.5 | AE6: 2 | AF6: 0.5 | AG6: 1 | AH6: 0 | AI6: =sum(D6:AH6) -> 28
A7: 301/2020 | B7: {=INDEX('Svi studenti'!$C$2:$C985,MATCH(A7, 'Svi studenti'!$B$2:$B985, 0))} -> Стојадиновић, Немања | C7: {=iferror(iNDEX('Svi studenti'!$G$2:$G985,MATCH(A7, 'Svi studenti'!$B$2:$B985, 0)),"---")} -> 3и1а | D7: 2 | E7: 5 | F7: 3 | G7: 0 | H7: 0 | I7: 3 | J7: 2 | K7: 0 | L7: 0 | M7: 0 | N7: 0 | O7: 0 | P7: 0 | Q7: 3 | R7: 1 | S7: 0 | T7: 0 | U7: 0 | V7: 3 | W7: 1 | X7: 0 | Y7: 0 | Z7: 2 | AA7: 0 | AB7: 0 | AC7: 0 | AD7: 0 | AE7: 0 | AF7: 0.5 | AG7: 1 | AH7: 0 | AI7: =sum(D7:AH7) -> 26.5
A8: 258/2021 | B8: {=INDEX('Svi studenti'!$C$2:$C985,MATCH(A8, 'Svi studenti'!$B$2:$B985, 0))} -> Николић, Петар | C8: {=iferror(iNDEX('Svi studenti'!$G$2:$G985,MATCH(A8, 'Svi studenti'!$B$2:$B985, 0)),"---")} -> 3и1б | D8: 1 | E8: 5 | F8: 0 | G8: 0 | H8: 0 | I8: 1.5 | J8: 2 | K8: 0 | L8: 0 | M8: 0 | N8: 0 | O8: 0 | P8: 0 | Q8: 2 | R8: 0.5 | S8: 0 | T8: 0 | U8: 0 | V8: 0 | W8: 0 | X8: 0 | Y8: 0 | Z8: 1 | AA8: 0 | AB8: 0 | AC8: 0 | AD8: 0 | AE8: 0 | AF8: 0.5 | AG8: 0 | AH8: 0 | AI8: =sum(D8:AH8) -> 13.5
A9: 50/2023 | B9: {=INDEX('Svi studenti'!$C$2:$C985,MATCH(A9, 'Svi studenti'!$B$2:$B985, 0))} -> Јовановић, Ђорђе | C9: {=iferror(iNDEX('Svi studenti'!$G$2:$G985,MATCH(A9, 'Svi studenti'!$B$2:$B985, 0)),"---")} -> 3и1б | D9: 2 | E9: 5 | F9: 3 | G9: 2 | H9: 1 | I9: 3 | J9: 2 | K9: 0.5 | L9: 0.5 | M9: 0.5 | N9: 0.5 | O9: 0.5 | P9: 0.5 | Q9: 3 | R9: 1 | S9: 0.5 | T9: 0.5 | U9: 0.5 | V9: 3 | W9: 1 | X9: 0.5 | Y9: 0.5 | Z9: 2 | AA9: 0.5 | AB9: 0.5 | AC9: 3 | AD9: 0 | AE9: 0 | AF9: 0.5 | AG9: 1 | AH9: 2 | AI9: =sum(D9:AH9) -> 41
A10: 190/2022 | B10: {=INDEX('Svi studenti'!$C$2:$C985,MATCH(A10, 'Svi studenti'!$B$2:$B985, 0))} -> Манчић, Филип | C10: {=iferror(iNDEX('Svi studenti'!$G$2:$G985,MATCH(A10, 'Svi studenti'!$B$2:$B985, 0)),"---")} -> 3и1б | D10: 1 | E10: 3 | F10: 3 | G10: 2 | H10: 1 | I10: 3 | J10: 1 | K10: 0.5 | L10: 0.5 | M10: 0.5 | N10: 0.5 | O10: 0.5 | P10: 0.5 | Q10: 3 | R10: 1 | S10: 0.5 | T10: 0.5 | U10: 0.5 | V10: 3 | W10: 0 | X10: 0.5 | Y10: 0.5 | Z10: 1 | AA10: 0.5 | AB10: 0 | AC10: 0 | AD10: 0 | AE10: 0 | AF10: 0.5 | AG10: 1 | AH10: 2 | AI10: =sum(D10:AH10) -> 31.5
A11: 46/2020 | B11: {=INDEX('Svi studenti'!$C$2:$C985,MATCH(A11, 'Svi studenti'!$B$2:$B985, 0))} -> Никодијевић, Милутин | C11: {=iferror(iNDEX('Svi studenti'!$G$2:$G985,MATCH(A11, 'Svi studenti'!$B$2:$B985, 0)),"---")} -> 3и1б | D11: 2 | E11: 5 | F11: 3 | G11: 2 | H11: 1 | I11: 2.5 | J11: 2 | K11: 0.5 | L11: 0.5 | M11: 0.5 | N11: 0.5 | O11: 0.5 | P11: 0.5 | Q11: 3 | R11: 1 | S11: 0.5 | T11: 0.5 | U11: 0.5 | V11: 3 | W11: 1 | X11: 0.5 | Y11: 0.5 | Z11: 2 | AA11: 0.5 | AB11: 0.5 | AC11: 0 | AD11: 0 | AE11: 0 | AF11: 0.5 | AG11: 1 | AH11: 2 | AI11: =sum(D11:AH11) -> 37.5
A12: 178/2021 | B12: {=INDEX('Svi studenti'!$C$2:$C985,MATCH(A12, 'Svi studenti'!$B$2:$B985, 0))} -> Будимир, Никола | C12: {=iferror(iNDEX('Svi studenti'!$G$2:$G985,MATCH(A12, 'Svi studenti'!$B$2:$B985, 0)),"---")} -> 3и1б | D12: 2 | E12: 5 | F12: 0 | G12: 0 | H12: 0 | I12: 2.5 | J12: 2 | K12: 0 | L12: 0 | M12: 0 | N12: 0 | O12: 0 | P12: 0 | Q12: 3 | R12: 1 | S12: 0 | T12: 0 | U12: 0 | V12: 3 | W12: 1 | X12: 0 | Y12: 0 | Z12: 2 | AA12: 0 | AB12: 0 | AC12: 0 | AD12: 0 | AE12: 0 | AF12: 0.5 | AG12: 0 | AH12: 0 | AI12: =sum(D12:AH12) -> 22
A13: 174/2021 | B13: {=INDEX('Svi studenti'!$C$2:$C985,MATCH(A13, 'Svi studenti'!$B$2:$B985, 0))} -> Јовановић, Ана | C13: {=iferror(iNDEX('Svi studenti'!$G$2:$G985,MATCH(A13, 'Svi studenti'!$B$2:$B985, 0)),"---")} -> 3и1б | D13: 2 | E13: 4 | F13: 0 | G13: 0 | H13: 0 | I13: 1.5 | J13: 1 | K13: 0 | L13: 0 | M13: 0 | N13: 0 | O13: 0 | P13: 0 | Q13: 3 | R13: 1 | S13: 0 | T13: 0 | U13: 0 | V13: 3 | W13: 1 | X13: 0 | Y13: 0 | Z13: 2 | AA13: 0 | AB13: 0 | AC13: 0 | AD13: 0 | AE13: 0 | AF13: 0.5 | AG13: 0 | AH13: 0 | AI13: =sum(D13:AH13) -> 19
A14: 135/2023 | B14: {=INDEX('Svi studenti'!$C$2:$C985,MATCH(A14, 'Svi studenti'!$B$2:$B985, 0))} -> Алановић, Дане | C14: {=iferror(iNDEX('Svi studenti'!$G$2:$G985,MATCH(A14, 'Svi studenti'!$B$2:$B985, 0)),"---")} -> 3и2а | D14: 1 | E14: 4 | F14: 0 | G14: 0 | H14: 0 | I14: 1.5 | J14: 1 | K14: 0 | L14: 0 | M14: 0 | N14: 0 | O14: 0 | P14: 0 | Q14: 0 | R14: 0 | S14: 0 | T14: 0 | U14: 0 | V14: 0 | W14: 0 | X14: 0 | Y14: 0 | Z14: 0 | AA14: 0 | AB14: 0 | AC14: 0 | AD14: 0 | AE14: 0 | AF14: 0.5 | AG14: 0 | AH14: 0 | AI14: =sum(D14:AH14) -> 8
A15: 251/2019 | B15: {=INDEX('Svi studenti'!$C$2:$C985,MATCH(A15, 'Svi studenti'!$B$2:$B985, 0))} -> Бекчић, Драган | C15: {=iferror(iNDEX('Svi studenti'!$G$2:$G985,MATCH(A15, 'Svi studenti'!$B$2:$B985, 0)),"---")} -> 3и2а | D15: 2 | E15: 2.5 | F15: 0 | G15: 0 | H15: 0 | I15: 1 | J15: 2 | K15: 0 | L15: 0 | M15: 0 | N15: 0 | O15: 0 | P15: 0 | Q15: 1 | R15: 1 | S15: 0 | T15: 0 | U15: 0 | V15: 1 | W15: 1 | X15: 0 | Y15: 0 | Z15: 0 | AA15: 0 | AB15: 0 | AC15: 0 | AD15: 0 | AE15: 0 | AF15: 0.5 | AG15: 0 | AH15: 0 | AI15: =sum(D15:AH15) -> 12
A16: 83/2022 | B16: {=INDEX('Svi studenti'!$C$2:$C985,MATCH(A16, 'Svi studenti'!$B$2:$B985, 0))} -> Маринковић, Огњен | C16: {=iferror(iNDEX('Svi studenti'!$G$2:$G985,MATCH(A16, 'Svi studenti'!$B$2:$B985, 0)),"---")} -> 3и2а | D16: 1 | E16: 5 | F16: 0 | G16: 0 | H16: 0 | I16: 2 | J16: 2 | K16: 0 | L16: 0 | M16: 0 | N16: 0 | O16: 0 | P16: 0 | Q16: 3 | R16: 1 | S16: 0 | T16: 0 | U16: 0 | V16: 0 | W16: 0 | X16: 0 | Y16: 0 | Z16: 0 | AA16: 0 | AB16: 0 | AC16: 0 | AD16: 0 | AE16: 0 | AF16: 0.5 | AG16: 0 | AH16: 0 | AI16: =sum(D16:AH16) -> 14.5
A17: 247/2023 | B17: {=INDEX('Svi studenti'!$C$2:$C985,MATCH(A17, 'Svi studenti'!$B$2:$B985, 0))} -> Рамадани, Тарик | C17: {=iferror(iNDEX('Svi studenti'!$G$2:$G985,MATCH(A17, 'Svi studenti'!$B$2:$B985, 0)),"---")} -> 3и2а | D17: 2 | E17: 5 | F17: 0 | G17: 0 | H17: 0 | I17: 3 | J17: 2 | K17: 0 | L17: 0 | M17: 0 | N17: 0 | O17: 0 | P17: 0 | Q17: 3 | R17: 1 | S17: 0 | T17: 0 | U17: 0 | V17: 3 | W17: 1 | X17: 0 | Y17: 0 | Z17: 2 | AA17: 0 | AB17: 0 | AC17: 0 | AD17: 0 | AE17: 0 | AF17: 0.5 | AG17: 0 | AH17: 0 | AI17: =sum(D17:AH17) -> 22.5
A18: 87/2023 | B18: {=INDEX('Svi studenti'!$C$2:$C985,MATCH(A18, 'Svi studenti'!$B$2:$B985, 0))} -> Радмановац, Ана | C18: {=iferror(iNDEX('Svi studenti'!$G$2:$G985,MATCH(A18, 'Svi studenti'!$B$2:$B985, 0)),"---")} -> 3и2а | D18: 2 | E18: 4 | F18: 0 | G18: 0 | H18: 0 | I18: 2 | J18: 1 | K18: 0 | L18: 0 | M18: 0 | N18: 0 | O18: 0 | P18: 0 | Q18: 3 | R18: 0 | S18: 0 | T18: 0 | U18: 0 | V18: 3 | W18: 0 | X18: 0 | Y18: 0 | Z18: 1 | AA18: 0 | AB18: 0 | AC18: 0 | AD18: 0 | AE18: 0 | AF18: 0.5 | AG18: 0 | AH18: 0 | AI18: =sum(D18:AH18) -> 16.5
A19: 75/2023 | B19: {=INDEX('Svi studenti'!$C$2:$C985,MATCH(A19, 'Svi studenti'!$B$2:$B985, 0))} -> Стефановић, Јована | C19: {=iferror(iNDEX('Svi studenti'!$G$2:$G985,MATCH(A19, 'Svi studenti'!$B$2:$B985, 0)),"---")} -> 3и2а | D19: 2 | E19: 2.5 | F19: 0 | G19: 0 | H19: 0 | I19: 1 | J19: 0 | K19: 0 | L19: 0 | M19: 0 | N19: 0 | O19: 0 | P19: 0 | Q19: 1 | R19: 0 | S19: 0 | T19: 0 | U19: 0 | V19: 0 | W19: 0 | X19: 0 | Y19: 0 | Z19: 1 | AA19: 0 | AB19: 0 | AC19: 0 | AD19: 0 | AE19: 0 | AF19: 0 | AG19: 0 | AH19: 0 | AI19: =sum(D19:AH19) -> 7.5
A20: 80/2022 | B20: {=INDEX('Svi studenti'!$C$2:$C985,MATCH(A20, 'Svi studenti'!$B$2:$B985, 0))} -> Протић, Мина | C20: {=iferror(iNDEX('Svi studenti'!$G$2:$G985,MATCH(A20, 'Svi studenti'!$B$2:$B985, 0)),"---")} -> 3и2б | D20: 2 | E20: 5 | F20: 1 | G20: 0 | H20: 0 | I20: 3 | J20: 2 | K20: 0 | L20: 0 | M20: 0 | N20: 0 | O20: 0 | P20: 0 | Q20: 3 | R20: 1 | S20: 0 | T20: 0 | U20: 0 | V20: 3 | W20: 1 | X20: 0 | Y20: 0 | Z20: 2 | AA20: 0 | AB20: 0 | AC20: 0 | AD20: 0 | AE20: 0 | AF20: 0.5 | AG20: 0 | AH20: 0 | AI20: =sum(D20:AH20) -> 23.5
A21: 124/2022 | B21: {=INDEX('Svi studenti'!$C$2:$C985,MATCH(A21, 'Svi studenti'!$B$2:$B985, 0))} -> Вуковић, Јана | C21: {=iferror(iNDEX('Svi studenti'!$G$2:$G985,MATCH(A21, 'Svi studenti'!$B$2:$B985, 0)),"---")} -> 3и2б | D21: 2 | E21: 2 | F21: 3 | G21: 1 | H21: 0 | I21: 0 | J21: 2 | K21: 0.25 | L21: 0.25 | M21: 0 | N21: 0.25 | O21: 0.25 | P21: 0 | Q21: 0 | R21: 1 | S21: 0.25 | T21: 0.25 | U21: 0.25 | V21: 0 | W21: 1 | X21: 0.25 | Y21: 0 | Z21: 1 | AA21: 0.25 | AB21: 0 | AC21: 0 | AD21: 0 | AE21: 1 | AF21: 0.5 | AG21: 0.5 | AH21: 0.5 | AI21: =sum(D21:AH21) -> 17.75
A22: 88/2023 | B22: {=INDEX('Svi studenti'!$C$2:$C985,MATCH(A22, 'Svi studenti'!$B$2:$B985, 0))} -> Стефановић, Огњен | C22: {=iferror(iNDEX('Svi studenti'!$G$2:$G985,MATCH(A22, 'Svi studenti'!$B$2:$B985, 0)),"---")} -> 3и2б | D22: 2 | E22: 3 | F22: 1 | G22: 1 | H22: 0.5 | I22: 3 | J22: 2 | K22: 0.4 | L22: 0.4 | M22: 0.4 | N22: 0.4 | O22: 0.4 | P22: 0.4 | Q22: 3 | R22: 1 | S22: 0.4 | T22: 0.4 | U22: 0.4 | V22: 3 | W22: 0 | X22: 0.4 | Y22: 0.4 | Z22: 2 | AA22: 0.4 | AB22: 0.4 | AC22: 0 | AD22: 0 | AE22: 0 | AF22: 0.4 | AG22: 1 | AH22: 2 | AI22: =sum(D22:AH22) -> 30.1
A23: 120/2021 | B23: {=INDEX('Svi studenti'!$C$2:$C985,MATCH(A23, 'Svi studenti'!$B$2:$B985, 0))} -> Стублинчевић, Александра | C23: {=iferror(iNDEX('Svi studenti'!$G$2:$G985,MATCH(A23, 'Svi studenti'!$B$2:$B985, 0)),"---")} -> 3и2б | D23: 2 | E23: 5 | F23: 3 | G23: 0 | H23: 0 | I23: 3 | J23: 2 | K23: 0.25 | L23: 0.25 | M23: 0.25 | N23: 0.25 | O23: 0.25 | P23: 0 | Q23: 3 | R23: 1 | S23: 0.25 | T23: 0.25 | U23: 0.25 | V23: 3 | W23: 1 | X23: 0.25 | Y23: 0.25 | Z23: 1 | AA23: 0.5 | AB23: 0 | AC23: 0 | AD23: 0 | AE23: 0 | AF23: 0.5 | AG23: 0 | AH23: 0 | AI23: =sum(D23:AH23) -> 27.5

Sheet Jun2
A1: VK | B1: SM | C1: MK | E1: bim | F1: 718
A2: =countif(C6:C987,"=3и2а") + countif(C6:C987,"=3и1б") -> 15 | B2: =countif(C5:C987,"=3и1a") -> 0 | C2: =countif(C5:C987,"=3и2б") -> 4
D3: Interaktivni parser (37p) | S3: Sintaksno stablo (18p) | AF3: Ukupno (55p)
D4: 1 (11p) | G4: 2 (4p) | I4: 3 (14p) | N4: 4 (6p) | Q4: opsti zahtevi (2p) | S4: 5 (15p)
A5: Indeks | B5: Ime i prezime | C5: Grupa Vezbi | D5: lekser (2p) | E5: gramatika (6p) | F5: definicija (3p) | G5: gramatika (2p) | H5: print (2p) | I5: gramatika (3p) | J5: prioritetit (2p) | K5: + (3p) | L5: - (3p) | M5: T (3p) | N5: gramatika (2p) | O5: addColumn (2p) | P5: addRow (2p) | Q5: greske (1p) | R5: curenje memorije (1p) | S5: niz naredbi (1p) | T5: definicija (1p) | U5: promenljiva (1p) | V5: ispis (1p) | W5: matrica (1p) | X5: sabiranje (1p) | Y5: oduzimanje (1p) | Z5: transponovanje (1p) | AA5: add row (1p) | AB5: add column (1p) | AC5: akcije (5p) | AD5: greske (1p) | AE5: curenje memorije (2p)
A6: 134/2023 | B6: {=INDEX('Svi studenti'!$C$2:$C987,MATCH(A6, 'Svi studenti'!$B$2:$B987, 0))} -> Чомагић, Анђела | C6: {=iferror(iNDEX('Svi studenti'!$G$2:$G987,MATCH(A6, 'Svi studenti'!$B$2:$B987, 0)),"---")} -> 3и1б | D6: 1.5 | E6: 4 | F6: 1 | G6: 2 | H6: 2 | I6: 3 | J6: 2 | K6: 2 | L6: 2 | M6: 1 | N6: 1.5 | O6: 0.5 | P6: 2 | Q6: 1 | R6: 1 | S6: 0 | T6: 0 | U6: 0 | V6: 0 | W6: 0 | X6: 0 | Y6: 0 | Z6: 0 | AA6: 0 | AB6: 0 | AC6: 0 | AD6: 0 | AE6: 0 | AF6: =sum(D6:AE6) -> 26.5
A7: 174/2021 | B7: {=INDEX('Svi studenti'!$C$2:$C987,MATCH(A7, 'Svi studenti'!$B$2:$B987, 0))} -> Јовановић, Ана | C7: {=iferror(iNDEX('Svi studenti'!$G$2:$G987,MATCH(A7, 'Svi studenti'!$B$2:$B987, 0)),"---")} -> 3и1б | D7: 1.5 | E7: 6 | F7: 2 | G7: 2 | H7: 2 | I7: 3 | J7: 2 | K7: 2.5 | L7: 2.5 | M7: 3 | N7: 2 | O7: 1 | P7: 1 | Q7: 1 | R7: 1 | S7: 0 | T7: 0 | U7: 0 | V7: 0 | W7: 0 | X7: 0 | Y7: 0 | Z7: 0 | AA7: 0 | AB7: 0 | AC7: 0 | AD7: 0 | AE7: 0 | AF7: =sum(D7:AE7) -> 32.5
A8: 258/2021 | B8: {=INDEX('Svi studenti'!$C$2:$C987,MATCH(A8, 'Svi studenti'!$B$2:$B987, 0))} -> Николић, Петар | C8: {=iferror(iNDEX('Svi studenti'!$G$2:$G987,MATCH(A8, 'Svi studenti'!$B$2:$B987, 0)),"---")} -> 3и1б | D8: 1.5 | E8: 6 | F8: 2 | G8: 2 | H8: 0 | I8: 3 | J8: 2 | K8: 0 | L8: 0 | M8: 0 | N8: 2 | O8: 0 | P8: 0 | Q8: 1 | R8: 0 | S8: 0 | T8: 0 | U8: 0 | V8: 0 | W8: 0 | X8: 0 | Y8: 0 | Z8: 0 | AA8: 0 | AB8: 0 | AC8: 0 | AD8: 0 | AE8: 0 | AF8: =sum(D8:AE8) -> 19.5
A9: 206/2023 | B9: {=INDEX('Svi studenti'!$C$2:$C987,MATCH(A9, 'Svi studenti'!$B$2:$B987, 0))} -> Ћосић, Стефан | C9: {=iferror(iNDEX('Svi studenti'!$G$2:$G987,MATCH(A9, 'Svi studenti'!$B$2:$B987, 0)),"---")} -> 3и1б | D9: 2 | E9: 6 | F9: 0 | G9: 2 | H9: 0 | I9: 3 | J9: 2 | K9: 0 | L9: 0 | M9: 0 | N9: 2 | O9: 0 | P9: 0 | Q9: 0 | R9: 0 | S9: 0 | T9: 0 | U9: 0 | V9: 0 | W9: 0 | X9: 0 | Y9: 0 | Z9: 0 | AA9: 0 | AB9: 0 | AC9: 0 | AD9: 0 | AE9: 0 | AF9: =sum(D9:AE9) -> 17
A10: 50/2023 | B10: {=INDEX('Svi studenti'!$C$2:$C987,MATCH(A10, 'Svi studenti'!$B$2:$B987, 0))} -> Јовановић, Ђорђе | C10: {=iferror(iNDEX('Svi studenti'!$G$2:$G987,MATCH(A10, 'Svi studenti'!$B$2:$B987, 0)),"---")} -> 3и1б | D10: 2 | E10: 6 | F10: 3 | G10: 2 | H10: 2 | I10: 3 | J10: 2 | K10: 3 | L10: 3 | M10: 3 | N10: 2 | O10: 2 | P10: 2 | Q10: 1 | R10: 1 | S10: 0 | T10: 1 | U10: 1 | V10: 1 | W10: 1 | X10: 1 | Y10: 1 | Z10: 1 | AA10: 1 | AB10: 1 | AC10: 3 | AD10: 1 | AE10: 2 | AF10: =sum(D10:AE10) -> 52
A11: 62/2021 | B11: {=INDEX('Svi studenti'!$C$2:$C987,MATCH(A11, 'Svi studenti'!$B$2:$B987, 0))} -> Ранковић, Јован | C11: {=iferror(iNDEX('Svi studenti'!$G$2:$G987,MATCH(A11, 'Svi studenti'!$B$2:$B987, 0)),"---")} -> 3и1б | D11: 1.5 | E11: 6 | F11: 0 | G11: 2 | H11: 0 | I11: 3 | J11: 2 | K11: 0 | L11: 0 | M11: 0 | N11: 1 | O11: 0 | P11: 0 | Q11: 0 | R11: 0 | S11: 0 | T11: 0 | U11: 0 | V11: 0 | W11: 0 | X11: 0 | Y11: 0 | Z11: 0 | AA11: 0 | AB11: 0 | AC11: 0 | AD11: 0 | AE11: 0 | AF11: =sum(D11:AE11) -> 15.5
A12: 251/2019 | B12: {=INDEX('Svi studenti'!$C$2:$C987,MATCH(A12, 'Svi studenti'!$B$2:$B987, 0))} -> Бекчић, Драган | C12: {=iferror(iNDEX('Svi studenti'!$G$2:$G987,MATCH(A12, 'Svi studenti'!$B$2:$B987, 0)),"---")} -> 3и2а | D12: 1.5 | E12: 4.5 | F12: 2.5 | G12: 2 | H12: 2 | I12: 3 | J12: 2 | K12: 2.5 | L12: 2.5 | M12: 0 | N12: 2 | O12: 0 | P12: 0 | Q12: 1 | R12: 1 | S12: 0 | T12: 0 | U12: 0 | V12: 0 | W12: 0 | X12: 0 | Y12: 0 | Z12: 0 | AA12: 0 | AB12: 0 | AC12: 0 | AD12: 0 | AE12: 0 | AF12: =sum(D12:AE12) -> 26.5
A13: 131/2022 | B13: {=INDEX('Svi studenti'!$C$2:$C987,MATCH(A13, 'Svi studenti'!$B$2:$B987, 0))} -> Гајић, Реља | C13: {=iferror(iNDEX('Svi studenti'!$G$2:$G987,MATCH(A13, 'Svi studenti'!$B$2:$B987, 0)),"---")} -> 3и2а | D13: 1.5 | E13: 3 | F13: 3 | G13: 2 | H13: 2 | I13: 3 | J13: 2 | K13: 2.5 | L13: 2.5 | M13: 2.5 | N13: 2 | O13: 2 | P13: 2 | Q13: 1 | R13: 1 | S13: 0 | T13: 0 | U13: 0 | V13: 0 | W13: 0 | X13: 0 | Y13: 0 | Z13: 0 | AA13: 0 | AB13: 0 | AC13: 0 | AD13: 0 | AE13: 0 | AF13: =sum(D13:AE13) -> 32
A14: 283/2021 | B14: {=INDEX('Svi studenti'!$C$2:$C987,MATCH(A14, 'Svi studenti'!$B$2:$B987, 0))} -> Јокић, Невена | C14: {=iferror(iNDEX('Svi studenti'!$G$2:$G987,MATCH(A14, 'Svi studenti'!$B$2:$B987, 0)),"---")} -> 3и2а | D14: 2 | E14: 0 | F14: 0 | G14: 0 | H14: 0 | I14: 0 | J14: 0 | K14: 0 | L14: 0 | M14: 0 | N14: 0 | O14: 0 | P14: 0 | Q14: 0 | R14: 0 | S14: 0 | T14: 0 | U14: 0 | V14: 0 | W14: 0 | X14: 0 | Y14: 0 | Z14: 0 | AA14: 0 | AB14: 0 | AC14: 0 | AD14: 0 | AE14: 0 | AF14: =sum(D14:AE14) -> 2
A15: 171/2023 | B15: {=INDEX('Svi studenti'!$C$2:$C987,MATCH(A15, 'Svi studenti'!$B$2:$B987, 0))} -> Васиљевић, Василије | C15: {=iferror(iNDEX('Svi studenti'!$G$2:$G987,MATCH(A15, 'Svi studenti'!$B$2:$B987, 0)),"---")} -> 3и2а | D15: 2 | E15: 6 | F15: 3 | G15: 2 | H15: 2 | I15: 3 | J15: 2 | K15: 3 | L15: 3 | M15: 2.5 | N15: 2 | O15: 1.5 | P15: 1.5 | Q15: 1 | R15: 0 | S15: 0 | T15: 0 | U15: 0 | V15: 0 | W15: 0 | X15: 0 | Y15: 0 | Z15: 0 | AA15: 0 | AB15: 0 | AC15: 0 | AD15: 0 | AE15: 0 | AF15: =sum(D15:AE15) -> 34.5
A16: 135/2023 | B16: {=INDEX('Svi studenti'!$C$2:$C987,MATCH(A16, 'Svi studenti'!$B$2:$B987, 0))} -> Алановић, Дане | C16: {=iferror(iNDEX('Svi studenti'!$G$2:$G987,MATCH(A16, 'Svi studenti'!$B$2:$B987, 0)),"---")} -> 3и2а | D16: 1 | E16: 6 | F16: 3 | G16: 1 | H16: 2 | I16: 3 | J16: 2 | K16: 3 | L16: 3 | M16: 2.5 | N16: 2 | O16: 1.5 | P16: 1.5 | Q16: 1 | R16: 1 | S16: 0 | T16: 0 | U16: 0 | V16: 0 | W16: 0 | X16: 0 | Y16: 0 | Z16: 0 | AA16: 0 | AB16: 0 | AC16: 0 | AD16: 0 | AE16: 0 | AF16: =sum(D16:AE16) -> 33.5
A17: 83/2022 | B17: {=INDEX('Svi studenti'!$C$2:$C987,MATCH(A17, 'Svi studenti'!$B$2:$B987, 0))} -> Маринковић, Огњен | C17: {=iferror(iNDEX('Svi studenti'!$G$2:$G987,MATCH(A17, 'Svi studenti'!$B$2:$B987, 0)),"---")} -> 3и2а | D17: 2 | E17: 6 | F17: 3 | G17: 2 | H17: 1 | I17: 3 | J17: 2 | K17: 0 | L17: 0 | M17: 0 | N17: 2 | O17: 0.25 | P17: 0.25 | Q17: 1 | R17: 1 | S17: 0 | T17: 0 | U17: 0 | V17: 0 | W17: 0 | X17: 0 | Y17: 0 | Z17: 0 | AA17: 0 | AB17: 0 | AC17: 0 | AD17: 0 | AE17: 0 | AF17: =sum(D17:AE17) -> 23.5
A18: 11/2023 | B18: {=INDEX('Svi studenti'!$C$2:$C987,MATCH(A18, 'Svi studenti'!$B$2:$B987, 0))} -> Лазић, Никола | C18: {=iferror(iNDEX('Svi studenti'!$G$2:$G987,MATCH(A18, 'Svi studenti'!$B$2:$B987, 0)),"---")} -> 3и2а | D18: 2 | E18: 6 | F18: 3 | G18: 2 | H18: 2 | I18: 3 | J18: 2 | K18: 3 | L18: 3 | M18: 3 | N18: 2 | O18: 2 | P18: 2 | Q18: 1 | R18: 1 | S18: 1 | T18: 0.7 | U18: 0.2 | V18: 0.2 | W18: 0.2 | X18: 0.2 | Y18: 0.2 | Z18: 0.2 | AA18: 0.2 | AB18: 0.2 | AC18: 4.5 | AD18: 0 | AE18: 1 | AF18: =sum(D18:AE18) -> 45.8
A19: 75/2023 | B19: {=INDEX('Svi studenti'!$C$2:$C987,MATCH(A19, 'Svi studenti'!$B$2:$B987, 0))} -> Стефановић, Јована | C19: {=iferror(iNDEX('Svi studenti'!$G$2:$G987,MATCH(A19, 'Svi studenti'!$B$2:$B987, 0)),"---")} -> 3и2а | D19: 1.5 | E19: 5 | F19: 1 | G19: 2 | H19: 1 | I19: 2 | J19: 2 | K19: 1.5 | L19: 1.5 | M19: 1.5 | N19: 1 | O19: 0 | P19: 0 | Q19: 1 | R19: 1 | S19: 0 | T19: 0 | U19: 0 | V19: 0 | W19: 0 | X19: 0 | Y19: 0 | Z19: 0 | AA19: 0 | AB19: 0 | AC19: 0 | AD19: 0 | AE19: 0 | AF19: =sum(D19:AE19) -> 22
A20: 87/2023 | B20: {=INDEX('Svi studenti'!$C$2:$C987,MATCH(A20, 'Svi studenti'!$B$2:$B987, 0))} -> Радмановац, Ана | C20: {=iferror(iNDEX('Svi studenti'!$G$2:$G987,MATCH(A20, 'Svi studenti'!$B$2:$B987, 0)),"---")} -> 3и2а | D20: 2 | E20: 6 | F20: 3 | G20: 2 | H20: 2 | I20: 3 | J20: 2 | K20: 3 | L20: 3 | M20: 3 | N20: 2 | O20: 2 | P20: 2 | Q20: 1 | R20: 1 | S20: 0 | T20: 0 | U20: 0 | V20: 0 | W20: 0 | X20: 0 | Y20: 0 | Z20: 0 | AA20: 0 | AB20: 0 | AC20: 0 | AD20: 0 | AE20: 0 | AF20: =sum(D20:AE20) -> 37
A21: 56/2023 | B21: {=INDEX('Svi studenti'!$C$2:$C987,MATCH(A21, 'Svi studenti'!$B$2:$B987, 0))} -> Гајић, Стефан | C21: {=iferror(iNDEX('Svi studenti'!$G$2:$G987,MATCH(A21, 'Svi studenti'!$B$2:$B987, 0)),"---")} -> 3и2б | D21: 2 | E21: 6 | F21: 3 | G21: 2 | H21: 2 | I21: 3 | J21: 2 | K21: 3 | L21: 3 | M21: 3 | N21: 2 | O21: 2 | P21: 1.5 | Q21: 1 | R21: 1 | S21: 1 | T21: 0.3 | U21: 0.2 | V21: 0.2 | W21: 0.2 | X21: 0.2 | Y21: 0.2 | Z21: 0.2 | AA21: 0 | AB21: 0 | AC21: 4 | AD21: 0 | AE21: 1 | AF21: =sum(D21:AE21) -> 44
A22: 128/2023 | B22: {=INDEX('Svi studenti'!$C$2:$C987,MATCH(A22, 'Svi studenti'!$B$2:$B987, 0))} -> Пернек, Ана | C22: {=iferror(iNDEX('Svi studenti'!$G$2:$G987,MATCH(A22, 'Svi studenti'!$B$2:$B987, 0)),"---")} -> 3и2б | D22: 1.5 | E22: 2 | F22: 1 | G22: 1 | H22: 0 | I22: 1.5 | J22: 2 | K22: 1.5 | L22: 1.5 | M22: 1.5 | N22: 1 | O22: 0 | P22: 0 | Q22: 0.5 | R22: 0 | S22: 0 | T22: 0 | U22: 0 | V22: 0 | W22: 0 | X22: 0 | Y22: 0 | Z22: 0 | AA22: 0 | AB22: 0 | AC22: 0 | AD22: 0 | AE22: 0 | AF22: =sum(D22:AE22) -> 15
A23: 84/2023 | B23: {=INDEX('Svi studenti'!$C$2:$C987,MATCH(A23, 'Svi studenti'!$B$2:$B987, 0))} -> Анђелковић, Борис | C23: {=iferror(iNDEX('Svi studenti'!$G$2:$G987,MATCH(A23, 'Svi studenti'!$B$2:$B987, 0)),"---")} -> 3и2б | D23: 1.5 | E23: 6 | F23: 2 | G23: 2 | H23: 2 | I23: 3 | J23: 2 | K23: 3 | L23: 3 | M23: 3 | N23: 2 | O23: 2 | P23: 2 | Q23: 1 | R23: 1 | S23: 0 | T23: 0 | U23: 0 | V23: 0 | W23: 0 | X23: 0 | Y23: 0 | Z23: 0 | AA23: 0 | AB23: 0 | AC23: 0 | AD23: 0 | AE23: 0 | AF23: =sum(D23:AE23) -> 35.5
A24: 96/2023 | B24: {=INDEX('Svi studenti'!$C$2:$C987,MATCH(A24, 'Svi studenti'!$B$2:$B987, 0))} -> Миловановић, Петар | C24: {=iferror(iNDEX('Svi studenti'!$G$2:$G987,MATCH(A24, 'Svi studenti'!$B$2:$B987, 0)),"---")} -> 3и2б | D24: 1.5 | E24: 6 | F24: 0 | G24: 2 | H24: 0 | I24: 3 | J24: 2 | K24: 0 | L24: 0 | M24: 0 | N24: 2 | O24: 0 | P24: 0 | Q24: 0 | R24: 0 | S24: 0 | T24: 0 | U24: 0 | V24: 0 | W24: 0 | X24: 0 | Y24: 0 | Z24: 0 | AA24: 0 | AB24: 0 | AC24: 0 | AD24: 0 | AE24: 0 | AF24: =sum(D24:AE24) -> 16.5

Sheet Sep1
A1: VK | B1: MK | E1: bim | L1: 718
A2: =countif(C6:C998,"=3и2а") + countif(C6:C998,"=3и1б") -> 14 | B2: =countif(C5:C998,"=3и1а") + countif(C5:C998,"=3и2б") -> 10
D4: 1 (18p) | N4: 2 (12p) | V4: 3 (11p) | AC4: 4 (5p) | AE4: 5 (5p) | AG4: Opste (4p) | AJ4: Ukupno (55p)
A5: Indeks | B5: Ime i prezime | C5: Grupa Vezbi | D5: Lekser (2p) | E5: Gramatika (4p) | F5: Struktura (3p) | G5: Konstante (1p) | H5: id (1p) | I5: Nizanje naredbi (1p) | J5: Definicija (2p) | K5: Dodela (2p) | L5: Stampanje (1p) | M5: Lista argumenta (1p) | N5: Gramatika (4p) | O5: Prioriteti (2p) | P5: Izrazi (1p) | Q5: Binarni (1p) | R5: + (1p) | S5: - (1p) | T5: * (1p) | U5: zagrade (1p) | V5: Gramatika (3p) | W5: Prioriteti (1p) | X5: Uslovi (1p) | Y5: Neupareni if (2p) | Z5: Upareni if (2p) | AA5: < (1p) | AB5: > (1p) | AC5: Gramatika (2p) | AD5: Petlja (3p) | AE5: Gramatika (2p) | AF5: Petlja (3p) | AG5: Makefile (1p) | AH5: Curenje memorije (2p) | AI5: Greske (1p)
A6: 153/2023 | B6: {=INDEX('Svi studenti'!$C$2:$C998,MATCH(A6, 'Svi studenti'!$B$2:$B998, 0))} -> Танев, Игор | C6: {=iferror(iNDEX('Svi studenti'!$G$2:$G998,MATCH(A6, 'Svi studenti'!$B$2:$B998, 0)),"---")} -> 3и1а | D6: 2 | E6: 4 | F6: 3 | G6: 0.5 | H6: 0.5 | I6: 0 | J6: 1 | K6: 1 | L6: 0.5 | M6: 0 | N6: 4 | O6: 2 | P6: 0 | Q6: 0 | R6: 0.5 | S6: 0.5 | T6: 0.5 | U6: 0.5 | V6: 3 | W6: 1 | X6: 0 | Y6: 0 | Z6: 0 | AA6: 0 | AB6: 0 | AC6: 2 | AD6: 0 | AE6: 1.5 | AF6: 0 | AG6: 1 | AH6: 2 | AI6: 1 | AJ6: =sum(C6:AI6) -> 32
A7: 161/2023 | B7: {=INDEX('Svi studenti'!$C$2:$C998,MATCH(A7, 'Svi studenti'!$B$2:$B998, 0))} -> Пантелић, Андреа | C7: {=iferror(iNDEX('Svi studenti'!$G$2:$G998,MATCH(A7, 'Svi studenti'!$B$2:$B998, 0)),"---")} -> 3и1а | D7: 2 | E7: 4 | F7: 3 | G7: 0.5 | H7: 0.5 | I7: 0 | J7: 1 | K7: 1 | L7: 0.5 | M7: 0 | N7: 4 | O7: 2 | P7: 0 | Q7: 0 | R7: 0.5 | S7: 0.5 | T7: 0.5 | U7: 0.5 | V7: 2 | W7: 0 | X7: 0 | Y7: 0 | Z7: 0 | AA7: 0 | AB7: 0 | AC7: 2 | AD7: 0 | AE7: 1 | AF7: 0 | AG7: 1 | AH7: 2 | AI7: 1 | AJ7: =sum(C7:AI7) -> 29.5
